Package: ACE Version: 1.27.1 Command: /home/biocbuild/bbs-3.22-bioc/R/bin/R CMD check --install=check:ACE.install-out.txt --library=/home/biocbuild/bbs-3.22-bioc/R/site-library --timings ACE_1.27.1.tar.gz StartedAt: 2025-10-24 21:02:38 -0400 (Fri, 24 Oct 2025) EndedAt: 2025-10-24 21:05:44 -0400 (Fri, 24 Oct 2025) EllapsedTime: 186.3 seconds RetCode: 0 Status: OK CheckDir: ACE.Rcheck Warnings: 0