Package: ACE Version: 1.29.0 Command: /home/biocbuild/bbs-3.23-bioc/R/bin/R CMD INSTALL ACE StartedAt: 2025-11-05 15:23:03 -0500 (Wed, 05 Nov 2025) EndedAt: 2025-11-05 15:23:22 -0500 (Wed, 05 Nov 2025) EllapsedTime: 18.9 seconds RetCode: 0 Status: OK