Package: ACE Version: 1.29.0 Command: /home/biocbuild/bbs-3.23-bioc/R/bin/R CMD build --keep-empty-dirs --no-resave-data ACE StartedAt: 2025-11-04 16:06:31 -0500 (Tue, 04 Nov 2025) EndedAt: 2025-11-04 16:07:27 -0500 (Tue, 04 Nov 2025) EllapsedTime: 55.1 seconds RetCode: 0 Status: OK PackageFile: ACE_1.29.0.tar.gz PackageFileSize: 2.522 MiB