Package: ACE Version: 1.27.0 Command: /Library/Frameworks/R.framework/Resources/bin/R CMD INSTALL ACE StartedAt: 2025-10-06 15:18:40 -0400 (Mon, 06 Oct 2025) EndedAt: 2025-10-06 15:19:08 -0400 (Mon, 06 Oct 2025) EllapsedTime: 28.3 seconds RetCode: 0 Status: OK