Package: ACE Version: 1.27.0 Command: /Library/Frameworks/R.framework/Resources/bin/R CMD build --keep-empty-dirs --no-resave-data ACE StartedAt: 2025-10-06 15:57:22 -0400 (Mon, 06 Oct 2025) EndedAt: 2025-10-06 15:58:35 -0400 (Mon, 06 Oct 2025) EllapsedTime: 72.3 seconds RetCode: 0 Status: OK PackageFile: ACE_1.27.0.tar.gz PackageFileSize: 2.635 MiB