Package: ACE Version: 1.27.0 Command: rm -rf ACE.buildbin-libdir && mkdir ACE.buildbin-libdir && /Users/biocbuild/BBS/utils/build-universal.sh ACE_1.27.0.tar.gz /Library/Frameworks/R.framework/Resources/bin/R ACE.buildbin-libdir StartedAt: 2025-10-07 01:56:47 -0400 (Tue, 07 Oct 2025) EndedAt: 2025-10-07 01:57:21 -0400 (Tue, 07 Oct 2025) EllapsedTime: 34.6 seconds RetCode: 0 Status: OK PackageFile: ACE_1.27.0.tgz PackageFileSize: 2.789 MiB