Package: ABarray Version: 1.77.0 Command: /home/biocbuild/R/R/bin/R CMD check --install=check:ABarray.install-out.txt --library=/home/biocbuild/R/R/site-library --no-vignettes --timings ABarray_1.77.0.tar.gz StartedAt: 2025-10-21 04:19:53 -0000 (Tue, 21 Oct 2025) EndedAt: 2025-10-21 04:21:19 -0000 (Tue, 21 Oct 2025) EllapsedTime: 86.1 seconds RetCode: 0 Status: OK CheckDir: ABarray.Rcheck Warnings: 0