Package: ABarray Version: 1.79.0 Command: /home/biocbuild/bbs-3.23-bioc/R/bin/R CMD INSTALL ABarray StartedAt: 2025-10-30 15:13:23 -0400 (Thu, 30 Oct 2025) EndedAt: 2025-10-30 15:13:31 -0400 (Thu, 30 Oct 2025) EllapsedTime: 8.5 seconds RetCode: 0 Status: OK