Package: ABarray Version: 1.79.0 Command: /home/biocbuild/bbs-3.23-bioc/R/bin/R CMD build --keep-empty-dirs --no-resave-data ABarray StartedAt: 2025-10-30 15:59:06 -0400 (Thu, 30 Oct 2025) EndedAt: 2025-10-30 15:59:19 -0400 (Thu, 30 Oct 2025) EllapsedTime: 13.0 seconds RetCode: 0 Status: OK PackageFile: ABarray_1.79.0.tar.gz PackageFileSize: 686.1 KiB