Package: ABSSeq Version: 1.63.0 Command: /home/biocbuild/R/R/bin/R CMD INSTALL ABSSeq StartedAt: 2025-10-20 20:10:51 -0000 (Mon, 20 Oct 2025) EndedAt: 2025-10-20 20:11:32 -0000 (Mon, 20 Oct 2025) EllapsedTime: 41.0 seconds RetCode: 0 Status: OK