Package: ABSSeq Version: 1.63.0 Command: /home/biocbuild/R/R/bin/R CMD build --keep-empty-dirs --no-resave-data ABSSeq StartedAt: 2025-10-20 21:35:41 -0000 (Mon, 20 Oct 2025) EndedAt: 2025-10-20 21:37:26 -0000 (Mon, 20 Oct 2025) EllapsedTime: 105.1 seconds RetCode: 0 Status: OK PackageFile: ABSSeq_1.63.0.tar.gz PackageFileSize: 1.067 MiB