Package: ABSSeq Version: 1.63.0 Command: /home/biocbuild/bbs-3.22-bioc/R/bin/R CMD check --install=check:ABSSeq.install-out.txt --library=/home/biocbuild/bbs-3.22-bioc/R/site-library --timings ABSSeq_1.63.0.tar.gz StartedAt: 2025-10-15 21:36:38 -0400 (Wed, 15 Oct 2025) EndedAt: 2025-10-15 21:39:21 -0400 (Wed, 15 Oct 2025) EllapsedTime: 163.2 seconds RetCode: 0 Status: OK CheckDir: ABSSeq.Rcheck Warnings: 0