Package: ABSSeq Version: 1.65.0 Command: /home/biocbuild/bbs-3.23-bioc/R/bin/R CMD INSTALL ABSSeq StartedAt: 2025-11-20 15:02:55 -0500 (Thu, 20 Nov 2025) EndedAt: 2025-11-20 15:03:16 -0500 (Thu, 20 Nov 2025) EllapsedTime: 20.3 seconds RetCode: 0 Status: OK