Package: ABSSeq Version: 1.65.0 Command: /home/biocbuild/bbs-3.23-bioc/R/bin/R CMD build --keep-empty-dirs --no-resave-data ABSSeq StartedAt: 2025-11-20 16:07:36 -0500 (Thu, 20 Nov 2025) EndedAt: 2025-11-20 16:08:43 -0500 (Thu, 20 Nov 2025) EllapsedTime: 67.1 seconds RetCode: 0 Status: OK PackageFile: ABSSeq_1.65.0.tar.gz PackageFileSize: 1.073 MiB