Package: ABSSeq Version: 1.63.0 Maintainer: Wentao Yang MaintainerEmail: wyang at zoologie.uni-kiel.de git_url: https://git.bioconductor.org/packages/ABSSeq git_branch: devel git_last_commit: 8fd37f6 git_last_commit_date: 2025-04-15 10:30:09 -0400 (Tue, 15 Apr 2025)