Welcome to mirrors.dotsrc.org

All our mirrors of open source software are available via http, https, ftp and an onion service. More information about our mirrors including statistics and contact information is available on our mirror info pages.

For information about dotsrc.org and our other services please go to our website.

Index of /bioconductor/checkResults/devel/bioc-LATEST/

File Name  ↓ File Size  ↓ Date  ↓ 
--
-2025-10-30 16:36:39
-2025-10-30 16:36:39
-2025-10-30 16:36:39
-2025-10-30 16:36:39
-2025-10-30 16:36:39
-2025-10-30 16:36:39
-2025-10-30 16:36:39
-2025-10-30 16:36:39
-2025-10-30 16:36:39
-2025-10-30 16:36:39
-2025-10-30 16:36:39
-2025-10-30 16:36:39
-2025-10-30 16:36:40
-2025-10-30 16:36:40
-2025-10-30 16:36:40
-2025-10-30 16:36:40
-2025-10-30 16:36:40
-2025-10-30 16:36:40
-2025-10-30 16:36:40
-2025-10-30 16:36:41
-2025-10-30 16:36:41
-2025-10-30 16:36:41
-2025-10-30 16:36:41
-2025-10-30 16:36:41
-2025-10-30 16:36:41
-2025-10-30 16:36:41
-2025-10-30 16:36:41
-2025-10-30 16:36:41
-2025-10-30 16:36:41
-2025-10-30 16:36:41
-2025-10-30 16:36:41
-2025-10-30 16:36:41
-2025-10-30 16:36:41
-2025-10-30 16:36:39
-2025-10-30 16:36:39
-2025-10-30 16:36:39
-2025-10-30 16:36:40
-2025-10-30 16:36:40
-2025-10-30 16:36:40
-2025-10-30 16:36:40
-2025-10-30 16:36:40
-2025-10-30 16:36:40
-2025-10-30 16:36:40
-2025-10-30 16:36:40
-2025-10-30 16:36:40
-2025-10-30 16:36:40
-2025-10-30 16:36:40
-2025-10-30 16:36:40
-2025-04-09 15:56:01
-2025-10-30 16:36:40
-2025-10-30 16:36:40
-2025-10-30 16:36:40
-2025-10-30 16:36:40
-2025-10-30 16:36:40
-2025-10-30 16:36:41
-2025-10-30 16:36:41
-2025-10-30 16:36:41
-2025-10-30 16:36:41
-2025-10-30 16:36:41
-2025-10-30 16:36:42
-2025-10-30 16:36:42
-2025-10-30 16:36:42
-2025-10-30 16:36:42
-2025-04-09 15:56:02
-2025-10-30 16:36:42
-2025-10-30 16:36:42
-2025-10-30 16:36:42
-2025-10-30 16:36:42
-2025-10-30 16:36:44
-2025-10-30 16:36:44
-2025-10-30 16:36:44
-2025-10-30 16:36:44
-2025-10-30 16:36:44
-2025-10-30 16:36:44
-2025-10-30 16:36:44
-2025-10-30 16:36:44
-2025-10-30 16:36:44
-2025-10-30 16:36:44
-2025-10-30 16:36:44
-2025-10-30 16:36:44
-2025-10-30 16:36:41
-2025-10-30 16:36:41
-2025-10-30 16:36:41
-2025-10-30 16:36:42
-2025-10-30 16:36:42
-2025-10-30 16:36:42
-2025-10-30 16:36:42
-2025-10-30 16:36:42
-2025-10-30 16:36:42
-2025-10-30 16:36:42
-2025-10-30 16:36:42
-2025-10-30 16:36:42
-2025-10-30 16:36:42
-2025-10-30 16:36:42
-2025-10-30 16:34:51
-2025-10-30 16:36:44
-2025-10-30 16:36:44
-2025-10-30 16:36:42
-2025-10-30 16:36:42
-2025-10-30 16:36:43
-2025-10-30 16:36:43
-2025-10-30 16:36:43
-2025-10-30 16:36:43
-2025-10-30 16:36:43
-2025-10-30 16:36:43
-2025-10-30 16:36:43
-2025-10-30 16:36:43
-2025-10-30 16:36:44
-2025-10-30 16:36:42
-2025-10-30 16:36:42
-2025-10-30 16:36:43
-2025-10-30 16:36:43
-2025-10-30 16:36:43
-2025-10-30 16:36:43
-2025-10-30 16:36:43
-2025-10-30 16:36:43
-2025-10-30 16:34:51
-2025-10-30 16:36:43
-2025-10-30 16:36:43
-2025-10-30 16:36:43
-2025-10-30 16:36:43
-2025-10-30 16:36:43
-2025-10-30 16:36:43
-2025-10-30 16:36:43
-2025-10-30 16:36:43
-2025-10-30 16:36:43
-2025-10-30 16:36:43
-2025-10-30 16:36:43
-2025-10-30 16:36:44
-2025-10-30 16:36:44
-2025-10-30 16:36:44
-2025-10-30 16:36:44
-2025-10-30 16:36:44
-2025-10-30 16:36:44
-2025-10-30 16:36:44
-2025-10-30 16:36:44
-2025-10-30 16:36:44
-2025-10-30 16:36:44
-2025-10-30 16:36:44
-2025-10-30 16:36:44
-2025-10-30 16:36:45
-2025-10-30 16:36:45
-2025-10-30 16:36:45
-2025-10-30 16:36:45
-2025-10-30 16:36:45
-2025-10-30 16:36:45
-2025-04-09 15:56:03
-2025-10-30 16:36:45
-2025-10-30 16:36:45
-2025-10-30 16:36:45
-2025-10-30 16:36:45
-2025-10-30 16:36:45
-2025-10-30 16:36:45
-2025-10-30 16:36:46
-2025-10-30 16:36:46
-2025-10-30 16:36:46
-2025-10-30 16:36:46
-2025-10-30 16:36:46
-2025-10-30 16:36:46
-2025-10-30 16:36:46
-2025-10-30 16:36:46
-2025-10-30 16:36:46
-2025-10-30 16:36:47
-2025-10-30 16:36:47
-2025-10-30 16:36:47
-2025-10-30 16:36:47
-2025-10-30 16:36:47
-2025-10-30 16:36:47
-2025-10-30 16:36:47
-2025-10-30 16:36:47
-2025-10-30 16:36:47
-2025-10-30 16:36:47
-2025-10-30 16:36:48
-2025-10-30 16:36:48
-2025-10-30 16:36:48
-2025-10-30 16:36:48
-2025-10-30 16:36:48
-2025-10-30 16:36:48
-2025-10-30 16:36:48
-2025-10-30 16:36:48
-2025-10-30 16:36:48
-2025-10-30 16:36:48
-2025-10-30 16:36:48
-2025-10-30 16:36:49
-2025-10-30 16:36:49
-2025-10-30 16:36:49
-2025-10-30 16:36:49
-2025-10-30 16:36:49
-2025-10-30 16:36:49
-2025-10-30 16:36:49
-2025-10-30 16:36:49
-2025-10-30 16:36:49
-2025-10-30 16:36:49
-2025-10-30 16:36:49
-2025-10-30 16:36:49
-2025-10-30 16:36:49
-2025-10-30 16:36:44
-2025-10-30 16:36:45
-2025-10-30 16:36:45
-2025-10-30 16:36:45
-2025-10-30 16:36:45
-2025-10-30 16:36:45
-2025-10-30 16:36:45
-2025-10-30 16:36:45
-2025-10-30 16:36:46
-2025-10-30 16:36:45
-2025-10-30 16:36:45
-2025-10-30 16:36:45
-2025-10-30 16:36:45
-2025-10-30 16:36:45
-2025-10-30 16:36:46
-2025-10-30 16:36:46
-2025-10-30 16:36:45
-2025-10-30 16:36:46
-2025-10-30 16:36:46
-2025-10-30 16:36:46
-2025-10-30 16:36:46
-2025-10-30 16:36:46
-2025-10-30 16:36:46
-2025-10-30 16:36:46
-2025-10-30 16:36:46
-2025-10-30 16:36:46
-2025-10-30 16:36:46
-2025-10-30 16:36:46
-2025-10-30 16:36:46
-2025-10-30 16:36:46
-2025-10-30 16:36:46
-2025-10-30 16:36:46
-2025-10-30 16:36:46
-2025-10-30 16:36:46
-2025-10-30 16:36:46
-2025-10-30 16:36:47
-2025-10-30 16:36:47
-2025-10-30 16:36:47
-2025-10-30 16:36:47
-2025-10-30 16:36:47
-2025-10-30 16:36:47
-2025-10-30 16:36:47
-2025-10-30 16:36:47
-2025-10-30 16:36:47
-2025-10-30 16:36:47
-2025-10-30 16:36:47
-2025-10-30 16:36:48
-2025-10-30 16:36:48
-2025-10-30 16:36:49
-2025-10-30 16:36:48
-2025-10-30 16:36:48
-2025-10-30 16:36:48
-2025-10-30 16:36:48
-2025-10-30 16:36:48
-2025-10-30 16:36:48
-2025-10-30 16:36:48
-2025-10-30 16:36:48
-2025-10-30 16:36:49
-2025-10-30 16:36:49
-2025-10-30 16:36:49
-2025-10-30 16:36:50
-2025-10-30 16:36:50
-2025-10-30 16:36:50
-2025-10-30 16:36:50
-2025-10-30 16:36:50
-2025-10-30 16:36:50
-2025-10-30 16:36:50
-2025-10-30 16:36:50
-2025-10-30 16:36:50
-2025-10-30 16:36:50
-2025-10-30 16:36:50
-2025-10-30 16:36:50
-2025-10-30 16:36:50
-2025-10-30 16:36:51
-2025-10-30 16:34:58
-2025-10-30 16:36:51
-2025-10-30 16:36:51
-2025-10-30 16:36:51
-2025-10-30 16:36:51
-2025-10-30 16:36:51
-2025-10-30 16:36:51
-2025-10-30 16:36:51
-2025-10-30 16:36:51
-2025-10-30 16:36:51
-2025-10-30 16:36:51
-2025-10-30 16:36:51
-2025-10-30 16:36:51
-2025-10-30 16:36:51
-2025-10-30 16:36:51
-2025-10-30 16:36:51
-2025-04-09 15:56:06
-2025-10-30 16:36:52
-2025-10-30 16:36:52
-2025-10-30 16:36:52
-2025-10-30 16:36:52
-2025-10-30 16:36:52
-2025-10-30 16:36:52
-2025-10-30 16:36:52
-2025-10-30 16:36:52
-2025-10-30 16:36:52
-2025-10-30 16:36:52
-2025-10-30 16:36:52
-2025-10-30 16:36:52
-2025-10-30 16:36:52
-2025-10-30 16:36:52
-2025-10-30 16:36:53
-2025-10-30 16:36:53
-2025-10-30 16:36:53
-2025-10-30 16:36:50
-2025-10-30 16:36:50
-2025-10-30 16:36:51
-2025-10-30 16:36:51
-2025-04-09 15:56:06
-2025-10-30 16:36:50
-2025-10-30 16:36:50
-2025-10-30 16:36:51
-2025-10-30 16:36:51
-2025-10-30 16:36:51
-2025-10-30 16:36:51
-2025-10-30 16:36:51
-2025-10-30 16:36:51
-2025-10-30 16:36:51
-2025-10-30 16:36:51
-2025-10-30 16:36:51
-2025-10-30 16:36:51
-2025-10-30 16:36:51
-2025-10-30 16:36:51
-2025-10-30 16:36:51
-2025-10-30 16:36:52
-2025-10-30 16:36:52
-2025-10-30 16:36:52
-2025-04-09 15:56:06
-2025-10-30 16:36:52
-2025-10-30 16:36:52
-2025-10-30 16:36:52
-2025-10-30 16:36:52
-2025-10-30 16:36:53
-2025-10-30 16:36:53
-2025-10-30 16:36:53
-2025-10-30 16:36:53
-2025-10-30 16:36:53
-2025-10-30 16:36:53
-2025-10-30 16:36:53
-2025-10-30 16:36:53
-2025-10-30 16:36:53
-2025-10-30 16:36:53
-2025-10-30 16:36:53
-2025-10-30 16:36:53
-2025-10-30 16:36:53
-2025-10-30 16:36:53
-2025-10-30 16:36:53
-2025-10-30 16:36:53
-2025-10-30 16:36:53
-2025-10-30 16:36:53
-2025-10-30 16:36:53
-2025-10-30 16:36:54
-2025-10-30 16:36:54
-2025-10-30 16:36:54
-2025-10-30 16:36:53
-2025-10-30 16:36:53
-2025-10-30 16:36:53
-2025-10-30 16:36:53
-2025-10-30 16:36:54
-2025-10-30 16:36:54
-2025-10-30 16:36:54
-2025-10-30 16:36:54
-2025-10-30 16:36:54
-2025-10-30 16:36:54
-2025-10-30 16:36:54
-2025-10-30 16:36:54
-2025-10-30 16:36:54
-2025-10-30 16:36:54
-2025-10-30 16:36:54
-2025-10-30 16:36:54
-2025-10-30 16:36:54
-2025-10-30 16:36:55
-2025-10-30 16:36:55
-2025-10-30 16:36:55
-2025-10-30 16:36:55
-2025-10-30 16:36:55
-2025-10-30 16:36:55
-2025-10-30 16:36:55
-2025-10-30 16:36:55
-2025-10-30 16:36:56
-2025-10-30 16:36:56
-2025-10-30 16:36:55
-2025-10-30 16:36:55
-2025-10-30 16:36:55
-2025-10-30 16:36:55
-2025-10-30 16:36:55
-2025-10-30 16:36:55
-2025-10-30 16:36:55
-2025-10-30 16:36:56
-2025-10-30 16:36:56
-2025-10-30 16:36:56
-2025-10-30 16:36:56
-2025-10-30 16:36:56
-2025-10-30 16:36:56
-2025-10-30 16:36:56
-2025-10-30 16:36:57
-2025-10-30 16:36:57
-2025-10-30 16:36:57
-2025-10-30 16:36:57
-2025-10-30 16:36:57
-2025-10-30 16:36:57
-2025-10-30 16:36:58
-2025-10-30 16:36:58
-2025-10-30 16:36:58
-2025-10-30 16:36:58
-2025-10-30 16:36:58
-2025-10-30 16:36:58
-2025-10-30 16:36:58
-2025-10-30 16:36:59
-2025-10-30 16:36:59
-2025-10-30 16:36:59
-2025-10-30 16:36:59
-2025-10-30 16:36:59
-2025-10-30 16:36:59
-2025-10-30 16:36:59
-2025-10-30 16:36:59
-2025-10-30 16:36:59
-2025-10-30 16:36:59
-2025-10-30 16:36:59
-2025-10-30 16:36:59
-2025-10-30 16:37:00
-2025-10-30 16:37:00
-2025-10-30 16:37:00
-2025-10-30 16:37:00
-2025-10-30 16:37:00
-2025-10-30 16:37:00
-2025-10-30 16:37:00
-2025-10-30 16:37:00
-2025-10-30 16:37:00
-2025-10-30 16:37:00
-2025-10-30 16:37:00
-2025-10-30 16:37:00
-2025-10-30 16:37:00
-2025-10-30 16:37:00
-2025-10-30 16:37:00
-2025-10-30 16:37:00
-2025-10-30 16:37:00
-2025-10-30 16:37:00
-2025-10-30 16:37:00
-2025-10-30 16:36:56
-2025-10-30 16:36:57
-2025-10-30 16:36:58
-2025-10-30 16:36:58
-2025-10-30 16:36:57
-2025-10-30 16:36:57
-2025-10-30 16:36:57
-2025-04-09 15:55:35
-2025-10-30 16:36:57
-2025-10-30 16:36:57
-2025-10-30 16:36:57
-2025-10-30 16:36:57
-2025-10-30 16:36:57
-2025-10-30 16:36:57
-2025-10-30 16:36:58
-2025-10-30 16:36:57
-2025-10-30 16:36:58
-2025-10-30 16:36:58
-2025-10-30 16:36:58
-2025-10-30 16:36:58
-2025-10-30 16:36:58
-2025-10-30 16:36:58
-2025-10-30 16:36:58
-2025-10-30 16:36:58
-2025-10-30 16:36:58
-2025-10-30 16:36:58
-2025-10-30 16:36:58
-2025-10-30 16:36:58
-2025-10-30 16:36:58
-2025-10-30 16:36:58
-2025-10-30 16:36:58
-2025-10-30 16:36:58
-2025-10-30 16:36:58
-2025-10-30 16:36:58
-2025-10-30 16:36:59
-2025-10-30 16:36:59
-2025-10-30 16:36:59
-2025-10-30 16:36:59
-2025-10-30 16:36:59
-2025-10-30 16:37:00
-2025-10-30 16:37:00
-2025-10-30 16:37:00
-2025-04-09 15:56:09
-2025-10-30 16:37:00
-2025-10-30 16:37:00
-2025-10-30 16:37:00
-2025-10-30 16:37:01
-2025-10-30 16:37:01
-2025-10-30 16:37:01
-2025-10-30 16:37:01
-2025-10-30 16:37:01
-2025-10-30 16:37:01
-2025-10-30 16:37:01
-2025-10-30 16:37:01
-2025-10-30 16:37:01
-2025-10-30 16:37:02
-2025-10-30 16:37:02
-2025-10-30 16:37:02
-2025-10-30 16:37:02
-2025-04-09 15:55:47
-2025-10-30 16:37:02
-2025-10-30 16:37:02
-2025-10-30 16:37:01
-2025-10-30 16:37:01
-2025-10-30 16:37:01
-2025-10-30 16:37:01
-2025-10-30 16:37:01
-2025-10-30 16:37:01
-2025-10-30 16:37:01
-2025-10-30 16:37:01
-2025-10-30 16:37:01
-2025-10-30 16:37:01
-2025-10-30 16:37:01
-2025-10-30 16:37:01
-2025-10-30 16:37:01
-2025-10-30 16:37:01
-2025-10-30 16:37:01
-2025-10-30 16:37:01
-2025-10-30 16:37:01
-2025-10-30 16:37:02
-2025-10-30 16:37:01
-2025-10-30 16:37:01
-2025-10-30 16:37:01
-2025-10-30 16:35:07
-2025-10-30 16:37:02
-2025-10-30 16:37:02
-2025-10-30 16:37:02
-2025-10-30 16:37:02
-2025-10-30 16:37:02
-2025-10-30 16:37:03
-2025-10-30 16:37:03
-2025-10-30 16:37:03
-2025-10-30 16:37:03
-2025-10-30 16:37:03
-2025-10-30 16:37:03
-2025-10-30 16:37:03
-2025-10-30 16:37:03
-2025-10-30 16:37:03
-2025-10-30 16:37:03
-2025-10-30 16:37:03
-2025-10-30 16:37:04
-2025-10-30 16:37:04
-2025-10-30 16:37:04
-2025-10-30 16:37:04
-2025-10-30 16:37:04
-2025-10-30 16:37:04
-2025-10-30 16:37:04
-2025-10-30 16:37:04
-2025-10-30 16:37:02
-2025-10-30 16:37:02
-2025-10-30 16:37:02
-2025-10-30 16:37:03
-2025-10-30 16:37:03
-2025-10-30 16:37:03
-2025-10-30 16:37:03
-2025-10-30 16:37:03
-2025-10-30 16:37:03
-2025-10-30 16:37:03
-2025-10-30 16:37:03
-2025-10-30 16:37:03
-2025-10-30 16:37:04
-2025-10-30 16:37:04
-2025-10-30 16:37:04
-2025-10-30 16:37:04
-2025-10-30 16:37:04
-2025-10-30 16:37:04
-2025-10-30 16:37:05
-2025-10-30 16:37:04
-2025-10-30 16:37:04
-2025-10-30 16:37:05
-2025-10-30 16:37:05
-2025-10-30 16:37:05
-2025-10-30 16:37:05
-2025-10-30 16:37:05
-2025-10-30 16:37:05
-2025-10-30 16:37:05
-2025-10-30 16:37:06
-2025-10-30 16:37:06
-2025-10-30 16:37:06
-2025-10-30 16:37:05
-2025-10-30 16:37:05
-2025-10-30 16:37:05
-2025-10-30 16:37:05
-2025-10-30 16:37:05
-2025-10-30 16:37:05
-2025-10-30 16:37:05
-2025-10-30 16:37:05
-2025-10-30 16:37:06
-2025-10-30 16:37:06
-2025-10-30 16:37:06
-2025-10-30 16:37:06
-2025-10-30 16:37:06
-2025-10-30 16:37:06
-2025-10-30 16:37:06
-2025-10-30 16:37:06
-2025-04-09 15:56:11
-2025-10-30 16:37:06
-2025-10-30 16:37:06
-2025-10-30 16:37:06
-2025-10-30 16:37:06
-2025-10-30 16:37:07
-2025-10-30 16:37:07
-2025-10-30 16:37:07
-2025-10-30 16:37:07
-2025-10-30 16:37:07
-2025-10-30 16:37:07
-2025-10-30 16:37:07
-2025-10-30 16:37:07
-2025-10-30 16:37:07
-2025-10-30 16:37:07
-2025-10-30 16:37:07
-2025-10-30 16:37:07
-2025-10-30 16:37:07
-2025-10-30 16:37:07
-2025-10-30 16:37:07
-2025-10-30 16:37:09
-2025-10-30 16:37:09
-2025-10-30 16:37:09
-2025-10-30 16:37:09
-2025-10-30 16:37:10
-2025-10-30 16:37:10
-2025-10-30 16:37:10
-2025-10-30 16:37:10
-2025-10-30 16:37:10
-2025-10-30 16:37:10
-2025-10-30 16:37:10
-2025-10-30 16:37:10
-2025-10-30 16:37:11
-2025-10-30 16:37:11
-2025-10-30 16:37:11
-2025-10-30 16:37:11
-2025-10-30 16:37:11
-2025-10-30 16:37:11
-2025-10-30 16:37:11
-2025-10-30 16:37:11
-2025-10-30 16:37:11
-2025-10-30 16:37:12
-2025-10-30 16:37:12
-2025-10-30 16:37:12
-2025-10-30 16:37:12
-2025-10-30 16:37:12
-2025-10-30 16:37:12
-2025-10-30 16:37:12
-2025-10-30 16:37:12
-2025-10-30 16:37:12
-2025-10-30 16:37:12
-2025-10-30 16:37:12
-2025-10-30 16:37:12
-2025-10-30 16:37:12
-2025-10-30 16:37:12
-2025-10-30 16:37:12
-2025-10-30 16:37:13
-2025-10-30 16:37:13
-2025-10-30 16:37:06
-2025-10-30 16:37:06
-2025-10-30 16:37:06
-2025-10-30 16:37:07
-2025-10-30 16:37:07
-2025-10-30 16:37:07
-2025-10-30 16:37:07
-2025-10-30 16:37:07
-2025-10-30 16:37:07
-2025-10-30 16:37:07
-2025-10-30 16:37:07
-2025-10-30 16:37:07
-2025-10-30 16:37:08
-2025-10-30 16:37:08
-2025-10-30 16:37:09
-2025-10-30 16:37:09
-2025-10-30 16:37:09
-2025-10-30 16:37:08
-2025-10-30 16:37:08
-2025-10-30 16:37:08
-2025-10-30 16:37:08
-2025-10-30 16:37:08
-2025-10-30 16:37:08
-2025-10-30 16:37:08
-2025-10-30 16:37:08
-2025-10-30 16:37:08
-2025-10-30 16:37:08
-2025-10-30 16:37:08
-2025-10-30 16:37:08
-2025-10-30 16:37:09
-2025-10-30 16:37:09
-2025-10-30 16:37:09
-2025-10-30 16:37:09
-2025-10-30 16:37:10
-2025-10-30 16:37:10
-2025-10-30 16:37:09
-2025-10-30 16:37:09
-2025-10-30 16:37:09
-2025-10-30 16:37:10
-2025-10-30 16:37:11
-2025-10-30 16:37:11
-2025-10-30 16:37:11
-2025-10-30 16:37:11
-2025-10-30 16:37:11
-2025-10-30 16:37:11
-2025-10-30 16:37:11
-2025-10-30 16:37:11
-2025-10-30 16:37:11
-2025-10-30 16:37:11
-2025-10-30 16:37:11
-2025-10-30 16:37:11
-2025-10-30 16:37:11
-2025-10-30 16:37:11
-2025-10-30 16:37:12
-2025-10-30 16:37:12
-2025-10-30 16:37:12
-2025-10-30 16:37:12
-2025-10-30 16:37:12
-2025-10-30 16:37:12
-2025-10-30 16:37:12
-2025-10-30 16:37:12
-2025-10-30 16:37:12
-2025-10-30 16:37:12
-2025-10-30 16:37:12
-2025-10-30 16:37:13
-2025-10-30 16:37:13
-2025-10-30 16:37:13
-2025-10-30 16:37:13
-2025-10-30 16:37:13
-2025-10-30 16:37:13
-2025-10-30 16:37:13
-2025-10-30 16:35:17
-2025-10-30 16:37:14
-2025-10-30 16:37:14
-2025-10-30 16:37:14
-2025-10-30 16:37:13
-2025-10-30 16:37:13
-2025-10-30 16:37:13
-2025-10-30 16:37:13
-2025-10-30 16:37:14
-2025-10-30 16:37:14
-2025-10-30 16:37:14
-2025-10-30 16:37:14
-2025-04-09 15:56:14
-2025-10-30 16:37:14
-2025-10-30 16:37:14
-2025-10-30 16:37:14
-2025-10-30 16:37:14
-2025-10-30 16:37:14
-2025-10-30 16:37:14
-2025-10-30 16:37:15
-2025-10-30 16:37:15
-2025-10-30 16:37:15
-2025-10-30 16:37:15
-2025-10-30 16:37:15
-2025-10-30 16:37:15
-2025-10-30 16:37:15
-2025-10-30 16:37:16
-2025-10-30 16:37:16
-2025-10-30 16:37:16
-2025-10-30 16:37:16
-2025-10-30 16:37:16
-2025-10-30 16:37:15
-2025-10-30 16:37:15
-2025-10-30 16:37:15
-2025-10-30 16:37:15
-2025-10-30 16:37:15
-2025-10-30 16:37:15
-2025-10-30 16:36:15
-2025-10-30 16:37:15
-2025-10-30 16:37:15
-2025-10-30 16:37:15
-2025-10-30 16:37:15
-2025-10-30 16:37:16
-2025-10-30 16:37:16
-2025-10-30 16:37:16
-2025-10-30 16:37:16
-2025-10-30 16:37:16
-2025-10-30 16:37:16
-2025-10-30 16:37:16
-2025-10-30 16:37:17
-2025-10-30 16:37:17
-2025-10-30 16:37:17
-2025-10-30 16:37:17
-2025-10-30 16:37:17
-2025-04-09 15:56:15
-2025-04-09 15:56:15
-2025-10-30 16:37:18
-2025-10-30 16:37:18
-2025-10-30 16:37:18
-2025-10-30 16:37:18
-2025-10-30 16:37:18
-2025-10-30 16:37:18
-2025-10-30 16:37:18
-2025-10-30 16:37:18
-2025-10-30 16:37:18
-2025-10-30 16:37:19
-2025-10-30 16:37:19
-2025-10-30 16:37:19
-2025-10-30 16:37:19
-2025-10-30 16:37:19
-2025-10-30 16:37:19
-2025-10-30 16:37:19
-2025-04-09 15:56:14
-2025-10-30 16:37:16
-2025-10-30 16:37:16
-2025-10-30 16:37:16
-2025-10-30 16:37:16
-2025-10-30 16:37:17
-2025-10-30 16:37:17
-2025-10-30 16:37:17
-2025-10-30 16:37:17
-2025-10-30 16:37:17
-2025-10-30 16:37:17
-2025-10-30 16:37:17
-2025-10-30 16:37:17
-2025-10-30 16:37:17
-2025-10-30 16:37:17
-2025-10-30 16:37:17
-2025-10-30 16:37:18
-2025-10-30 16:37:18
-2025-10-30 16:37:18
-2025-10-30 16:37:18
-2025-10-30 16:37:18
-2025-10-30 16:37:19
-2025-10-30 16:37:19
-2025-10-30 16:37:19
-2025-10-30 16:37:19
-2025-10-30 16:37:19
-2025-10-30 16:37:19
-2025-10-30 16:37:19
-2025-10-30 16:37:19
-2025-10-30 16:37:20
-2025-10-30 16:37:20
-2025-10-30 16:37:20
-2025-10-30 16:37:20
-2025-10-30 16:37:20
-2025-04-09 15:56:16
-2025-10-30 16:37:20
-2025-10-30 16:37:20
-2025-10-30 16:35:22
-2025-10-30 16:37:20
-2025-10-30 16:37:20
-2025-10-30 16:37:20
-2025-10-30 16:37:20
-2025-10-30 16:37:20
-2025-10-30 16:37:21
-2025-10-30 16:37:20
-2025-04-09 15:56:17
-2025-10-30 16:37:21
-2025-10-30 16:37:21
-2025-10-30 16:37:21
-2025-10-30 16:37:21
-2025-10-30 16:37:21
-2025-10-30 16:37:21
-2025-10-30 16:37:21
-2025-10-30 16:37:21
-2025-10-30 16:37:21
-2025-10-30 16:37:21
-2025-10-30 16:37:22
-2025-10-30 16:37:22
-2025-10-30 16:37:22
-2025-04-09 15:56:17
-2025-10-30 16:37:22
-2025-10-30 16:37:22
-2025-10-30 16:37:23
-2025-10-30 16:37:23
-2025-10-30 16:37:23
-2025-10-30 16:37:23
-2025-10-30 16:37:23
-2025-10-30 16:37:23
-2025-10-30 16:37:23
-2025-10-30 16:37:23
-2025-10-30 16:37:23
-2025-10-30 16:37:23
-2025-10-30 16:37:23
-2025-10-30 16:37:23
-2025-10-30 16:37:23
-2025-10-30 16:37:23
-2025-10-30 16:37:23
-2025-10-30 16:37:23
-2025-10-30 16:37:24
-2025-10-30 16:37:24
-2025-10-30 16:37:24
-2025-10-30 16:37:24
-2025-10-30 16:37:24
-2025-10-30 16:37:24
-2025-10-30 16:37:24
-2025-10-30 16:37:24
-2025-10-30 16:37:24
-2025-10-30 16:37:24
-2025-10-30 16:37:24
-2025-10-30 16:37:24
-2025-10-30 16:37:24
-2025-10-30 16:37:24
-2025-10-30 16:37:24
-2025-10-30 16:37:24
-2025-10-30 16:37:24
-2025-10-30 16:37:25
-2025-10-30 16:37:25
-2025-10-30 16:37:25
-2025-10-30 16:37:25
-2025-10-30 16:37:25
-2025-10-30 16:37:20
-2025-10-30 16:37:20
-2025-10-30 16:37:20
-2025-10-30 16:37:20
-2025-10-30 16:37:20
-2025-10-30 16:37:20
-2025-10-30 16:37:20
-2025-10-30 16:37:21
-2025-10-30 16:37:21
-2025-10-30 16:34:31
-2025-10-30 16:37:21
-2025-10-30 16:37:21
-2025-10-30 16:35:24
-2025-10-30 16:37:21
-2025-10-30 16:37:21
-2025-10-30 16:37:21
-2025-10-30 16:37:21
-2025-10-30 16:37:22
-2025-04-09 15:56:17
-2025-10-30 16:37:21
-2025-10-30 16:37:21
-2025-10-30 16:37:21
-2025-10-30 16:37:21
-2025-10-30 16:37:21
-2025-10-30 16:37:21
-2025-10-30 16:37:22
-2025-10-30 16:37:22
-2025-10-30 16:37:22
-2025-10-30 16:37:22
-2025-10-30 16:37:22
-2025-10-30 16:37:22
-2025-10-30 16:37:22
-2025-10-30 16:37:22
-2025-10-30 16:37:22
-2025-10-30 16:37:22
-2025-10-30 16:37:22
-2025-10-30 16:37:22
-2025-10-30 16:37:23
-2025-10-30 16:37:23
-2025-10-30 16:37:23
-2025-10-30 16:37:23
-2025-10-30 16:37:23
-2025-10-30 16:37:23
-2025-10-30 16:37:23
-2025-10-30 16:37:23
-2025-10-30 16:37:23
-2025-10-30 16:37:23
-2025-10-30 16:37:24
-2025-10-30 16:37:24
-2025-10-30 16:37:24
-2025-10-30 16:37:24
-2025-10-30 16:37:24
-2025-04-09 15:56:18
-2025-10-30 16:37:25
-2025-10-30 16:37:25
-2025-10-30 16:37:25
-2025-10-30 16:37:25
-2025-10-30 16:37:25
-2025-10-30 16:37:25
-2025-10-30 16:37:25
-2025-10-30 16:37:25
-2025-10-30 16:37:25
-2025-10-30 16:37:25
-2025-10-30 16:37:25
-2025-10-30 16:37:25
-2025-10-30 16:37:26
-2025-10-30 16:37:26
-2025-10-30 16:37:26
-2025-10-30 16:37:27
-2025-10-30 16:37:26
-2025-10-30 16:37:27
-2025-10-30 16:37:27
-2025-10-30 16:37:28
-2025-10-30 16:37:28
-2025-10-30 16:37:28
-2025-10-30 16:37:28
-2025-10-30 16:37:28
-2025-10-30 16:37:28
-2025-10-30 16:37:28
-2025-10-30 16:37:29
-2025-10-30 16:37:29
-2025-10-30 16:37:29
-2025-10-30 16:37:29
-2025-10-30 16:37:29
-2025-10-30 16:37:30
-2025-10-30 16:37:30
-2025-10-30 16:37:30
-2025-10-30 16:37:30
-2025-10-30 16:37:30
-2025-10-30 16:37:30
-2025-10-30 16:37:30
-2025-10-30 16:37:31
-2025-10-30 16:37:31
-2025-10-30 16:37:31
-2025-10-30 16:37:31
-2025-10-30 16:37:31
-2025-10-30 16:37:31
-2025-10-30 16:37:31
-2025-10-30 16:37:31
-2025-10-30 16:37:32
-2025-10-30 16:37:32
-2025-10-30 16:37:32
-2025-10-30 16:37:32
-2025-10-30 16:37:32
-2025-04-09 15:56:20
-2025-10-30 16:37:32
-2025-10-30 16:37:33
-2025-10-30 16:37:33
-2025-10-30 16:37:33
-2025-10-30 16:37:25
-2025-10-30 16:37:25
-2025-10-30 16:37:25
-2025-10-30 16:37:25
-2025-10-30 16:37:27
-2025-10-30 16:37:27
-2025-10-30 16:37:27
-2025-10-30 16:37:28
-2025-10-30 16:37:28
-2025-10-30 16:37:28
-2025-10-30 16:37:28
-2025-10-30 16:37:28
-2025-10-30 16:37:28
-2025-10-30 16:37:28
-2025-10-30 16:37:28
-2025-10-30 16:37:29
-2025-10-30 16:37:28
-2025-10-30 16:37:28
-2025-10-30 16:37:29
-2025-10-30 16:37:29
-2025-10-30 16:37:29
-2025-10-30 16:37:29
-2025-10-30 16:37:29
-2025-10-30 16:37:29
-2025-10-30 16:37:29
-2025-10-30 16:37:29
-2025-10-30 16:37:29
-2025-10-30 16:37:30
-2025-10-30 16:37:30
-2025-10-30 16:37:30
-2025-10-30 16:37:30
-2025-04-09 15:56:20
-2025-10-30 16:37:30
-2025-10-30 16:37:30
-2025-10-30 16:37:30
-2025-10-30 16:37:30
-2025-10-30 16:37:30
-2025-10-30 16:37:30
-2025-10-30 16:37:30
-2025-10-30 16:37:30
-2025-10-30 16:37:31
-2025-10-30 16:37:31
-2025-10-30 16:37:31
-2025-10-30 16:37:31
-2025-10-30 16:37:31
-2025-10-30 16:37:31
-2025-10-30 16:37:31
-2025-10-30 16:37:31
-2025-10-30 16:37:31
-2025-10-30 16:37:31
-2025-10-30 16:37:31
-2025-10-30 16:37:31
-2025-10-30 16:37:31
-2025-10-30 16:37:32
-2025-10-30 16:37:32
-2025-10-30 16:37:32
-2025-10-30 16:37:32
-2025-10-30 16:37:32
-2025-10-30 16:37:32
-2025-10-30 16:37:32
-2025-10-30 16:37:32
-2025-10-30 16:37:32
-2025-10-30 16:37:33
-2025-10-30 16:37:33
-2025-10-30 16:37:33
-2025-10-30 16:37:33
-2025-10-30 16:37:33
-2025-10-30 16:37:33
-2025-10-30 16:37:33
-2025-10-30 16:37:33
-2025-10-30 16:37:33
-2025-10-30 16:37:33
-2025-10-30 16:37:34
-2025-10-30 16:37:34
-2025-10-30 16:37:34
-2025-10-30 16:37:34
-2025-10-30 16:37:34
-2025-10-30 16:37:34
-2025-10-30 16:37:34
-2025-10-30 16:37:34
-2025-10-30 16:37:34
-2025-10-30 16:37:34
-2025-10-30 16:37:34
-2025-10-30 16:37:34
-2025-10-30 16:37:34
-2025-10-30 16:37:35
-2025-10-30 16:37:35
-2025-10-30 16:37:35
-2025-10-30 16:37:35
-2025-10-30 16:37:35
-2025-10-30 16:37:35
-2025-10-30 16:37:36
-2025-10-30 16:37:36
-2025-10-30 16:37:36
-2025-10-30 16:37:36
-2025-10-30 16:37:36
-2025-10-30 16:37:36
-2025-10-30 16:37:36
-2025-10-30 16:37:33
-2025-10-30 16:37:33
-2025-10-30 16:37:33
-2025-10-30 16:37:33
-2025-10-30 16:37:34
-2025-10-30 16:37:34
-2025-10-30 16:37:34
-2025-10-30 16:37:35
-2025-10-30 16:37:35
-2025-10-30 16:37:36
-2025-10-30 16:37:35
-2025-10-30 16:37:35
-2025-10-30 16:37:35
-2025-10-30 16:37:35
-2025-10-30 16:37:35
-2025-10-30 16:37:36
-2025-10-30 16:37:36
-2025-04-09 15:56:21
-2025-10-30 16:37:36
-2025-10-30 16:37:36
-2025-10-30 16:37:36
-2025-10-30 16:37:36
-2025-10-30 16:37:37
-2025-10-30 16:37:36
-2025-10-30 16:37:36
-2025-10-30 16:37:36
-2025-10-30 16:37:37
-2025-10-30 16:37:37
-2025-10-30 16:37:37
-2025-10-30 16:37:37
-2025-10-30 16:37:37
-2025-10-30 16:37:37
-2025-10-30 16:37:37
-2025-10-30 16:37:37
-2025-10-30 16:37:37
-2025-10-30 16:37:37
-2025-10-30 16:37:37
-2025-10-30 16:37:37
-2025-10-30 16:37:37
-2025-10-30 16:37:37
-2025-10-30 16:37:37
-2025-10-30 16:37:37
-2025-10-30 16:37:37
-2025-10-30 16:37:38
-2025-10-30 16:37:38
-2025-10-30 16:37:38
-2025-10-30 16:37:38
-2025-10-30 16:37:38
-2025-10-30 16:37:38
-2025-10-30 16:37:38
-2025-10-30 16:37:38
-2025-10-30 16:37:38
-2025-10-30 16:37:38
-2025-10-30 16:36:39
-2025-10-30 16:36:39
-2025-10-30 16:36:39
-2025-10-30 16:36:39
-2025-10-30 16:36:39
-2025-10-30 16:36:39
-2025-10-30 16:36:39
-2025-10-30 16:36:39
-2025-10-30 16:36:39
-2025-10-30 16:36:39
-2025-10-30 16:36:39
-2025-10-30 16:36:39
-2025-10-30 16:36:39
-2025-10-30 16:36:39
-2025-10-30 16:36:39
-2025-10-30 16:36:39
-2025-10-30 16:36:39
-2025-10-30 16:36:39
-2025-10-30 16:36:39
-2025-10-30 16:36:39
-2025-10-30 16:36:39
-2025-10-30 16:36:39
-2025-10-30 16:36:39
-2025-10-30 16:36:39
-2025-10-30 16:36:39
-2025-10-30 16:36:39
-2025-10-30 16:36:39
-2025-10-30 16:36:39
-2025-10-30 16:36:39
-2025-10-30 16:36:39
-2025-10-30 16:36:39
-2025-10-30 16:36:39
-2025-10-30 16:36:39
-2025-10-30 16:36:40
-2025-10-30 16:36:40
-2025-10-30 16:36:40
-2025-10-30 16:36:40
-2025-10-30 16:36:40
-2025-10-30 16:36:40
-2025-10-30 16:36:40
-2025-10-30 16:36:40
-2025-10-30 16:36:40
-2025-10-30 16:36:40
-2025-10-30 16:36:40
-2025-10-30 16:36:40
-2025-10-30 16:36:40
-2025-10-30 16:36:40
-2025-10-30 16:36:40
-2025-10-30 16:36:40
-2025-10-30 16:36:40
-2025-10-30 16:36:40
-2025-10-30 16:36:40
-2025-10-30 16:36:40
-2025-10-30 16:36:40
-2025-10-30 16:36:40
-2025-10-30 16:36:41
-2025-10-30 16:36:41
-2025-10-30 16:36:41
-2025-10-30 16:36:41
-2025-10-30 16:36:41
-2025-10-30 16:36:41
-2025-10-30 16:36:41
-2025-10-30 16:36:41
-2025-10-30 16:36:41
-2025-10-30 16:36:41
-2025-10-30 16:36:41
-2025-10-30 16:36:41
-2025-10-30 16:36:41
-2025-10-30 16:36:41
-2025-10-30 16:36:41
-2025-10-30 16:36:41
-2025-10-30 16:36:41
-2025-10-30 16:36:41
-2025-10-30 16:36:41
-2025-10-30 16:36:41
-2025-10-30 16:36:41
-2025-10-30 16:36:42
-2025-10-30 16:36:42
-2025-10-30 16:36:42
-2025-10-30 16:36:42
-2025-10-30 16:36:42
-2025-10-30 16:36:42
-2025-10-30 16:36:42
-2025-10-30 16:36:42
-2025-10-30 16:36:42
-2025-10-30 16:36:42
-2025-10-30 16:36:42
-2025-10-30 16:36:42
-2025-10-30 16:36:42
-2025-10-30 16:36:42
-2025-10-30 16:36:42
-2025-10-30 16:36:42
-2025-10-30 16:36:42
-2025-10-30 16:36:42
-2025-10-30 16:36:42
-2025-10-30 16:36:43
-2025-10-30 16:36:42
-2025-10-30 16:36:42
-2025-10-30 16:35:42
-2025-10-30 16:36:43
-2025-10-30 16:36:43
-2025-10-30 16:36:43
-2025-10-30 16:36:43
-2025-10-30 16:36:43
-2025-10-30 16:36:43
-2025-10-30 16:36:43
-2025-10-30 16:36:43
-2025-10-30 16:36:43
-2025-10-30 16:36:43
-2025-10-30 16:36:43
-2025-10-30 16:36:43
-2025-10-30 16:36:43
-2025-10-30 16:36:43
-2025-10-30 16:36:44
-2025-10-30 16:36:44
-2025-10-30 16:36:44
-2025-10-30 16:36:44
-2025-10-30 16:36:44
-2025-10-30 16:36:44
-2025-10-30 16:36:44
-2025-10-30 16:36:44
-2025-10-30 16:36:44
-2025-10-30 16:36:44
-2025-10-30 16:36:44
-2025-10-30 16:36:44
-2025-10-30 16:36:44
-2025-10-30 16:36:44
-2025-10-30 16:36:44
-2025-10-30 16:36:44
-2025-10-30 16:36:44
-2025-10-30 16:36:44
-2025-10-30 16:36:45
-2025-10-30 16:36:49
-2025-10-30 16:36:45
-2025-10-30 16:36:45
-2025-10-30 16:36:45
-2025-10-30 16:36:45
-2025-10-30 16:36:45
-2025-10-30 16:36:45
-2025-10-30 16:36:45
-2025-10-30 16:36:45
-2025-10-30 16:36:45
-2025-10-30 16:36:45
-2025-10-30 16:36:45
-2025-10-30 16:36:45
-2025-10-30 16:36:45
-2025-10-30 16:36:46
-2025-10-30 16:36:45
-2025-10-30 16:36:45
-2025-10-30 16:36:45
-2025-10-30 16:36:45
-2025-10-30 16:36:45
-2025-10-30 16:36:45
-2025-10-30 16:36:45
-2025-10-30 16:36:46
-2025-10-30 16:36:46
-2025-10-30 16:36:46
-2025-10-30 16:36:46
-2025-10-30 16:36:46
-2025-10-30 16:36:46
-2025-10-30 16:36:46
-2025-10-30 16:36:46
-2025-10-30 16:36:46
-2025-10-30 16:36:46
-2025-10-30 16:36:46
-2025-10-30 16:36:46
-2025-10-30 16:36:46
-2025-10-30 16:36:46
-2025-10-30 16:36:46
-2025-10-30 16:36:46
-2025-10-30 16:36:46
-2025-04-09 15:56:04
-2025-10-30 16:36:47
-2025-10-30 16:36:47
-2025-10-30 16:36:47
-2025-10-30 16:36:47
-2025-10-30 16:36:47
-2025-10-30 16:36:47
-2025-10-30 16:36:47
-2025-10-30 16:36:47
-2025-10-30 16:36:47
-2025-10-30 16:36:47
-2025-10-30 16:36:47
-2025-10-30 16:36:47
-2025-10-30 16:36:47
-2025-10-30 16:36:47
-2025-10-30 16:36:47
-2025-10-30 16:36:47
-2025-10-30 16:36:47
-2025-10-30 16:36:47
-2025-10-30 16:36:47
-2025-10-30 16:36:47
-2025-10-30 16:36:47
-2025-10-30 16:36:47
-2025-10-30 16:36:47
-2025-10-30 16:36:48
-2025-10-30 16:36:48
-2025-04-09 15:56:05
-2025-10-30 16:36:48
-2025-10-30 16:36:48
-2025-10-30 16:36:48
-2025-10-30 16:36:48
-2025-10-30 16:36:48
-2025-10-30 16:36:48
-2025-10-30 16:36:48
-2025-10-30 16:36:48
-2025-10-30 16:36:48
-2025-10-30 16:36:48
-2025-10-30 16:36:48
-2025-10-30 16:36:48
-2025-10-30 16:36:48
-2025-10-30 16:36:48
-2025-10-30 16:36:48
-2025-10-30 16:36:48
-2025-10-30 16:36:48
-2025-10-30 16:36:48
-2025-10-30 16:36:48
-2025-10-30 16:36:48
-2025-10-30 16:36:48
-2025-10-30 16:36:49
-2025-10-30 16:36:49
-2025-10-30 16:36:49
-2025-10-30 16:36:49
-2025-10-30 16:36:49
-2025-10-30 16:36:49
-2025-10-30 16:36:49
-2025-10-30 16:36:49
-2025-10-30 16:36:49
-2025-10-30 16:36:49
-2025-10-30 16:36:49
-2025-10-30 16:36:49
-2025-10-30 16:36:49
-2025-10-30 16:36:49
-2025-10-30 16:36:49
-2025-10-30 16:36:49
-2025-10-30 16:36:49
-2025-10-30 16:36:49
-2025-04-09 15:56:05
-2025-10-30 16:36:49
-2025-10-30 16:36:49
-2025-10-30 16:36:49
-2025-10-30 16:36:49
-2025-10-30 16:36:49
-2025-10-30 16:36:49
-2025-10-30 16:36:49
-2025-10-30 16:36:50
-2025-10-30 16:36:50
-2025-10-30 16:36:50
-2025-10-30 16:36:50
-2025-10-30 16:36:50
-2025-10-30 16:36:50
-2025-10-30 16:36:50
-2025-10-30 16:36:50
-2025-10-30 16:36:50
-2025-10-30 16:36:50
-2025-10-30 16:36:50
-2025-10-30 16:36:50
-2025-10-30 16:36:53
-2025-10-30 16:36:50
-2025-10-30 16:36:50
-2025-10-30 16:36:50
-2025-10-30 16:36:50
-2025-10-30 16:36:50
-2025-10-30 16:36:50
-2025-10-30 16:36:50
-2025-04-09 15:56:06
-2025-10-30 16:36:50
-2025-10-30 16:36:50
-2025-10-30 16:36:50
-2025-10-30 16:36:50
-2025-10-30 16:36:50
-2025-10-30 16:36:50
-2025-10-30 16:36:50
-2025-10-30 16:36:50
-2025-10-30 16:36:50
-2025-10-30 16:36:51
-2025-10-30 16:36:51
-2025-10-30 16:36:51
-2025-10-30 16:36:51
-2025-10-30 16:36:51
-2025-10-30 16:36:51
-2025-10-30 16:36:51
-2025-10-30 16:36:51
-2025-10-30 16:36:51
-2025-10-30 16:36:51
-2025-10-30 16:36:51
-2025-10-30 16:36:52
-2025-10-30 16:36:52
-2025-10-30 16:36:52
-2025-10-30 16:36:52
-2025-10-30 16:36:52
-2025-10-30 16:36:52
-2025-10-30 16:36:52
-2025-10-30 16:36:52
-2025-10-30 16:36:52
-2025-10-30 16:36:52
-2025-10-30 16:36:52
-2025-10-30 16:36:52
-2025-10-30 16:36:52
-2025-10-30 16:36:52
-2025-10-30 16:36:52
-2025-10-30 16:36:52
-2025-10-30 16:36:52
-2025-10-30 16:36:52
-2025-10-30 16:36:52
-2025-10-30 16:36:52
-2025-10-30 16:36:52
-2025-10-30 16:36:52
-2025-10-30 16:36:53
-2025-10-30 16:36:53
-2025-10-30 16:36:53
-2025-10-30 16:36:53
-2025-10-30 16:36:53
-2025-10-30 16:36:53
-2025-10-30 16:36:53
-2025-10-30 16:36:53
-2025-10-30 16:36:53
-2025-10-30 16:36:53
-2025-10-30 16:36:53
-2025-10-30 16:36:53
-2025-10-30 16:36:53
-2025-10-30 16:36:53
-2025-10-30 16:36:54
-2025-10-30 16:36:54
-2025-10-30 16:36:54
-2025-10-30 16:36:54
-2025-10-30 16:36:54
-2025-10-30 16:36:54
-2025-10-30 16:36:54
-2025-10-30 16:36:54
-2025-10-30 16:36:54
-2025-10-30 16:36:54
-2025-10-30 16:36:54
-2025-10-30 16:36:54
-2025-10-30 16:36:54
-2025-10-30 16:36:54
-2025-10-30 16:36:54
-2025-10-30 16:36:54
-2025-10-30 16:36:54
-2025-10-30 16:36:54
-2025-10-30 16:36:54
-2025-04-09 15:56:07
-2025-10-30 16:36:54
-2025-10-30 16:36:54
-2025-10-30 16:36:54
-2025-10-30 16:36:54
-2025-10-30 16:36:54
-2025-10-30 16:36:54
-2025-10-30 16:36:55
-2025-10-30 16:36:55
-2025-10-30 16:36:55
-2025-10-30 16:36:55
-2025-10-30 16:36:55
-2025-10-30 16:36:55
-2025-10-30 16:36:55
-2025-10-30 16:36:55
-2025-10-30 16:36:55
-2025-10-30 16:36:55
-2025-10-30 16:36:55
-2025-10-30 16:36:55
-2025-10-30 16:36:55
-2025-10-30 16:36:55
-2025-10-30 16:36:55
-2025-10-30 16:36:55
-2025-10-30 16:36:55
-2025-10-30 16:36:55
-2025-10-30 16:36:55
-2025-10-30 16:36:55
-2025-10-30 16:36:55
-2025-10-30 16:36:55
-2025-10-30 16:36:55
-2025-10-30 16:36:55
-2025-10-30 16:36:55
-2025-10-30 16:36:55
-2025-10-30 16:36:56
-2025-10-30 16:36:56
-2025-10-30 16:36:56
-2025-10-30 16:36:56
-2025-10-30 16:36:56
-2025-10-30 16:36:56
-2025-10-30 16:36:56
-2025-10-30 16:36:56
-2025-10-30 16:36:56
-2025-10-30 16:36:56
-2025-10-30 16:36:56
-2025-10-30 16:36:56
-2025-10-30 16:36:56
-2025-10-30 16:36:56
-2025-10-30 16:36:56
-2025-10-30 16:36:56
-2025-10-30 16:36:56
-2025-10-30 16:36:56
-2025-10-30 16:36:56
-2025-10-30 16:36:56
-2025-10-30 16:36:56
-2025-10-30 16:36:55
-2025-10-30 16:36:56
-2025-10-30 16:36:56
-2025-10-30 16:36:56
-2025-10-30 16:36:56
-2025-10-30 16:36:56
-2025-10-30 16:36:56
-2025-10-30 16:36:56
-2025-10-30 16:36:56
-2025-10-30 16:36:57
-2025-10-30 16:36:57
-2025-10-30 16:36:57
-2025-10-30 16:36:57
-2025-10-30 16:36:57
-2025-10-30 16:36:57
-2025-10-30 16:36:57
-2025-10-30 16:36:59
-2025-10-30 16:37:00
-2025-10-30 16:36:56
-2025-10-30 16:36:56
-2025-10-30 16:36:56
-2025-10-30 16:36:57
-2025-10-30 16:36:57
-2025-10-30 16:36:57
-2025-10-30 16:36:57
-2025-10-30 16:36:57
-2025-10-30 16:36:57
-2025-10-30 16:36:57
-2025-10-30 16:36:57
-2025-10-30 16:36:57
-2025-10-30 16:36:57
-2025-10-30 16:36:57
-2025-10-30 16:36:57
-2025-10-30 16:36:57
-2025-10-30 16:36:58
-2025-10-30 16:36:57
-2025-10-30 16:36:57
-2025-10-30 16:36:57
-2025-10-30 16:36:57
-2025-04-09 15:56:08
-2025-10-30 16:36:58
-2025-10-30 16:36:58
-2025-10-30 16:36:58
-2025-10-30 16:36:58
-2025-10-30 16:36:58
-2025-10-30 16:36:58
-2025-04-09 15:56:09
-2025-10-30 16:36:58
-2025-10-30 16:36:58
-2025-10-30 16:36:58
-2025-10-30 16:36:58
-2025-10-30 16:36:59
-2025-10-30 16:36:59
-2025-10-30 16:36:59
-2025-10-30 16:36:59
-2025-10-30 16:36:59
-2025-10-30 16:36:59
-2025-10-30 16:36:59
-2025-10-30 16:36:59
-2025-10-30 16:36:59
-2025-10-30 16:36:59
-2025-10-30 16:36:59
-2025-10-30 16:36:59
-2025-10-30 16:36:59
-2025-04-09 15:56:09
-2025-10-30 16:36:59
-2025-10-30 16:36:59
-2025-10-30 16:36:59
-2025-10-30 16:36:59
-2025-10-30 16:36:59
-2025-10-30 16:36:59
-2025-10-30 16:36:59
-2025-10-30 16:36:59
-2025-10-30 16:36:59
-2025-10-30 16:36:59
-2025-10-30 16:36:59
-2025-10-30 16:36:59
-2025-10-30 16:37:00
-2025-10-30 16:37:00
-2025-10-30 16:37:00
-2025-10-30 16:37:00
-2025-10-30 16:37:00
-2025-10-30 16:37:00
-2025-10-30 16:37:00
-2025-10-30 16:37:00
-2025-10-30 16:37:00
-2025-10-30 16:37:00
-2025-10-30 16:37:00
-2025-10-30 16:37:00
-2025-10-30 16:37:00
-2025-10-30 16:37:00
-2025-10-30 16:37:01
-2025-10-30 16:37:01
-2025-10-30 16:37:01
-2025-10-30 16:37:01
-2025-10-30 16:37:01
-2025-10-30 16:37:01
-2025-10-30 16:37:01
-2025-10-30 16:37:01
-2025-10-30 16:37:01
-2025-10-30 16:37:01
-2025-10-30 16:37:01
-2025-10-30 16:37:01
-2025-10-30 16:37:02
-2025-10-30 16:37:02
-2025-10-30 16:37:02
-2025-10-30 16:37:02
-2025-10-30 16:37:02
-2025-10-30 16:37:02
-2025-10-30 16:37:02
-2025-10-30 16:37:02
-2025-10-30 16:37:02
-2025-10-30 16:37:02
-2025-10-30 16:35:07
-2025-10-30 16:37:02
-2025-10-30 16:37:02
-2025-10-30 16:37:02
-2025-10-30 16:37:02
-2025-10-30 16:37:02
-2025-10-30 16:37:02
-2025-10-30 16:37:03
-2025-10-30 16:37:03
-2025-10-30 16:37:03
-2025-04-09 15:56:11
-2025-10-30 16:37:03
-2025-10-30 16:37:04
-2025-10-30 16:37:04
-2025-10-30 16:37:04
-2025-10-30 16:37:04
-2025-10-30 16:37:04
-2025-10-30 16:37:04
-2025-10-30 16:37:04
-2025-10-30 16:37:04
-2025-10-30 16:37:04
-2025-10-30 16:37:04
-2025-10-30 16:37:02
-2025-10-30 16:37:02
-2025-10-30 16:37:02
-2025-10-30 16:37:02
-2025-10-30 16:37:02
-2025-10-30 16:37:02
-2025-10-30 16:37:02
-2025-10-30 16:37:03
-2025-10-30 16:37:03
-2025-10-30 16:37:03
-2025-10-30 16:37:03
-2025-10-30 16:37:03
-2025-10-30 16:37:03
-2025-10-30 16:37:03
-2025-10-30 16:37:03
-2025-10-30 16:37:03
-2025-10-30 16:37:03
-2025-10-30 16:37:03
-2025-10-30 16:37:03
-2025-10-30 16:37:03
-2025-10-30 16:37:03
-2025-10-30 16:37:03
-2025-10-30 16:37:03
-2025-10-30 16:37:03
-2025-10-30 16:37:04
-2025-10-30 16:37:04
-2025-10-30 16:37:04
-2025-10-30 16:37:04
-2025-10-30 16:37:04
-2025-10-30 16:37:04
-2025-10-30 16:37:04
-2025-10-30 16:37:04
-2025-10-30 16:37:04
-2025-10-30 16:37:04
-2025-10-30 16:37:04
-2025-10-30 16:37:04
-2025-10-30 16:37:04
-2025-10-30 16:37:05
-2025-10-30 16:37:05
-2025-10-30 16:37:05
-2025-10-30 16:37:05
-2025-10-30 16:37:05
-2025-10-30 16:37:05
-2025-10-30 16:37:05
-2025-10-30 16:37:05
-2025-10-30 16:37:05
-2025-10-30 16:37:05
-2025-10-30 16:37:05
-2025-10-30 16:37:05
-2025-10-30 16:37:05
-2025-10-30 16:37:05
-2025-10-30 16:37:05
-2025-10-30 16:37:05
-2025-10-30 16:37:05
-2025-10-30 16:37:05
-2025-10-30 16:37:05
-2025-10-30 16:37:05
-2025-10-30 16:37:05
-2025-10-30 16:37:05
-2025-10-30 16:37:05
-2025-10-30 16:37:05
-2025-10-30 16:37:06
-2025-10-30 16:37:06
-2025-10-30 16:37:06
-2025-10-30 16:37:06
-2025-10-30 16:37:06
-2025-10-30 16:37:07
-2025-10-30 16:37:07
-2025-10-30 16:37:06
-2025-10-30 16:37:06
-2025-10-30 16:37:06
-2025-10-30 16:37:06
-2025-10-30 16:37:06
-2025-10-30 16:37:06
-2025-10-30 16:37:06
-2025-10-30 16:37:06
-2025-10-30 16:37:06
-2025-10-30 16:37:06
-2025-10-30 16:37:06
-2025-10-30 16:37:06
-2025-10-30 16:37:06
-2025-10-30 16:37:06
-2025-10-30 16:37:06
-2025-10-30 16:37:06
-2025-10-30 16:37:07
-2025-10-30 16:37:07
-2025-10-30 16:37:07
-2025-10-30 16:37:07
-2025-10-30 16:37:07
-2025-10-30 16:37:07
-2025-10-30 16:37:07
-2025-10-30 16:37:07
-2025-10-30 16:37:07
-2025-10-30 16:37:07
-2025-10-30 16:37:07
-2025-10-30 16:37:07
-2025-10-30 16:37:08
-2025-10-30 16:37:08
-2025-10-30 16:37:08
-2025-10-30 16:37:08
-2025-10-30 16:37:08
-2025-10-30 16:37:08
-2025-10-30 16:37:08
-2025-10-30 16:37:08
-2025-10-30 16:37:08
-2025-10-30 16:37:08
-2025-10-30 16:37:08
-2025-10-30 16:37:08
-2025-10-30 16:37:08
-2025-10-30 16:37:08
-2025-10-30 16:37:08
-2025-10-30 16:37:08
-2025-10-30 16:37:08
-2025-10-30 16:37:08
-2025-10-30 16:37:08
-2025-10-30 16:37:08
-2025-10-30 16:37:08
-2025-10-30 16:37:08
-2025-10-30 16:37:09
-2025-10-30 16:37:09
-2025-10-30 16:37:09
-2025-10-30 16:37:09
-2025-10-30 16:37:09
-2025-10-30 16:37:08
-2025-10-30 16:37:09
-2025-10-30 16:37:09
-2025-10-30 16:37:09
-2025-10-30 16:37:09
-2025-10-30 16:37:10
-2025-10-30 16:37:10
-2025-10-30 16:37:10
-2025-10-30 16:37:10
-2025-10-30 16:37:10
-2025-10-30 16:37:10
-2025-10-30 16:37:10
-2025-10-30 16:37:10
-2025-10-30 16:37:10
-2025-10-30 16:37:09
-2025-10-30 16:37:09
-2025-10-30 16:37:09
-2025-10-30 16:37:09
-2025-10-30 16:37:09
-2025-10-30 16:37:09
-2025-10-30 16:37:09
-2025-10-30 16:37:09
-2025-10-30 16:37:09
-2025-10-30 16:37:09
-2025-10-30 16:37:09
-2025-10-30 16:37:09
-2025-10-30 16:37:09
-2025-10-30 16:37:09
-2025-10-30 16:37:10
-2025-10-30 16:37:10
-2025-10-30 16:37:10
-2025-10-30 16:37:10
-2025-10-30 16:37:10
-2025-10-30 16:37:10
-2025-10-30 16:37:10
-2025-10-30 16:37:10
-2025-10-30 16:37:10
-2025-10-30 16:37:10
-2025-10-30 16:37:10
-2025-10-30 16:37:10
-2025-10-30 16:37:10
-2025-10-30 16:37:10
-2025-10-30 16:37:10
-2025-10-30 16:37:11
-2025-10-30 16:37:11
-2025-10-30 16:37:11
-2025-10-30 16:37:11
-2025-10-30 16:37:11
-2025-10-30 16:37:11
-2025-10-30 16:37:11
-2025-10-30 16:37:11
-2025-10-30 16:37:11
-2025-10-30 16:37:11
-2025-10-30 16:37:11
-2025-10-30 16:37:11
-2025-10-30 16:37:12
-2025-10-30 16:37:12
-2025-10-30 16:37:11
-2025-10-30 16:37:12
-2025-10-30 16:37:12
-2025-10-30 16:37:12
-2025-10-30 16:37:12
-2025-10-30 16:37:12
-2025-10-30 16:37:12
-2025-10-30 16:37:12
-2025-10-30 16:37:13
-2025-10-30 16:37:13
-2025-10-30 16:37:13
-2025-10-30 16:37:13
-2025-10-30 16:37:12
-2025-10-30 16:37:13
-2025-10-30 16:37:13
-2025-10-30 16:37:13
-2025-10-30 16:37:13
-2025-10-30 16:37:13
-2025-10-30 16:37:13
-2025-10-30 16:37:13
-2025-10-30 16:37:13
-2025-10-30 16:37:13
-2025-10-30 16:37:13
-2025-10-30 16:37:13
-2025-10-30 16:37:13
-2025-10-30 16:37:13
-2025-10-30 16:37:13
-2025-10-30 16:37:13
-2025-10-30 16:37:13
-2025-10-30 16:37:13
-2025-10-30 16:37:14
-2025-04-09 15:55:52
-2025-10-30 16:37:14
-2025-10-30 16:37:14
-2025-10-30 16:37:14
-2025-10-30 16:37:14
-2025-10-30 16:37:14
-2025-10-30 16:37:14
-2025-10-30 16:37:14
-2025-10-30 16:37:14
-2025-10-30 16:37:14
-2025-10-30 16:37:14
-2025-10-30 16:37:14
-2025-10-30 16:37:14
-2025-10-30 16:37:14
-2025-10-30 16:37:14
-2025-10-30 16:37:14
-2025-10-30 16:37:14
-2025-10-30 16:37:14
-2025-10-30 16:37:14
-2025-10-30 16:37:14
-2025-10-30 16:37:14
-2025-10-30 16:37:14
-2025-10-30 16:37:14
-2025-10-30 16:37:14
-2025-10-30 16:37:14
-2025-10-30 16:37:15
-2025-10-30 16:37:15
-2025-10-30 16:37:15
-2025-10-30 16:37:15
-2025-10-30 16:37:15
-2025-10-30 16:37:15
-2025-10-30 16:37:15
-2025-10-30 16:37:15
-2025-10-30 16:37:15
-2025-10-30 16:37:15
-2025-10-30 16:37:15
-2025-10-30 16:37:15
-2025-10-30 16:37:15
-2025-10-30 16:37:15
-2025-10-30 16:37:15
-2025-10-30 16:37:15
-2025-10-30 16:37:15
-2025-10-30 16:37:15
-2025-10-30 16:37:15
-2025-10-30 16:37:15
-2025-10-30 16:37:15
-2025-10-30 16:37:16
-2025-10-30 16:37:16
-2025-10-30 16:37:19
-2025-10-30 16:37:19
-2025-10-30 16:37:16
-2025-10-30 16:37:16
-2025-10-30 16:37:16
-2025-10-30 16:37:16
-2025-10-30 16:37:16
-2025-10-30 16:37:16
-2025-10-30 16:37:16
-2025-10-30 16:37:16
-2025-10-30 16:37:16
-2025-04-09 15:56:14
-2025-10-30 16:37:16
-2025-10-30 16:37:16
-2025-10-30 16:37:16
-2025-10-30 16:37:16
-2025-10-30 16:37:16
-2025-10-30 16:37:16
-2025-10-30 16:37:16
-2025-10-30 16:37:16
-2025-10-30 16:37:16
-2025-04-09 15:56:15
-2025-10-30 16:37:16
-2025-10-30 16:37:16
-2025-10-30 16:37:17
-2025-10-30 16:37:17
-2025-10-30 16:37:17
-2025-10-30 16:37:17
-2025-10-30 16:37:17
-2025-10-30 16:37:17
-2025-10-30 16:37:17
-2025-10-30 16:37:17
-2025-10-30 16:37:17
-2025-10-30 16:37:17
-2025-10-30 16:37:17
-2025-10-30 16:37:17
-2025-10-30 16:37:17
-2025-10-30 16:37:17
-2025-10-30 16:37:17
-2025-10-30 16:37:17
-2025-10-30 16:37:17
-2025-10-30 16:37:17
-2025-10-30 16:37:17
-2025-10-30 16:37:17
-2025-10-30 16:37:17
-2025-10-30 16:37:17
-2025-10-30 16:37:17
-2025-10-30 16:37:18
-2025-10-30 16:37:18
-2025-10-30 16:37:18
-2025-10-30 16:37:18
-2025-10-30 16:37:18
-2025-10-30 16:37:18
-2025-10-30 16:37:18
-2025-10-30 16:37:18
-2025-10-30 16:37:18
-2025-10-30 16:37:18
-2025-10-30 16:37:18
-2025-10-30 16:37:18
-2025-10-30 16:37:18
-2025-10-30 16:37:18
-2025-10-30 16:37:18
-2025-10-30 16:37:18
-2025-10-30 16:37:18
-2025-10-30 16:37:18
-2025-10-30 16:37:18
-2025-10-30 16:37:18
-2025-10-30 16:37:18
-2025-10-30 16:37:18
-2025-10-30 16:37:18
-2025-10-30 16:37:19
-2025-10-30 16:37:19
-2025-10-30 16:37:19
-2025-10-30 16:37:19
-2025-10-30 16:37:19
-2025-10-30 16:37:19
-2025-10-30 16:37:19
-2025-10-30 16:37:19
-2025-10-30 16:37:19
-2025-10-30 16:37:19
-2025-10-30 16:37:19
-2025-10-30 16:37:19
-2025-10-30 16:37:19
-2025-10-30 16:37:19
-2025-10-30 16:37:19
-2025-10-30 16:37:19
-2025-10-30 16:37:20
-2025-10-30 16:37:19
-2025-10-30 16:37:19
-2025-10-30 16:37:19
-2025-10-30 16:37:19
-2025-10-30 16:37:20
-2025-10-30 16:37:20
-2025-10-30 16:37:20
-2025-10-30 16:37:20
-2025-10-30 16:37:20
-2025-10-30 16:37:20
-2025-10-30 16:37:20
-2025-10-30 16:37:20
-2025-10-30 16:37:20
-2025-10-30 16:37:20
-2025-10-30 16:37:21
-2025-10-30 16:37:20
-2025-10-30 16:37:21
-2025-10-30 16:37:22
-2025-10-30 16:37:22
-2025-10-30 16:37:22
-2025-10-30 16:37:24
-2025-10-30 16:37:24
-2025-10-30 16:37:24
-2025-10-30 16:37:25
-2025-10-30 16:37:25
-2025-10-30 16:37:25
-2025-10-30 16:37:20
-2025-10-30 16:37:20
-2025-10-30 16:37:20
-2025-10-30 16:37:20
-2025-10-30 16:37:20
-2025-10-30 16:37:20
-2025-10-30 16:37:20
-2025-10-30 16:37:20
-2025-10-30 16:37:21
-2025-10-30 16:37:21
-2025-10-30 16:37:21
-2025-10-30 16:37:21
-2025-10-30 16:37:21
-2025-10-30 16:37:21
-2025-10-30 16:37:21
-2025-10-30 16:37:21
-2025-10-30 16:37:21
-2025-10-30 16:37:22
-2025-10-30 16:37:22
-2025-10-30 16:37:22
-2025-10-30 16:37:22
-2025-10-30 16:37:22
-2025-10-30 16:37:22
-2025-10-30 16:37:22
-2025-10-30 16:37:22
-2025-10-30 16:37:22
-2025-10-30 16:37:22
-2025-10-30 16:37:22
-2025-10-30 16:37:22
-2025-10-30 16:37:22
-2025-10-30 16:37:22
-2025-10-30 16:37:22
-2025-10-30 16:37:22
-2025-10-30 16:37:23
-2025-10-30 16:37:23
-2025-10-30 16:37:23
-2025-10-30 16:37:23
-2025-10-30 16:37:23
-2025-10-30 16:37:23
-2025-10-30 16:37:23
-2025-10-30 16:37:23
-2025-10-30 16:37:23
-2025-10-30 16:37:23
-2025-10-30 16:37:23
-2025-10-30 16:37:24
-2025-10-30 16:37:24
-2025-10-30 16:37:24
-2025-10-30 16:37:24
-2025-10-30 16:37:24
-2025-10-30 16:37:24
-2025-10-30 16:37:24
-2025-10-30 16:37:24
-2025-10-30 16:35:26
-2025-10-30 16:37:24
-2025-10-30 16:37:24
-2025-10-30 16:35:27
-2025-10-30 16:37:32
-2025-10-30 16:37:32
-2025-10-30 16:37:32
-2025-10-30 16:37:25
-2025-10-30 16:37:25
-2025-10-30 16:37:25
-2025-10-30 16:37:25
-2025-10-30 16:37:25
-2025-10-30 16:37:25
-2025-10-30 16:37:25
-2025-10-30 16:37:25
-2025-10-30 16:37:25
-2025-10-30 16:37:26
-2025-10-30 16:37:26
-2025-10-30 16:37:26
-2025-10-30 16:37:26
-2025-10-30 16:37:26
-2025-10-30 16:37:26
-2025-10-30 16:37:26
-2025-10-30 16:37:26
-2025-10-30 16:37:26
-2025-10-30 16:37:26
-2025-10-30 16:37:26
-2025-10-30 16:37:26
-2025-10-30 16:37:26
-2025-10-30 16:37:26
-2025-10-30 16:37:26
-2025-10-30 16:37:26
-2025-10-30 16:37:26
-2025-10-30 16:37:26
-2025-10-30 16:37:26
-2025-10-30 16:37:26
-2025-10-30 16:37:26
-2025-10-30 16:37:26
-2025-10-30 16:37:27
-2025-10-30 16:37:27
-2025-10-30 16:37:27
-2025-10-30 16:37:27
-2025-10-30 16:37:27
-2025-10-30 16:37:27
-2025-10-30 16:37:27
-2025-10-30 16:37:27
-2025-10-30 16:37:27
-2025-10-30 16:37:27
-2025-10-30 16:37:27
-2025-10-30 16:37:27
-2025-10-30 16:37:25
-2025-10-30 16:37:25
-2025-10-30 16:37:25
-2025-10-30 16:37:26
-2025-10-30 16:37:26
-2025-10-30 16:37:26
-2025-10-30 16:37:26
-2025-10-30 16:37:26
-2025-10-30 16:37:26
-2025-10-30 16:37:26
-2025-10-30 16:37:26
-2025-10-30 16:37:26
-2025-10-30 16:37:26
-2025-10-30 16:37:27
-2025-10-30 16:37:27
-2025-10-30 16:37:27
-2025-10-30 16:37:27
-2025-10-30 16:37:27
-2025-10-30 16:37:27
-2025-10-30 16:37:27
-2025-10-30 16:37:27
-2025-10-30 16:37:27
-2025-10-30 16:37:27
-2025-10-30 16:37:27
-2025-10-30 16:37:27
-2025-10-30 16:37:27
-2025-10-30 16:37:27
-2025-10-30 16:37:27
-2025-10-30 16:37:27
-2025-10-30 16:37:27
-2025-10-30 16:37:27
-2025-10-30 16:37:28
-2025-10-30 16:37:28
-2025-10-30 16:37:28
-2025-10-30 16:37:28
-2025-10-30 16:37:28
-2025-10-30 16:37:28
-2025-10-30 16:37:28
-2025-10-30 16:37:28
-2025-10-30 16:37:28
-2025-10-30 16:37:28
-2025-10-30 16:37:28
-2025-10-30 16:37:28
-2025-10-30 16:37:28
-2025-10-30 16:37:28
-2025-10-30 16:37:28
-2025-10-30 16:37:28
-2025-10-30 16:37:28
-2025-10-30 16:37:28
-2025-10-30 16:37:29
-2025-10-30 16:37:29
-2025-10-30 16:37:29
-2025-10-30 16:37:29
-2025-10-30 16:37:29
-2025-10-30 16:37:29
-2025-10-30 16:37:29
-2025-10-30 16:37:29
-2025-10-30 16:37:29
-2025-10-30 16:37:29
-2025-10-30 16:37:29
-2025-10-30 16:37:29
-2025-10-30 16:37:29
-2025-10-30 16:37:29
-2025-10-30 16:37:29
-2025-10-30 16:37:29
-2025-10-30 16:37:29
-2025-10-30 16:37:29
-2025-10-30 16:37:29
-2025-10-30 16:37:29
-2025-10-30 16:37:29
-2025-10-30 16:37:30
-2025-10-30 16:37:30
-2025-10-30 16:37:30
-2025-10-30 16:37:30
-2025-10-30 16:37:30
-2025-10-30 16:37:30
-2025-10-30 16:37:30
-2025-10-30 16:37:30
-2025-10-30 16:37:30
-2025-10-30 16:37:30
-2025-10-30 16:37:30
-2025-10-30 16:37:30
-2025-10-30 16:37:30
-2025-10-30 16:37:30
-2025-10-30 16:37:30
-2025-10-30 16:37:30
-2025-10-30 16:37:30
-2025-10-30 16:37:31
-2025-10-30 16:37:31
-2025-10-30 16:37:31
-2025-10-30 16:37:31
-2025-10-30 16:37:31
-2025-10-30 16:37:31
-2025-10-30 16:37:31
-2025-10-30 16:37:31
-2025-10-30 16:37:31
-2025-10-30 16:37:31
-2025-10-30 16:37:31
-2025-10-30 16:37:31
-2025-10-30 16:37:31
-2025-10-30 16:37:31
-2025-10-30 16:37:31
-2025-10-30 16:37:32
-2025-10-30 16:37:32
-2025-10-30 16:37:32
-2025-10-30 16:37:32
-2025-10-30 16:37:32
-2025-10-30 16:37:32
-2025-10-30 16:37:32
-2025-10-30 16:37:32
-2025-10-30 16:37:32
-2025-04-09 15:56:20
-2025-10-30 16:37:32
-2025-10-30 16:37:32
-2025-10-30 16:37:32
-2025-10-30 16:37:32
-2025-10-30 16:37:32
-2025-10-30 16:37:32
-2025-10-30 16:37:32
-2025-10-30 16:37:32
-2025-10-30 16:37:33
-2025-04-09 15:56:20
-2025-10-30 16:37:33
-2025-10-30 16:37:33
-2025-10-30 16:37:33
-2025-10-30 16:37:33
-2025-10-30 16:37:33
-2025-10-30 16:37:33
-2025-10-30 16:37:33
-2025-10-30 16:37:33
-2025-10-30 16:37:33
-2025-10-30 16:37:33
-2025-10-30 16:37:33
-2025-04-09 15:56:20
-2025-10-30 16:37:33
-2025-10-30 16:37:33
-2025-10-30 16:37:33
-2025-10-30 16:37:33
-2025-10-30 16:37:33
-2025-10-30 16:37:33
-2025-10-30 16:37:35
-2025-10-30 16:37:36
-2025-10-30 16:37:36
-2025-10-30 16:37:36
-2025-10-30 16:37:35
-2025-10-30 16:37:33
-2025-10-30 16:37:33
-2025-10-30 16:37:33
-2025-10-30 16:37:34
-2025-10-30 16:37:34
-2025-10-30 16:37:34
-2025-10-30 16:37:34
-2025-10-30 16:37:34
-2025-10-30 16:37:34
-2025-10-30 16:37:34
-2025-10-30 16:37:34
-2025-10-30 16:37:34
-2025-10-30 16:37:34
-2025-10-30 16:37:34
-2025-10-30 16:37:34
-2025-10-30 16:37:34
-2025-10-30 16:37:34
-2025-10-30 16:37:34
-2025-10-30 16:37:34
-2025-10-30 16:37:34
-2025-10-30 16:37:34
-2025-10-30 16:37:35
-2025-10-30 16:37:35
-2025-10-30 16:37:35
-2025-10-30 16:37:35
-2025-10-30 16:37:35
-2025-10-30 16:37:35
-2025-10-30 16:37:35
-2025-10-30 16:37:35
-2025-10-30 16:37:35
-2025-10-30 16:37:35
-2025-10-30 16:37:35
-2025-10-30 16:37:35
-2025-10-30 16:37:35
-2025-10-30 16:37:35
-2025-10-30 16:37:35
-2025-10-30 16:37:35
-2025-10-30 16:37:35
-2025-10-30 16:37:35
-2025-10-30 16:37:35
-2025-10-30 16:37:35
-2025-10-30 16:37:35
-2025-10-30 16:37:36
-2025-04-09 15:56:21
-2025-10-30 16:37:36
-2025-10-30 16:37:36
-2025-10-30 16:37:36
-2025-10-30 16:37:36
-2025-10-30 16:37:36
-2025-10-30 16:37:36
-2025-10-30 16:37:36
-2025-10-30 16:37:36
-2025-10-30 16:37:36
-2025-10-30 16:37:36
-2025-10-30 16:37:36
-2025-10-30 16:37:37
-2025-10-30 16:37:36
-2025-10-30 16:37:36
-2025-10-30 16:37:36
-2025-10-30 16:37:37
-2025-10-30 16:37:37
-2025-10-30 16:37:37
-2025-10-30 16:37:37
-2025-10-30 16:37:37
-2025-10-30 16:37:37
-2025-10-30 16:37:37
-2025-10-30 16:37:37
-2025-10-30 16:37:37
-2025-10-30 16:37:37
-2025-10-30 16:37:37
-2025-10-30 16:37:37
-2025-10-30 16:37:37
-2025-10-30 16:37:37
-2025-10-30 16:37:37
-2025-10-30 16:37:37
-2025-10-30 16:37:38
-2025-10-30 16:37:38
-2025-10-30 16:37:38
-2025-10-30 16:37:38
-2025-10-30 16:37:38
-2025-10-30 16:37:38
-2025-10-30 16:37:38
-2025-10-30 16:37:38
-2025-10-30 16:37:38
-2025-10-30 16:37:38
-2025-10-30 16:37:38
-2025-10-30 16:37:38
-2025-10-30 16:37:38
-2025-10-30 16:37:38
-2025-10-30 16:37:38
-2025-10-30 16:37:38
-2025-10-30 16:37:38
-2025-10-30 16:37:38
-2025-10-30 16:37:38
-2025-10-30 16:37:38
-2025-04-09 15:56:22
7.1 KiB2025-10-30 16:33:55
7.1 KiB2025-10-30 16:33:55
7.0 KiB2025-10-30 16:33:55
803.5 KiB2025-10-30 16:33:54
2.6 KiB2025-10-30 16:33:55
525.2 KiB2025-10-30 16:33:54
3.3 KiB2025-10-30 16:33:55
1.3 MiB2025-10-30 16:37:47
7.1 KiB2025-10-30 16:33:55
616.9 KiB2025-10-30 16:33:55
3.4 MiB2025-10-30 16:37:47
7.1 KiB2025-10-30 16:33:55
628.6 KiB2025-10-30 16:33:55
3.4 MiB2025-10-30 16:37:43
11.3 MiB2025-10-30 16:37:57
243.2 KiB2025-10-30 16:33:54
7.5 KiB2025-10-30 16:33:55
537.1 KiB2025-10-30 16:33:55
3.0 MiB2025-10-30 16:37:40
6.9 KiB2025-08-15 16:02:47
468.0 KiB2025-08-15 16:02:47
3.4 MiB2025-08-15 16:12:54
393.8 KiB2025-10-30 16:33:55
11.9 KiB2025-10-30 16:33:55
6.0 KiB2025-10-30 16:33:55
58.4 MiB2025-10-30 16:40:02
0 B2025-10-30 16:33:54
8.1 KiB2025-10-25 16:01:58
483.2 KiB2025-10-25 16:01:58
2.0 MiB2025-10-25 16:07:40