This page was generated on 2019-10-16 11:52:19 -0400 (Wed, 16 Oct 2019).
genomation 1.16.0 Altuna Akalin , Vedran Franke
 
| Snapshot Date: 2019-10-15 17:01:26 -0400 (Tue, 15 Oct 2019) |  
| URL: https://git.bioconductor.org/packages/genomation |  
| Branch: RELEASE_3_9 |  
| Last Commit: e9c989f |  
| Last Changed Date: 2019-05-02 11:53:51 -0400 (Thu, 02 May 2019) |  
 
 | malbec2  | Linux (Ubuntu 18.04.2 LTS) / x86_64  |  OK  |  OK  |  OK  |  |   | 
| tokay2  | Windows Server 2012 R2 Standard / x64  |  OK  |  OK  |  OK  |  OK  |   | 
| celaya2  | OS X 10.11.6 El Capitan / x86_64  |  OK  |  OK  |  OK  |  OK  |   |