| Back to Multiple platform build/check report for BioC 3.9 |
|
This page was generated on 2019-03-18 11:48:30 -0400 (Mon, 18 Mar 2019).
| Package 1435/1676 | Hostname | OS / Arch | INSTALL | BUILD | CHECK | ||||||
| SEPA 1.13.0 Zhicheng Ji
| malbec2 | Linux (Ubuntu 18.04.2 LTS) / x86_64 | OK | OK | ERROR | ||||||
| tokay2 | Windows Server 2012 R2 Standard / x64 | OK | OK | ERROR | |||||||
| merida2 | OS X 10.11.6 El Capitan / x86_64 | OK | OK | ERROR | |||||||
| celaya2 | OS X 10.11.6 El Capitan / x86_64 | OK | OK | ERROR |
| Package: SEPA |
| Version: 1.13.0 |
| Command: rm -rf SEPA.buildbin-libdir && mkdir SEPA.buildbin-libdir && /Users/biocbuild/BBS/utils/build-universal.sh SEPA_1.13.0.tar.gz /Library/Frameworks/R.framework/Versions/Current/Resources/bin/R SEPA.buildbin-libdir |
| StartedAt: 2019-03-18 07:19:17 -0400 (Mon, 18 Mar 2019) |
| EndedAt: 2019-03-18 07:19:36 -0400 (Mon, 18 Mar 2019) |
| EllapsedTime: 19.2 seconds |
| RetCode: 0 |
| Status: OK |
| PackageFile: SEPA_1.13.0.tgz |
| PackageFileSize: 898.6 KiB |
############################################################################## ############################################################################## ### ### Running command: ### ### rm -rf SEPA.buildbin-libdir && mkdir SEPA.buildbin-libdir && /Users/biocbuild/BBS/utils/build-universal.sh SEPA_1.13.0.tar.gz /Library/Frameworks/R.framework/Versions/Current/Resources/bin/R SEPA.buildbin-libdir ### ############################################################################## ############################################################################## >>>>>>> >>>>>>> INSTALLATION WITH 'R CMD INSTALL --preclean --no-multiarch --library=SEPA.buildbin-libdir SEPA_1.13.0.tar.gz' >>>>>>> * installing *source* package ‘SEPA’ ... ** R ** data ** inst ** byte-compile and prepare package for lazy loading ** help *** installing help indices ** building package indices ** installing vignettes ** testing if installed package can be loaded * DONE (SEPA)