| Back to Multiple platform build/check report for BioC 3.8 experimental data |
This page was generated on 2019-04-16 15:26:21 -0400 (Tue, 16 Apr 2019).
Version Built
a4 1.30.0 3.5.3
a4Base 1.30.0 3.5.3
a4Classif 1.30.0 3.5.3
a4Core 1.30.0 3.5.3
a4Preproc 1.30.0 3.5.3
a4Reporting 1.30.0 3.5.3
ABAData 1.12.0 3.5.3
ABAEnrichment 1.12.0 3.5.3
ABarray 1.50.0 3.5.3
abind 1.4-5 3.5.3
abseqR 1.0.0 3.5.3
ABSSeq 1.36.0 3.5.3
acde 1.12.0 3.5.3
ACE 1.0.0 3.5.3
acepack 1.4.1 3.5.3
aCGH 1.60.0 3.5.3
ACME 2.38.0 3.5.3
actuar 2.3-1 3.5.3
ada 2.0-5 3.5.3
ADaCGH2 2.22.0 3.5.3
adaptest 1.2.0 3.5.3
additivityTests 1.1-4 3.5.3
ade4 1.7-13 3.5.3
adehabitatLT 0.3.24 3.5.3
adehabitatMA 0.3.13 3.5.3
ADGofTest 0.3 3.5.3
adSplit 1.52.0 3.5.3
afex 0.23-0 3.5.3
AffiXcan 1.0.0 3.5.3
affxparser 1.54.0 3.5.3
affy 1.60.0 3.5.3
affycomp 1.58.0 3.5.3
AffyCompatible 1.42.0 3.5.3
affycompData 1.20.0 3.5.3
affyContam 1.40.0 3.5.3
affycoretools 1.54.0 3.5.3
affydata 1.30.0 3.5.3
AffyExpress 1.48.0 3.5.3
Affyhgu133A2Expr 1.18.0 3.5.3
Affyhgu133aExpr 1.20.0 3.5.3
Affyhgu133Plus2Expr 1.16.0 3.5.3
affyILM 1.34.0 3.5.3
affyio 1.52.0 3.5.3
affylmGUI 1.56.0 3.5.3
AffymetrixDataTestFiles 0.20.0 3.5.3
Affymoe4302Expr 1.20.0 3.5.3
affyPara 1.42.0 3.5.3
affypdnn 1.56.0 3.5.3
affyPLM 1.58.0 3.5.3
affyQCReport 1.60.0 3.5.3
AffyRNADegradation 1.28.0 3.5.3
AGDEX 1.30.0 3.5.3
agilp 3.14.0 3.5.3
AgiMicroRna 2.32.0 3.5.3
AhoCorasickTrie 0.1.0 3.5.3
AIMS 1.14.1 3.5.3
airway 1.2.0 3.5.3
akima 0.6-2 3.5.3
ALDEx2 1.14.1 3.5.3
aLFQ 1.3.4 3.5.3
AlgDesign 1.1-7.3 3.5.3
ALL 1.24.0 3.5.3
AllelicImbalance 1.20.0 3.5.3
allenpvc 1.0.0 3.5.3
ALLMLL 1.22.0 3.5.3
alluvial 0.1-2 3.5.3
alpine 1.8.0 3.5.3
alpineData 1.8.0 3.5.3
ALS 0.0.6 3.5.3
alsace 1.18.0 3.5.3
altcdfenvs 2.44.0 3.5.3
amap 0.8-16 3.5.3
AMOUNTAIN 1.8.0 3.5.3
AmpAffyExample 1.22.0 3.5.3
amplican 1.4.1 3.5.3
ampliQueso 1.20.0 3.5.3
AnalysisPageServer 1.16.0 3.5.3
Anaquin 2.6.1 3.5.3
AneuFinder 1.10.2 3.5.3
AneuFinderData 1.10.0 3.5.3
ANF 1.4.0 3.5.3
animation 2.6 3.5.3
annaffy 1.54.0 3.5.3
annmap 1.24.0 3.5.3
annotate 1.60.1 3.5.3
annotation 1.4.0 3.5.3
AnnotationDbi 1.44.0 3.5.3
AnnotationFilter 1.6.0 3.5.3
AnnotationForge 1.24.0 3.5.3
AnnotationFuncs 1.32.0 3.5.3
AnnotationHub 2.14.5 3.5.3
AnnotationHubData 1.12.0 3.5.3
annotationTools 1.56.0 3.5.3
annotatr 1.8.0 3.5.3
anota 1.30.0 3.5.3
anota2seq 1.4.2 3.5.3
antiProfiles 1.22.0 3.5.3
antiProfilesData 1.18.0 3.5.3
aod 1.3.1 3.5.3
apcluster 1.4.7 3.5.3
apComplex 2.48.1 3.5.3
ape 5.3 3.5.3
apeglm 1.4.2 3.5.3
aplpack 1.3.2 3.5.3
appreci8R 1.0.0 3.5.3
aracne.networks 1.8.0 3.5.3
argparse 2.0.1 3.5.3
argparser 0.4 3.5.3
ArgumentCheck 0.10.2 3.5.3
arm 1.10-1 3.5.3
aroma.affymetrix 3.1.1 3.5.3
aroma.apd 0.6.0 3.5.3
aroma.core 3.1.3 3.5.3
aroma.light 3.12.0 3.5.3
ArrayExpress 1.42.0 3.5.3
ArrayExpressHTS 1.32.1 3.5.3
arrayMvout 1.40.0 3.5.3
arrayQuality 1.60.0 3.5.3
arrayQualityMetrics 3.38.0 3.5.3
arrays 1.6.0 3.5.3
ArrayTools 1.42.0 3.5.3
ArrayTV 1.20.0 3.5.3
ARRmData 1.18.0 3.5.3
ARRmNormalization 1.22.0 3.5.3
artMS 1.0.12 3.5.3
arules 1.6-3 3.5.3
ASAFE 1.8.0 3.5.3
ASEB 1.26.0 3.5.3
ASGSCA 1.16.0 3.5.3
AshkenazimSonChr21 1.12.0 3.5.3
ashr 2.2-32 3.5.3
ASICS 1.2.0 3.5.3
ASICSdata 1.2.0 3.5.3
askpass 1.1 3.5.3
ASpli 1.8.1 3.5.3
assertive 0.3-5 3.5.3
assertive.base 0.0-7 3.5.3
assertive.code 0.0-3 3.5.3
assertive.data 0.0-3 3.5.3
assertive.data.uk 0.0-2 3.5.3
assertive.data.us 0.0-2 3.5.3
assertive.datetimes 0.0-2 3.5.3
assertive.files 0.0-2 3.5.3
assertive.matrices 0.0-2 3.5.3
assertive.models 0.0-2 3.5.3
assertive.numbers 0.0-2 3.5.3
assertive.properties 0.0-4 3.5.3
assertive.reflection 0.0-4 3.5.3
assertive.sets 0.0-3 3.5.3
assertive.strings 0.0-3 3.5.3
assertive.types 0.0-3 3.5.3
assertthat 0.2.1 3.5.3
AssessORF 1.0.2 3.5.3
AssessORFData 1.0.0 3.5.3
ASSET 2.0.0 3.5.3
ASSIGN 1.18.0 3.5.3
ATACseqQC 1.6.4 3.5.3
ath1121501cdf 2.18.0 3.5.3
attract 1.34.1 3.5.3
AUCell 1.4.1 3.5.3
aws 2.2-0 3.5.3
awsMethods 1.1-0 3.5.3
BaalChIP 1.8.0 3.5.3
BAC 1.42.0 3.5.3
backports 1.1.4 3.5.3
bacon 1.10.1 3.5.3
BADER 1.20.1 3.5.3
BadRegionFinder 1.10.0 3.5.3
BAGS 2.22.0 3.5.3
ballgown 2.14.1 3.5.3
bamsignals 1.14.0 3.5.3
banocc 1.6.1 3.5.3
base 3.5.3 3.5.3
base64 2.0 3.5.3
base64enc 0.1-3 3.5.3
base64url 1.4 3.5.3
basecallQC 1.6.0 3.5.3
baseline 1.2-1 3.5.3
BaseSpaceR 1.26.0 3.5.3
Basic4Cseq 1.18.1 3.5.3
BASiCS 1.4.7 3.5.3
BasicSTARRseq 1.10.0 3.5.3
BatchJobs 1.7 3.5.3
BatchQC 1.10.1 3.5.3
batchtools 0.9.11 3.5.3
BayesKnockdown 1.8.0 3.5.3
bayesm 3.1-1 3.5.3
BayesPeak 1.34.0 3.5.3
bayNorm 1.0.9 3.5.3
baySeq 2.16.0 3.5.3
bazar 1.0.11 3.5.3
BB 2014.10-1 3.5.3
BBCAnalyzer 1.12.0 3.5.3
BBmisc 1.11 3.5.3
bbmle 1.0.20 3.5.3
bc3net 1.0.4 3.5.3
bcellViper 1.18.0 3.5.3
BCRANK 1.44.0 3.5.3
bcSeq 1.4.1 3.5.3
BDgraph 2.58 3.5.3
BDMMAcorrect 1.0.1 3.5.3
bdsmatrix 1.3-3 3.5.3
beachmat 1.4.0 3.5.3
beadarray 2.32.0 3.5.3
beadarrayExampleData 1.20.0 3.5.3
beadarraySNP 1.48.0 3.5.3
BeadArrayUseCases 1.20.0 3.5.3
BeadDataPackR 1.34.0 3.5.3
beanplot 1.2 3.5.3
BEARscc 1.2.1 3.5.3
BEAT 1.20.1 3.5.3
BEclear 1.14.0 3.5.3
beeswarm 0.2.3 3.5.3
beta7 1.20.0 3.5.3
betareg 3.1-1 3.5.3
bezier 1.1.2 3.5.3
bgafun 1.44.0 3.5.3
BgeeDB 2.8.0 3.5.3
BGmix 1.42.0 3.5.3
bgmm 1.8.3 3.5.3
bgx 1.48.1 3.5.3
BH 1.69.0-1 3.5.3
BHC 1.34.0 3.5.3
BiasedUrn 1.07 3.5.3
BiBitR 0.3.1 3.5.3
bibtex 0.4.2 3.5.3
BicARE 1.40.0 3.5.3
biclust 2.0.1 3.5.3
BiFET 1.2.1 3.5.3
biganalytics 1.1.14 3.5.3
BiGGR 1.18.0 3.5.3
biglm 0.9-1 3.5.3
bigmelon 1.8.0 3.5.3
bigmemory 4.5.33 3.5.3
bigmemory.sri 0.1.3 3.5.3
bigmemoryExtras 1.30.0 3.5.3
bigrquery 1.1.0 3.5.3
binom 1.1-1 3.5.3
bio3d 2.3-4 3.5.3
bioassayR 1.20.1 3.5.3
Biobase 2.42.0 3.5.3
biobroom 1.14.0 3.5.3
bioCancer 1.10.11 3.5.3
BiocCaseStudies 1.44.0 3.5.3
BiocCheck 1.18.0 3.5.3
BiocFileCache 1.6.0 3.5.3
BiocGenerics 0.28.0 3.5.3
biocGraph 1.44.0 3.5.3
BiocInstaller 1.32.1 3.5.3
BiocManager 1.30.4 3.5.3
BiocMetaWorkflow 1.2.0 3.5.3
BiocNeighbors 1.0.0 3.5.3
BiocOncoTK 1.2.1 3.5.3
BioCor 1.6.1 3.5.3
BiocParallel 1.16.6 3.5.3
BiocPkgTools 1.0.3 3.5.3
BiocSklearn 1.4.0 3.5.3
BiocStyle 2.10.0 3.5.3
BiocVersion 3.8.0 3.5.3
biocViews 1.50.10 3.5.3
BiocWorkflowTools 1.8.0 3.5.3
bioDist 1.54.0 3.5.3
BioMark 0.4.5 3.5.3
biomaRt 2.38.0 3.5.3
biomformat 1.10.1 3.5.3
BioMVCClass 1.50.0 3.5.3
biomvRCNS 1.22.0 3.5.3
BioNet 1.42.0 3.5.3
bionetdata 1.0.1 3.5.3
BioNetStat 1.2.2 3.5.3
BioQC 1.10.0 3.5.3
BioSeqClass 1.40.0 3.5.3
biosigner 1.10.0 3.5.3
Biostrings 2.50.2 3.5.3
biosvd 2.18.0 3.5.3
biotmle 1.6.0 3.5.3
biotmleData 1.6.0 3.5.3
biovizBase 1.30.1 3.5.3
BiRewire 3.14.0 3.5.3
birta 1.26.0 3.5.3
birte 1.18.0 3.5.3
BiSeq 1.22.0 3.5.3
bit 1.1-14 3.5.3
bit64 0.9-7 3.5.3
bitops 1.0-6 3.5.3
BitSeq 1.26.1 3.5.3
biwt 1.0 3.5.3
bladderbatch 1.20.0 3.5.3
blima 1.16.0 3.5.3
blimaTestingData 1.2.0 3.5.3
BLMA 1.6.0 3.5.3
blob 1.1.1 3.5.3
blockmodeling 0.3.4 3.5.3
BloodCancerMultiOmics2017 1.2.0 3.5.3
BMA 3.18.9 3.5.3
bmp 0.3 3.5.3
bnbc 1.4.0 3.5.3
bnlearn 4.4.1 3.5.3
bookdown 0.9 3.5.3
BoolNet 2.1.4 3.5.3
boot 1.3-20 3.5.3
bootstrap 2017.2 3.5.3
bpca 1.3-0 3.5.3
BPRMeth 1.8.1 3.5.3
BRAIN 1.28.1 3.5.3
brainImageR 1.0.0 3.5.3
brainImageRdata 1.0.0 3.5.3
BrainStars 1.26.0 3.5.3
branchpointer 1.8.0 3.5.3
breakpointR 1.0.0 3.5.3
breakpointRdata 1.0.0 3.5.3
breastCancerMAINZ 1.20.0 3.5.3
breastCancerNKI 1.20.0 3.5.3
breastCancerTRANSBIG 1.20.0 3.5.3
breastCancerUNT 1.20.0 3.5.3
breastCancerUPP 1.20.0 3.5.3
breastCancerVDX 1.20.0 3.5.3
brew 1.0-6 3.5.3
brgedata 1.4.0 3.5.3
brglm 0.6.2 3.5.3
bridge 1.46.0 3.5.3
BridgeDbR 1.16.1 3.5.3
bronchialIL13 1.20.0 3.5.3
broom 0.5.2 3.5.3
BrowserViz 2.4.0 3.5.3
BSgenome 1.50.0 3.5.3
BSgenome.Athaliana.TAIR.TAIR9 1.3.1000 3.5.3
BSgenome.Celegans.UCSC.ce10 1.4.0 3.5.3
BSgenome.Celegans.UCSC.ce2 1.4.0 3.5.3
BSgenome.Dmelanogaster.UCSC.dm3 1.4.0 3.5.3
BSgenome.Drerio.UCSC.danRer10 1.4.2 3.5.3
BSgenome.Drerio.UCSC.danRer7 1.4.0 3.5.3
BSgenome.Ecoli.NCBI.20080805 1.3.1000 3.5.3
BSgenome.Ggallus.UCSC.galGal3 1.4.0 3.5.3
BSgenome.Hsapiens.1000genomes.hs37d5 0.99.1 3.5.3
BSgenome.Hsapiens.NCBI.GRCh38 1.3.1000 3.5.3
BSgenome.Hsapiens.UCSC.hg18 1.3.1000 3.5.3
BSgenome.Hsapiens.UCSC.hg18.masked 1.3.99 3.5.3
BSgenome.Hsapiens.UCSC.hg19 1.4.0 3.5.3
BSgenome.Hsapiens.UCSC.hg19.masked 1.3.99 3.5.3
BSgenome.Hsapiens.UCSC.hg38 1.4.1 3.5.3
BSgenome.Hsapiens.UCSC.hg38.masked 1.3.99 3.5.3
BSgenome.Mmusculus.UCSC.mm10 1.4.0 3.5.3
BSgenome.Mmusculus.UCSC.mm10.masked 1.3.99 3.5.3
BSgenome.Mmusculus.UCSC.mm8 1.4.0 3.5.3
BSgenome.Mmusculus.UCSC.mm8.masked 1.3.99 3.5.3
BSgenome.Mmusculus.UCSC.mm9 1.4.0 3.5.3
BSgenome.Mmusculus.UCSC.mm9.masked 1.3.99 3.5.3
BSgenome.Rnorvegicus.UCSC.rn5 1.4.0 3.5.3
BSgenome.Rnorvegicus.UCSC.rn5.masked 1.3.99 3.5.3
BSgenome.Rnorvegicus.UCSC.rn6 1.4.1 3.5.3
BSgenome.Scerevisiae.UCSC.sacCer1 1.4.0 3.5.3
BSgenome.Scerevisiae.UCSC.sacCer2 1.4.0 3.5.3
BSgenome.Scerevisiae.UCSC.sacCer3 1.4.0 3.5.3
bsseq 1.18.0 3.5.3
bsseqData 0.20.0 3.5.3
BubbleTree 2.12.0 3.5.3
BufferedMatrix 1.46.0 3.5.3
BufferedMatrixMethods 1.46.0 3.5.3
BUMHMM 1.6.2 3.5.3
bumphunter 1.24.5 3.5.3
BUS 1.38.0 3.5.3
BUScorrect 1.0.0 3.5.3
c3net 1.1.1 3.5.3
C50 0.1.2 3.5.3
ca 0.71 3.5.3
CAFE 1.18.0 3.5.3
CAGEfightR 1.2.0 3.5.3
CAGEr 1.24.0 3.5.3
Cairo 1.5-10 3.5.3
cairoDevice 2.26 3.5.3
CALIB 1.48.0 3.5.3
calibrate 1.7.2 3.5.3
callr 3.2.0 3.5.3
CAMERA 1.38.1 3.5.3
CAMTHC 1.0.0 3.5.3
canceR 1.16.02 3.5.3
cancerclass 1.26.0 3.5.3
cancerdata 1.20.0 3.5.3
CancerInSilico 2.2.1 3.5.3
CancerMutationAnalysis 1.24.0 3.5.3
CancerSubtypes 1.8.0 3.5.3
CAnD 1.14.0 3.5.3
caOmicsV 1.12.1 3.5.3
capushe 1.1.1 3.5.3
car 3.0-2 3.5.3
carData 3.0-2 3.5.3
Cardinal 2.0.4 3.5.3
CardinalWorkflows 1.14.0 3.5.3
caret 6.0-82 3.5.3
caroline 0.7.6 3.5.3
casper 2.16.1 3.5.3
CATALYST 1.6.7 3.5.3
Category 2.48.1 3.5.3
categoryCompare 1.26.0 3.5.3
catnet 1.15.3 3.5.3
caTools 1.17.1.2 3.5.3
CausalR 1.14.1 3.5.3
cba 0.2-20 3.5.3
cbaf 1.4.1 3.5.3
ccaPP 0.3.2 3.5.3
ccdata 1.8.0 3.5.3
ccdrAlgorithm 0.0.5 3.5.3
ccfindR 1.2.1 3.5.3
CCl4 1.20.0 3.5.3
ccmap 1.8.0 3.5.3
CCP 1.1 3.5.3
CCPROMISE 1.8.0 3.5.3
ccrepe 1.18.1 3.5.3
ccTutorial 1.20.0 3.5.3
CDFt 1.0.1 3.5.3
celaref 1.0.1 3.5.3
celarefData 1.0.0 3.5.3
celestial 1.4.6 3.5.3
cellbaseR 1.6.1 3.5.3
cellGrowth 1.26.1 3.5.3
cellHTS2 2.46.1 3.5.3
cellity 1.10.1 3.5.3
CellMapper 1.8.0 3.5.3
CellMapperData 1.8.0 3.5.3
CellNOptR 1.28.1 3.5.3
cellranger 1.1.0 3.5.3
cellscape 1.6.0 3.5.3
CellScore 1.2.0 3.5.3
CellTrails 1.0.1 3.5.3
cellTree 1.12.1 3.5.3
CEMiTool 1.6.11 3.5.3
ceu1kg 0.20.0 3.5.3
ceu1kgv 0.24.0 3.5.3
ceuhm3 0.20.0 3.5.3
CexoR 1.20.0 3.5.3
CFAssay 1.16.1 3.5.3
cgdsr 1.2.10 3.5.3
cgdv17 0.20.0 3.5.3
CGEN 3.18.0 3.5.3
CGHbase 1.42.0 3.5.3
CGHcall 2.44.0 3.5.3
cghMCR 1.40.0 3.5.3
CGHnormaliter 1.36.0 3.5.3
CGHregions 1.40.0 3.5.3
ChAMP 2.12.4 3.5.3
ChAMPdata 2.14.1 3.5.3
changepoint 2.2.2 3.5.3
CHARGE 1.2.0 3.5.3
charm 2.28.0 3.5.3
charmData 1.18.0 3.5.3
checkmate 1.9.1 3.5.3
ChemmineDrugs 1.0.2 3.5.3
ChemmineOB 1.20.0 3.5.3
ChemmineR 3.34.1 3.5.3
ChemometricsWithR 0.1.13 3.5.3
ChIC 1.2.0 3.5.3
ChIC.data 1.2.0 3.5.3
Chicago 1.10.1 3.5.3
chimera 1.24.0 3.5.3
chimeraviz 1.8.5 3.5.3
ChimpHumanBrainData 1.20.0 3.5.3
ChIPanalyser 1.4.0 3.5.3
ChIPComp 1.12.0 3.5.3
chipenrich 2.6.1 3.5.3
chipenrich.data 2.6.0 3.5.3
ChIPexoQual 1.6.0 3.5.3
ChIPexoQualExample 1.6.0 3.5.3
ChIPpeakAnno 3.16.1 3.5.3
ChIPQC 1.18.2 3.5.3
ChIPseeker 1.18.0 3.5.3
chipseq 1.32.0 3.5.3
chipseqDB 1.4.1 3.5.3
ChIPseqR 1.36.0 3.5.3
ChIPSeqSpike 1.2.1 3.5.3
ChIPsim 1.36.0 3.5.3
ChIPXpress 1.26.0 3.5.3
ChIPXpressData 1.20.0 3.5.3
chopsticks 1.48.0 3.5.3
chroGPS 2.0.1 3.5.3
chromDraw 2.12.0 3.5.3
ChromHeatMap 1.36.0 3.5.3
chromPlot 1.10.0 3.5.3
chromstaR 1.8.1 3.5.3
chromstaRData 1.8.0 3.5.3
chromswitch 1.4.1 3.5.3
chromVAR 1.4.1 3.5.3
chron 2.3-53 3.5.3
CHRONOS 1.10.1 3.5.3
cicero 1.0.15 3.5.3
CINdex 1.10.0 3.5.3
circlize 0.4.6 3.5.3
CircStats 0.2-6 3.5.3
cisPath 1.22.0 3.5.3
class 7.3-15 3.5.3
ClassifyR 2.2.6 3.5.3
classInt 0.3-1 3.5.3
cleanUpdTSeq 1.20.1 3.5.3
cleaver 1.20.0 3.5.3
cli 1.1.0 3.5.3
clinfun 1.0.15 3.5.3
clippda 1.32.0 3.5.3
clipper 1.22.0 3.5.3
clipr 0.6.0 3.5.3
clisymbols 1.2.0 3.5.3
CLL 1.22.0 3.5.3
CLLmethylation 1.2.0 3.5.3
Clomial 1.18.1 3.5.3
Clonality 1.30.0 3.5.3
clonotypeR 1.20.0 3.5.3
clst 1.30.0 3.5.3
clstutils 1.30.0 3.5.3
clue 0.3-57 3.5.3
clues 0.5.9 3.5.3
clustComp 1.10.0 3.5.3
cluster 2.0.8 3.5.3
clusterCrit 1.2.8 3.5.3
clusterExperiment 2.2.0 3.5.3
ClusterJudge 1.4.0 3.5.3
clusterProfiler 3.10.1 3.5.3
ClusterR 1.1.9 3.5.3
clusterSeq 1.6.0 3.5.3
ClusterSignificance 1.10.0 3.5.3
clusterSim 0.47-3 3.5.3
clusterStab 1.54.0 3.5.3
clustsig 1.1 3.5.3
clValid 0.6-6 3.5.3
CMA 1.40.0 3.5.3
cMAP 1.15.1 3.5.3
cMap2data 1.18.0 3.5.3
cmprsk 2.2-7 3.5.3
cn.farms 1.30.0 3.5.3
cn.mops 1.28.0 3.5.3
CNAnorm 1.28.0 3.5.3
CNEr 1.18.1 3.5.3
CNORdt 1.24.1 3.5.3
CNORfeeder 1.22.1 3.5.3
CNORfuzzy 1.24.0 3.5.3
CNORode 1.24.1 3.5.3
CNPBayes 1.12.0 3.5.3
CNTools 1.38.0 3.5.3
cnvGSA 1.26.0 3.5.3
cnvGSAdata 1.18.0 3.5.3
CNVPanelizer 1.14.0 3.5.3
CNVrd2 1.20.0 3.5.3
CNVtools 1.76.0 3.5.3
cobindR 1.20.0 3.5.3
cobs 1.3-3 3.5.3
CoCiteStats 1.54.0 3.5.3
COCOA 1.0.2 3.5.3
coda 0.19-2 3.5.3
codelink 1.50.0 3.5.3
codetools 0.2-16 3.5.3
CODEX 1.14.1 3.5.3
coexnet 1.4.0 3.5.3
CoGAPS 3.2.40 3.5.3
cogena 1.16.0 3.5.3
coGPS 1.26.0 3.5.3
COHCAP 1.28.1 3.5.3
COHCAPanno 1.18.0 3.5.3
coin 1.3-0 3.5.3
colonCA 1.24.0 3.5.3
colorRamps 2.3 3.5.3
colorspace 1.4-1 3.5.3
colortools 0.1.5 3.5.3
colourpicker 1.0 3.5.3
combinat 0.0-8 3.5.3
coMET 1.14.0 3.5.3
cometExactTest 0.1.5 3.5.3
commonmark 1.7 3.5.3
compartmap 1.0.3 3.5.3
COMPASS 1.20.1 3.5.3
compcodeR 1.18.1 3.5.3
compEpiTools 1.16.0 3.5.3
CompGO 1.18.0 3.5.3
compiler 3.5.3 3.5.3
ComplexHeatmap 1.20.0 3.5.3
compositions 1.40-2 3.5.3
CompQuadForm 1.4.3 3.5.3
condcomp 1.0.1 3.5.3
CONFESS 1.10.1 3.5.3
CONFESSdata 1.10.0 3.5.3
ConnectivityMap 1.18.0 3.5.3
consensus 1.0.3 3.5.3
ConsensusClusterPlus 1.46.0 3.5.3
consensusDE 1.0.6 3.5.3
consensusOV 1.4.1 3.5.3
consensusSeekeR 1.10.0 3.5.3
contiBAIT 1.10.1 3.5.3
contrast 0.21 3.5.3
conumee 1.16.0 3.5.3
convert 1.58.0 3.5.3
copa 1.50.0 3.5.3
COPDSexualDimorphism.data 1.18.0 3.5.3
copula 0.999-19 3.5.3
CopyhelpeR 1.14.0 3.5.3
CopyNeutralIMA 1.0.0 3.5.3
copynumber 1.22.0 3.5.3
CopywriteR 2.14.1 3.5.3
coRdon 1.0.3 3.5.3
CoRegNet 1.20.0 3.5.3
Cormotif 1.28.0 3.5.3
CorMut 1.24.0 3.5.3
corpcor 1.6.9 3.5.3
CORREP 1.48.0 3.5.3
corrgram 1.13 3.5.3
corrplot 0.84 3.5.3
coseq 1.6.1 3.5.3
COSMIC.67 1.18.0 3.5.3
cosmiq 1.16.1 3.5.3
COSNet 1.16.0 3.5.3
CountClust 1.10.1 3.5.3
countsimQC 1.0.1 3.5.3
covEB 1.8.1 3.5.3
CoverageView 1.20.1 3.5.3
covr 3.2.1 3.5.3
covRNA 1.8.0 3.5.3
cowplot 0.9.4 3.5.3
CoxBoost 1.4 3.5.3
cp4p 0.3.6 3.5.3
CPE 1.5.1 3.5.3
cpvSNP 1.14.0 3.5.3
cqn 1.28.1 3.5.3
crayon 1.3.4 3.5.3
CRCL18 1.2.0 3.5.3
CRImage 1.30.0 3.5.3
CRISPRseek 1.22.1 3.5.3
crisprseekplus 1.8.0 3.5.3
CrispRVariants 1.10.1 3.5.3
crlmm 1.40.0 3.5.3
crossmeta 1.8.0 3.5.3
crosstalk 1.0.0 3.5.3
crul 0.7.4 3.5.3
CSAR 1.34.0 3.5.3
csaw 1.16.1 3.5.3
CSSP 1.20.0 3.5.3
ctc 1.56.0 3.5.3
CTDquerier 1.2.0 3.5.3
cTRAP 1.0.3 3.5.3
ctsGE 1.8.1 3.5.3
cubature 2.0.3 3.5.3
Cubist 0.2.2 3.5.3
cummeRbund 2.24.0 3.5.3
curatedBladderData 1.18.1 3.5.3
curatedBreastData 2.10.0 3.5.3
curatedCRCData 2.14.0 3.5.3
curatedMetagenomicData 1.12.3 3.5.3
curatedOvarianData 1.20.1 3.5.3
curatedTCGAData 1.4.3 3.5.3
curl 3.3 3.5.3
customProDB 1.22.1 3.5.3
cvAUC 1.1.0 3.5.3
CVE 1.8.0 3.5.3
cvTools 0.3.2 3.5.3
cycle 1.36.0 3.5.3
cydar 1.6.1 3.5.3
CytoDx 1.2.1 3.5.3
cytofkit 1.14.0 3.5.3
cytofWorkflow 1.4.1 3.5.3
cytolib 1.4.1 3.5.3
CytoML 1.8.1 3.5.3
d3heatmap 0.6.1.2 3.5.3
d3Network 0.5.2.1 3.5.3
dada2 1.10.1 3.5.3
dagitty 0.2-2 3.5.3
dagLogo 1.20.0 3.5.3
daMA 1.54.0 3.5.3
DaMiRseq 1.6.2 3.5.3
DAPAR 1.14.5 3.5.3
DAPARdata 1.12.1 3.5.3
DART 1.30.0 3.5.3
data.table 1.12.2 3.5.3
datasets 3.5.3 3.5.3
davidTiling 1.22.0 3.5.3
DBChIP 1.26.0 3.5.3
DBI 1.0.0 3.5.3
dbplyr 1.3.0 3.5.3
dcGSA 1.10.1 3.5.3
DChIPRep 1.12.0 3.5.3
ddCt 1.38.0 3.5.3
ddPCRclust 1.2.0 3.5.3
DDRTree 0.1.5 3.5.3
debrowser 1.10.9 3.5.3
DECIPHER 2.10.2 3.5.3
DEComplexDisease 1.2.0 3.5.3
DeconRNASeq 1.24.0 3.5.3
decontam 1.2.1 3.5.3
DEDS 1.56.0 3.5.3
DeepBlueR 1.8.1 3.5.3
deepSNV 1.28.0 3.5.3
DEFormats 1.10.1 3.5.3
DEGraph 1.34.0 3.5.3
DEGreport 1.18.1 3.5.3
DEGseq 1.36.1 3.5.3
Delaporte 6.3.0 3.5.3
DelayedArray 0.8.0 3.5.3
DelayedMatrixStats 1.4.0 3.5.3
deldir 0.1-16 3.5.3
deltaGseg 1.22.0 3.5.3
DeMAND 1.12.0 3.5.3
dendextend 1.10.0 3.5.3
dendsort 0.3.3 3.5.3
densityClust 0.3 3.5.3
DEoptimR 1.0-8 3.5.3
DEP 1.4.1 3.5.3
depmixS4 1.3-5 3.5.3
DEqMS 1.0.1 3.5.3
derfinder 1.16.1 3.5.3
derfinderData 2.0.0 3.5.3
derfinderHelper 1.16.1 3.5.3
derfinderPlot 1.16.1 3.5.3
desc 1.2.0 3.5.3
DEScan2 1.2.1 3.5.3
DescTools 0.99.28 3.5.3
DESeq 1.34.1 3.5.3
DESeq2 1.22.2 3.5.3
DEsingle 1.2.1 3.5.3
deSolve 1.21 3.5.3
DeSousa2013 1.18.0 3.5.3
destiny 2.12.0 3.5.3
DEsubs 1.8.1 3.5.3
devtools 2.0.2 3.5.3
DEXSeq 1.28.3 3.5.3
dexus 1.22.1 3.5.3
DFP 1.40.0 3.5.3
diagram 1.6.4 3.5.3
DiagrammeR 1.0.0 3.5.3
DiagrammeRsvg 0.1 3.5.3
dichromat 2.0-0 3.5.3
DiffBind 2.10.0 3.5.3
diffcoexp 1.2.0 3.5.3
DiffCorr 0.4.1 3.5.3
diffcyt 1.2.23 3.5.3
diffGeneAnalysis 1.64.0 3.5.3
diffHic 1.14.0 3.5.3
DiffLogo 2.6.0 3.5.3
diffloop 1.10.0 3.5.3
diffloopdata 1.10.0 3.5.3
diffobj 0.2.2 3.5.3
diffr 0.1 3.5.3
diffusr 0.1.4 3.5.3
diffuStats 1.2.0 3.5.3
digest 0.6.18 3.5.3
diggit 1.14.0 3.5.3
diggitdata 1.14.0 3.5.3
diptest 0.75-7 3.5.3
Director 1.8.0 3.5.3
DirichletMultinomial 1.24.1 3.5.3
discordant 1.6.1 3.5.3
discretecdAlgorithm 0.0.5 3.5.3
DiscriMiner 0.1-29 3.5.3
distillery 1.0-6 3.5.3
distr 2.8.0 3.5.3
distrEx 2.8.0 3.5.3
dks 1.28.0 3.5.3
DLBCL 1.22.0 3.5.3
DMCHMM 1.4.0 3.5.3
DmelSGI 1.14.0 3.5.3
DMRcaller 1.14.2 3.5.3
DMRcate 1.18.0 3.5.3
DMRcatedata 1.18.0 3.5.3
DMRforPairs 1.18.0 3.5.3
DMRScan 1.8.0 3.5.3
dmrseq 1.2.5 3.5.3
dmt 0.8.20 3.5.3
DMwR 0.4.1 3.5.3
DNABarcodes 1.12.0 3.5.3
DNAcopy 1.56.0 3.5.3
DNAshapeR 1.10.0 3.5.3
dnet 1.1.4 3.5.3
DO.db 2.9 3.5.3
doBy 4.6-2 3.5.3
docopt 0.6.1 3.5.3
doFuture 0.8.0 3.5.3
doMC 1.3.5 3.5.3
DominoEffect 1.2.1 3.5.3
DonaPLLP2013 1.20.0 3.5.3
doParallel 1.0.14 3.5.3
doppelgangR 1.10.1 3.5.3
DOQTL 1.18.0 3.5.3
doRNG 1.7.1 3.5.3
Doscheda 1.4.1 3.5.3
DOSE 3.8.2 3.5.3
doSNOW 1.0.16 3.5.3
dotCall64 1.0-0 3.5.3
downloader 0.4 3.5.3
dplyr 0.8.0.1 3.5.3
DPpackage 1.1-7.4 3.5.3
drawProteins 1.2.0 3.5.3
drc 3.0-1 3.5.3
DREAM4 1.18.0 3.5.3
dressCheck 0.20.0 3.5.3
DRIMSeq 1.10.1 3.5.3
DriverNet 1.22.0 3.5.3
DropletUtils 1.2.2 3.5.3
drosgenome1.db 3.2.3 3.5.3
drosophila2probe 2.18.0 3.5.3
DrugVsDisease 2.24.2 3.5.3
DrugVsDiseasedata 1.18.0 3.5.3
dSimer 1.8.0 3.5.3
dsQTL 0.20.0 3.5.3
DSS 2.30.1 3.5.3
DT 0.5 3.5.3
DTA 2.28.0 3.5.3
dtw 1.20-1 3.5.3
dualKS 1.42.0 3.5.3
DuoClustering2018 1.0.0 3.5.3
DupChecker 1.20.0 3.5.3
dupRadar 1.12.1 3.5.3
DvDdata 1.18.0 3.5.3
dyebias 1.42.0 3.5.3
dyebiasexamples 1.22.0 3.5.3
dynamicTreeCut 1.63-1 3.5.3
DynDoc 1.60.0 3.5.3
e1071 1.7-1 3.5.3
earth 5.1.1 3.5.3
EasyqpcR 1.24.0 3.5.3
easyRNASeq 2.18.4 3.5.3
EatonEtAlChIPseq 0.20.0 3.5.3
EBarrays 2.46.0 3.5.3
EBcoexpress 1.26.0 3.5.3
ebdbNet 1.2.5 3.5.3
EBImage 4.24.0 3.5.3
EBSEA 1.10.0 3.5.3
EBSeq 1.22.1 3.5.3
EBSeqHMM 1.16.1 3.5.3
ecolicdf 2.18.0 3.5.3
ecoliLeucine 1.22.0 3.5.3
ecolitk 1.54.0 3.5.3
ecp 3.1.1 3.5.3
EDASeq 2.16.3 3.5.3
EDDA 1.20.1 3.5.3
edge 2.14.0 3.5.3
edgeR 3.24.3 3.5.3
eegc 1.8.1 3.5.3
EGAD 1.10.0 3.5.3
egg 0.4.2 3.5.3
EGSEA 1.10.1 3.5.3
EGSEA123 1.4.1 3.5.3
EGSEAdata 1.10.0 3.5.3
eiR 1.22.0 3.5.3
eisa 1.34.0 3.5.3
elasticnet 1.1.1 3.5.3
ELBOW 1.18.1 3.5.3
ellipse 0.4.1 3.5.3
ellipsis 0.1.0 3.5.3
ELMER 2.6.3 3.5.3
ELMER.data 2.6.0 3.5.3
emdbook 1.3.11 3.5.3
emdist 0.3-1 3.5.3
EMDomics 2.12.0 3.5.3
emmeans 1.3.3 3.5.3
emojifont 0.5.2 3.5.3
EmpiricalBrownsMethod 1.10.0 3.5.3
EMT 1.1 3.5.3
ENCODExplorer 2.8.0 3.5.3
energy 1.7-5 3.5.3
EnhancedVolcano 1.0.1 3.5.3
ENmix 1.18.2 3.5.3
EnrichedHeatmap 1.12.0 3.5.3
EnrichmentBrowser 2.12.1 3.5.3
enrichplot 1.2.0 3.5.3
enrichR 1.0 3.5.3
EnsDb.Hsapiens.v75 2.99.0 3.5.3
EnsDb.Hsapiens.v79 2.99.0 3.5.3
EnsDb.Hsapiens.v86 2.99.0 3.5.3
EnsDb.Mmusculus.v79 2.99.0 3.5.3
ensembldb 2.6.8 3.5.3
ensemblVEP 1.24.2 3.5.3
ensurer 1.1 3.5.3
entropy 1.2.1 3.5.3
enviPat 2.4 3.5.3
ENVISIONQuery 1.30.0 3.5.3
EnvStats 2.3.1 3.5.3
Epi 2.35 3.5.3
EpiDISH 1.4.1 3.5.3
epigenomix 1.22.0 3.5.3
epiNEM 1.6.0 3.5.3
epivizr 2.12.0 3.5.3
epivizrChart 1.4.0 3.5.3
epivizrData 1.10.0 3.5.3
epivizrServer 1.10.0 3.5.3
epivizrStandalone 1.10.0 3.5.3
eQTL 1.4.0 3.5.3
erccdashboard 1.16.1 3.5.3
erma 0.14.0 3.5.3
ERSSA 1.0.1 3.5.3
esATAC 1.4.5 3.5.3
esetVis 1.8.0 3.5.3
estimability 1.3 3.5.3
estrogen 1.28.0 3.5.3
etec16s 1.10.0 3.5.3
etm 1.0.4 3.5.3
etrunct 0.1 3.5.3
eudysbiome 1.12.0 3.5.3
eulerr 5.1.0 3.5.3
europepmc 0.3 3.5.3
evaluate 0.13 3.5.3
evd 2.3-3 3.5.3
EventPointer 2.0.1 3.5.3
evmix 2.11 3.5.3
exactRankTests 0.8-29 3.5.3
ExCluster 1.0.1 3.5.3
ExiMiR 2.24.0 3.5.3
exomeCopy 1.28.0 3.5.3
exomePeak 2.16.0 3.5.3
ExperimentHub 1.8.0 3.5.3
ExperimentHubData 1.8.0 3.5.3
expint 0.1-5 3.5.3
explorase 1.46.0 3.5.3
expm 0.999-4 3.5.3
ExPosition 2.8.23 3.5.3
ExpressionAtlas 1.10.0 3.5.3
ExpressionNormalizationWorkflow 1.6.1 3.5.3
ExpressionView 1.34.0 3.5.3
extrafont 0.17 3.5.3
extrafontdb 1.0 3.5.3
extRemes 2.0-10 3.5.3
extremevalues 2.3.2 3.5.3
faahKO 1.22.0 3.5.3
fabia 2.28.0 3.5.3
fabiaData 1.20.0 3.5.3
facopy.annot 1.2.0 3.5.3
facsDorit 1.24.0 3.5.3
factDesign 1.58.0 3.5.3
factoextra 1.0.5 3.5.3
FactoMineR 1.41 3.5.3
FamAgg 1.10.4 3.5.3
fansi 0.4.0 3.5.3
FANTOM3and4CAGE 1.18.0 3.5.3
farms 1.34.0 3.5.3
farver 1.1.0 3.5.3
fastcluster 1.1.25 3.5.3
fastICA 1.2-1 3.5.3
fastLiquidAssociation 1.18.0 3.5.3
fastmatch 1.1-0 3.5.3
FastqCleaner 1.0.0 3.5.3
fastseg 1.28.0 3.5.3
fBasics 3042.89 3.5.3
FCBF 1.0.1 3.5.3
fCCAC 1.8.0 3.5.3
fCI 1.12.0 3.5.3
FD 1.0-12 3.5.3
fda 2.4.8 3.5.3
FDb.InfiniumMethylation.hg18 2.2.0 3.5.3
FDb.InfiniumMethylation.hg19 2.2.0 3.5.3
FDb.UCSC.tRNAs 1.0.1 3.5.3
fdrame 1.54.0 3.5.3
fdrtool 1.2.15 3.5.3
feather 0.3.3 3.5.3
feature 1.2.13 3.5.3
FELLA 1.2.0 3.5.3
FEM 3.10.0 3.5.3
ff 2.2-14 3.5.3
ffbase 0.12.7 3.5.3
FField 0.1.0 3.5.3
ffpe 1.26.0 3.5.3
ffpeExampleData 1.20.0 3.5.3
fftwtools 0.9-8 3.5.3
FGNet 3.16.0 3.5.3
fgsea 1.8.0 3.5.3
fibroEset 1.24.0 3.5.3
fields 9.6 3.5.3
filehash 2.4-1 3.5.3
filematrix 1.3 3.5.3
FindMyFriends 1.12.0 3.5.3
findpython 1.0.5 3.5.3
fingerprint 3.5.7 3.5.3
FIs 1.10.0 3.5.3
FISHalyseR 1.16.0 3.5.3
fission 1.2.0 3.5.3
fit.models 0.5-14 3.5.3
fitdistrplus 1.0-14 3.5.3
FitHiC 1.8.0 3.5.3
flagme 1.38.1 3.5.3
flare 1.6.0 3.5.3
flashClust 1.01-2 3.5.3
Fletcher2013a 1.18.0 3.5.3
Fletcher2013b 1.18.0 3.5.3
flexclust 1.4-0 3.5.3
flexdashboard 0.5.1.1 3.5.3
flexmix 2.3-15 3.5.3
flipflop 1.20.0 3.5.3
flowAI 1.12.7 3.5.3
flowBeads 1.20.1 3.5.3
flowBin 1.18.1 3.5.3
flowcatchR 1.16.0 3.5.3
flowCHIC 1.16.1 3.5.3
flowCL 1.20.1 3.5.3
flowClean 1.20.0 3.5.3
flowClust 3.20.1 3.5.3
flowCore 1.48.1 3.5.3
flowCyBar 1.18.1 3.5.3
flowDensity 1.16.1 3.5.3
flowFit 1.20.1 3.5.3
flowFitExampleData 1.18.0 3.5.3
flowFP 1.40.1 3.5.3
flowMap 1.20.1 3.5.3
flowMatch 1.18.1 3.5.3
flowMeans 1.42.1 3.5.3
flowMerge 2.30.1 3.5.3
flowPeaks 1.28.1 3.5.3
flowPloidy 1.8.0 3.5.3
flowPloidyData 1.8.0 3.5.3
flowPlots 1.30.1 3.5.3
flowQ 1.42.0 3.5.3
flowQB 2.10.1 3.5.3
flowQBData 1.8.0 3.5.3
FlowRepositoryR 1.14.1 3.5.3
FlowSOM 1.14.1 3.5.3
FlowSorted.Blood.450k 1.20.0 3.5.3
FlowSorted.Blood.EPIC 1.0.0 3.5.3
FlowSorted.CordBlood.450k 1.10.0 3.5.3
FlowSorted.CordBloodNorway.450k 1.8.0 3.5.3
FlowSorted.DLPFC.450k 1.18.0 3.5.3
flowStats 3.40.1 3.5.3
flowTime 1.6.1 3.5.3
flowTrans 1.34.1 3.5.3
flowType 2.20.1 3.5.3
flowUtils 1.46.1 3.5.3
flowViz 1.46.1 3.5.3
flowVS 1.14.1 3.5.3
flowWorkspace 3.30.2 3.5.3
flowWorkspaceData 2.18.0 3.5.3
fmcsR 1.24.0 3.5.3
fmsb 0.6.3 3.5.3
FNN 1.1.3 3.5.3
focalCall 1.16.0 3.5.3
FoldGO 1.0.2 3.5.3
fontBitstreamVera 0.1.1 3.5.3
fontLiberation 0.1.0 3.5.3
fontquiver 0.2.1 3.5.3
forcats 0.4.0 3.5.3
foreach 1.4.4 3.5.3
foreign 0.8-71 3.5.3
forestplot 1.7.2 3.5.3
formatR 1.6 3.5.3
Formula 1.2-3 3.5.3
formula.tools 1.7.1 3.5.3
FourCSeq 1.16.0 3.5.3
fpc 2.1-11.1 3.5.3
freetypeharfbuzz 0.2.5 3.5.3
FRGEpistasis 1.18.0 3.5.3
frma 1.34.0 3.5.3
frmaExampleData 1.18.0 3.5.3
frmaTools 1.34.0 3.5.3
fs 1.2.7 3.5.3
FSelector 0.31 3.5.3
FunChIP 1.8.0 3.5.3
FunciSNP 1.26.0 3.5.3
FunciSNP.data 1.18.0 3.5.3
functional 0.6 3.5.3
funtooNorm 1.6.0 3.5.3
furrowSeg 1.10.0 3.5.3
futile.logger 1.4.3 3.5.3
futile.options 1.0.1 3.5.3
future 1.12.0 3.5.3
future.apply 1.2.0 3.5.3
GA 3.2 3.5.3
GA4GHclient 1.6.0 3.5.3
GA4GHshiny 1.4.0 3.5.3
gaga 2.28.1 3.5.3
gage 2.32.1 3.5.3
gageData 2.20.0 3.5.3
gaggle 1.50.0 3.5.3
gaia 2.26.0 3.5.3
gam 1.16 3.5.3
gamlss 5.1-3 3.5.3
gamlss.data 5.1-3 3.5.3
gamlss.dist 5.1-3 3.5.3
gap 1.1-22 3.5.3
GAprediction 1.8.1 3.5.3
garfield 1.10.0 3.5.3
GARS 1.2.0 3.5.3
gaschYHS 1.20.0 3.5.3
GateFinder 1.2.1 3.5.3
gatingMLData 2.22.0 3.5.3
gaucho 1.18.0 3.5.3
gbm 2.1.5 3.5.3
gbRd 0.4-11 3.5.3
gcapc 1.6.0 3.5.3
gcatest 1.12.0 3.5.3
gclus 1.3.2 3.5.3
gCMAP 1.26.0 3.5.3
gCMAPWeb 1.22.0 3.5.3
gCrisprTools 1.10.1 3.5.3
gcrma 2.54.0 3.5.3
gcspikelite 1.20.0 3.5.3
gdata 2.18.0 3.5.3
GDCRNATools 1.2.1 3.5.3
GDSArray 1.2.0 3.5.3
gdsfmt 1.18.1 3.5.3
gdtools 0.1.8 3.5.3
geecc 1.16.1 3.5.3
geeM 0.10.1 3.5.3
geepack 1.2-1 3.5.3
GEM 1.8.0 3.5.3
genalg 0.2.0 3.5.3
genArise 1.58.0 3.5.3
genbankr 1.10.0 3.5.3
GeneAccord 1.0.0 3.5.3
GeneAnswers 2.24.0 3.5.3
geneAttribution 1.8.0 3.5.3
GeneBreak 1.12.0 3.5.3
geneClassifiers 1.6.0 3.5.3
GeneExpressionSignature 1.28.0 3.5.3
genefilter 1.64.0 3.5.3
genefu 2.14.0 3.5.3
GeneGA 1.32.0 3.5.3
GeneGeneInteR 1.8.0 3.5.3
geneLenDataBase 1.18.0 3.5.3
GeneMeta 1.54.0 3.5.3
GeneNet 1.2.13 3.5.3
GeneNetworkBuilder 1.24.1 3.5.3
GeneOverlap 1.18.0 3.5.3
geneplast 1.8.0 3.5.3
geneplotter 1.60.0 3.5.3
geneRecommender 1.54.0 3.5.3
GeneRegionScan 1.38.0 3.5.3
generegulation 1.4.0 3.5.3
generics 0.0.2 3.5.3
geneRxCluster 1.18.0 3.5.3
GeneSelectMMD 2.26.0 3.5.3
GeneSelector 2.32.0 3.5.3
GENESIS 2.12.4 3.5.3
GeneStructureTools 1.2.1 3.5.3
geNetClassifier 1.22.0 3.5.3
genetics 1.3.8.1.1 3.5.3
GeneticsDesign 1.50.0 3.5.3
GeneticsPed 1.44.0 3.5.3
geneXtendeR 1.8.0 3.5.3
GENIE3 1.4.3 3.5.3
GenKern 1.2-60 3.5.3
GENLIB 1.0.6 3.5.3
genoCN 1.34.0 3.5.3
GenoGAM 2.0.3 3.5.3
genomation 1.14.0 3.5.3
genomationData 1.14.0 3.5.3
GenomeGraphs 1.42.0 3.5.3
GenomeInfoDb 1.18.2 3.5.3
GenomeInfoDbData 1.2.0 3.5.3
genomeIntervals 1.38.0 3.5.3
genomes 3.12.0 3.5.3
genomewidesnp5Crlmm 1.0.6 3.5.3
genomewidesnp6Crlmm 1.0.7 3.5.3
GenomicAlignments 1.18.1 3.5.3
GenomicDataCommons 1.6.0 3.5.3
GenomicFeatures 1.34.8 3.5.3
GenomicFiles 1.18.0 3.5.3
GenomicInteractions 1.16.0 3.5.3
GenomicRanges 1.34.0 3.5.3
GenomicScores 1.6.0 3.5.3
GenomicTuples 1.16.0 3.5.3
Genominator 1.36.0 3.5.3
genoset 1.38.0 3.5.3
genotypeeval 1.14.0 3.5.3
genphen 1.10.3 3.5.3
GenRank 1.10.0 3.5.3
GenSA 1.1.7 3.5.3
GenVisR 1.14.2 3.5.3
GeoDE 1.0 3.5.3
GEOmap 2.4-4 3.5.3
GEOmetadb 1.44.0 3.5.3
geometry 0.4.1 3.5.3
GEOquery 2.50.5 3.5.3
GEOsubmission 1.34.0 3.5.3
gep2pep 1.2.0 3.5.3
gespeR 1.14.1 3.5.3
getopt 1.20.3 3.5.3
GetoptLong 0.1.7 3.5.3
GeuvadisTranscriptExpr 1.10.0 3.5.3
geuvPack 1.14.0 3.5.3
geuvStore2 1.12.0 3.5.3
GEWIST 1.26.0 3.5.3
GFA 1.0.3 3.5.3
GGally 1.4.0 3.5.3
GGBase 3.44.0 3.5.3
ggbeeswarm 0.6.0 3.5.3
ggbio 1.30.0 3.5.3
ggcorrplot 0.1.2 3.5.3
ggcyto 1.10.2 3.5.3
GGdata 1.20.0 3.5.3
ggdendro 0.1-20 3.5.3
ggExtra 0.8 3.5.3
ggforce 0.2.1 3.5.3
ggfortify 0.4.6 3.5.3
ggimage 0.2.1 3.5.3
ggm 2.3 3.5.3
ggmcmc 1.2 3.5.3
ggnetwork 0.5.1 3.5.3
ggplot2 3.1.1 3.5.3
ggplotify 0.0.3 3.5.3
ggpmisc 0.3.1 3.5.3
ggpubr 0.2 3.5.3
ggraph 1.0.2 3.5.3
ggrepel 0.8.0 3.5.3
ggridges 0.5.1 3.5.3
ggsci 2.9 3.5.3
ggseqlogo 0.1 3.5.3
ggsignif 0.5.0 3.5.3
ggtern 3.1.0 3.5.3
ggthemes 4.1.1 3.5.3
GGtools 5.18.0 3.5.3
ggtree 1.14.6 3.5.3
ggvis 0.4.4 3.5.3
gh 1.0.1 3.5.3
GIGSEA 1.0.0 3.5.3
GIGSEAdata 1.0.0 3.5.3
girafe 1.34.0 3.5.3
GISPA 1.6.0 3.5.3
gistr 0.4.2 3.5.3
git2r 0.25.2 3.5.3
GLAD 2.46.0 3.5.3
glasso 1.10 3.5.3
Glimma 1.10.1 3.5.3
glm2 1.2.1 3.5.3
glmnet 2.0-16 3.5.3
glmSparseNet 1.0.0 3.5.3
GlobalAncova 4.0.0 3.5.3
GlobalOptions 0.1.0 3.5.3
globals 0.12.4 3.5.3
globalSeq 1.10.1 3.5.3
globaltest 5.36.0 3.5.3
glue 1.3.1 3.5.3
GmapGenome.Hsapiens.rCRS 1.0 3.5.3
gmapR 1.24.2 3.5.3
gmm 1.6-2 3.5.3
gmodels 2.18.1 3.5.3
gmp 0.5-13.5 3.5.3
GMRP 1.10.1 3.5.3
GO.db 3.7.0 3.5.3
GOexpress 1.16.1 3.5.3
goftest 1.1-1 3.5.3
GOfuncR 1.2.0 3.5.3
GOFunction 1.30.0 3.5.3
golubEsets 1.24.0 3.5.3
GoogleGenomics 2.4.0 3.5.3
googleVis 0.6.3 3.5.3
GOpro 1.8.0 3.5.3
goProfiles 1.44.0 3.5.3
goric 1.1-0 3.5.3
GOSemSim 2.8.0 3.5.3
goseq 1.34.1 3.5.3
GOSim 1.20.0 3.5.3
goSTAG 1.6.1 3.5.3
GOstats 2.48.0 3.5.3
GOsummaries 2.18.0 3.5.3
GOTHiC 1.18.1 3.5.3
goTools 1.56.0 3.5.3
gower 0.2.0 3.5.3
gpart 1.0.3 3.5.3
gplots 3.0.1.1 3.5.3
gpls 1.54.0 3.5.3
gprege 1.26.0 3.5.3
gProfileR 0.6.7 3.5.3
gptk 1.08 3.5.3
gQTLBase 1.14.0 3.5.3
gQTLstats 1.14.1 3.5.3
gRain 1.3-0 3.5.3
graph 1.60.0 3.5.3
GraphAlignment 1.46.0 3.5.3
GraphAT 1.54.0 3.5.3
graphics 3.5.3 3.5.3
graphite 1.28.2 3.5.3
GraphPAC 1.24.0 3.5.3
grasp2db 1.1.0 3.5.3
gRbase 1.8-3.4 3.5.3
grDevices 3.5.3 3.5.3
GRENITS 1.34.0 3.5.3
GreyListChIP 1.14.0 3.5.3
grid 3.5.3 3.5.3
gridBase 0.4-7 3.5.3
gridExtra 2.3 3.5.3
gridGraphics 0.3-0 3.5.3
gridSVG 1.6-0 3.5.3
grImport 0.9-1.1 3.5.3
GRmetrics 1.8.1 3.5.3
grndata 1.14.0 3.5.3
groHMM 1.16.0 3.5.3
grr 0.9.5 3.5.3
GRridge 1.6.0 3.5.3
GSA 1.03.1 3.5.3
GSALightning 1.10.0 3.5.3
GSAR 1.16.0 3.5.3
GSBenchMark 1.2.0 3.5.3
GSCA 2.12.0 3.5.3
GSE62944 1.10.0 3.5.3
GSEABase 1.44.0 3.5.3
GSEABenchmarkeR 1.2.1 3.5.3
GSEAlm 1.42.0 3.5.3
gsean 1.2.1 3.5.3
gskb 1.14.0 3.5.3
gsl 2.1-6 3.5.3
gsmoothr 0.1.7 3.5.3
GSReg 1.16.0 3.5.3
GSRI 2.30.0 3.5.3
gss 2.1-9 3.5.3
gsubfn 0.7 3.5.3
GSVA 1.30.0 3.5.3
GSVAdata 1.18.0 3.5.3
gtable 0.3.0 3.5.3
gtools 3.8.1 3.5.3
gtrellis 1.14.0 3.5.3
GUIDEseq 1.12.1 3.5.3
Guitar 1.20.1 3.5.3
Gviz 1.26.5 3.5.3
gwascat 2.14.0 3.5.3
GWASdata 1.20.0 3.5.3
GWASExactHW 1.01 3.5.3
GWASTools 1.28.0 3.5.3
gwasurvivr 1.0.0 3.5.3
gWidgets 0.0-54.1 3.5.3
gWidgets2 1.0-8 3.5.3
gWidgets2RGtk2 1.0-7 3.5.3
gWidgetsRGtk2 0.0-86 3.5.3
gWidgetstcltk 0.0-55 3.5.3
h5vc 2.16.0 3.5.3
h5vcData 2.2.0 3.5.3
hapFabia 1.24.0 3.5.3
haplo.stats 1.7.9 3.5.3
hapmap100khind 1.24.0 3.5.3
hapmap100kxba 1.24.0 3.5.3
hapmap500knsp 1.24.0 3.5.3
hapmap500ksty 1.24.0 3.5.3
hapmapsnp5 1.24.0 3.5.3
hapmapsnp6 1.24.0 3.5.3
harbChIP 1.20.0 3.5.3
HardyWeinberg 1.6.2 3.5.3
Harman 1.10.0 3.5.3
HarmanData 1.10.0 3.5.3
HarmonizedTCGAData 1.4.0 3.5.3
Harshlight 1.54.0 3.5.3
hash 2.2.6.1 3.5.3
hashmap 0.2.2 3.5.3
haven 2.1.0 3.5.3
HD2013SGI 1.22.0 3.5.3
HDCytoData 1.2.11 3.5.3
HDF5Array 1.10.1 3.5.3
hdf5r 1.1.1 3.5.3
HDTD 1.16.0 3.5.3
healthyFlowData 1.20.0 3.5.3
heatmap.plus 1.3 3.5.3
heatmap3 1.1.6 3.5.3
heatmaply 0.15.2 3.5.3
heatmaps 1.6.0 3.5.3
Heatplus 2.28.0 3.5.3
HEEBOdata 1.20.0 3.5.3
HelloRanges 1.8.0 3.5.3
HelloRangesData 1.8.0 3.5.3
HELP 1.40.0 3.5.3
HEM 1.54.0 3.5.3
hexbin 1.27.2 3.5.3
hgfocus.db 3.2.3 3.5.3
hgfocuscdf 2.18.0 3.5.3
hgfocusprobe 2.18.0 3.5.3
hgu133a.db 3.2.3 3.5.3
hgu133a2.db 3.2.3 3.5.3
hgu133abarcodevecs 1.20.0 3.5.3
hgu133acdf 2.18.0 3.5.3
hgu133afrmavecs 1.5.0 3.5.3
hgu133aprobe 2.18.0 3.5.3
hgu133atagcdf 2.18.0 3.5.3
hgu133atagprobe 2.18.0 3.5.3
hgu133plus2.db 3.2.3 3.5.3
hgu133plus2barcodevecs 1.20.0 3.5.3
hgu133plus2cdf 2.18.0 3.5.3
hgu133plus2CellScore 1.2.0 3.5.3
hgu133plus2frmavecs 1.5.0 3.5.3
hgu133plus2probe 2.18.0 3.5.3
hgu2beta7 1.22.0 3.5.3
hgu95a.db 3.2.3 3.5.3
hgu95acdf 2.18.0 3.5.3
hgu95av2 2.2.0 3.5.3
hgu95av2.db 3.2.3 3.5.3
hgu95av2cdf 2.18.0 3.5.3
hgu95av2probe 2.18.0 3.5.3
hgug4112a.db 3.2.3 3.5.3
HH 3.1-35 3.5.3
hiAnnotator 1.16.0 3.5.3
HIBAG 1.18.1 3.5.3
HiCBricks 1.0.0 3.5.3
HiCcompare 1.4.0 3.5.3
HiCDataHumanIMR90 1.2.0 3.5.3
HiCDataLymphoblast 1.18.0 3.5.3
hicrep 1.6.0 3.5.3
hierGWAS 1.12.0 3.5.3
hierinf 1.0.0 3.5.3
highcharter 0.7.0 3.5.3
highlight 0.4.7.2 3.5.3
highr 0.8 3.5.3
highthroughputassays 1.4.1 3.5.3
Hiiragi2013 1.18.0 3.5.3
HilbertCurve 1.12.0 3.5.3
HilbertVis 1.40.0 3.5.3
HilbertVisGUI 1.40.0 3.5.3
hipathia 1.4.1 3.5.3
hiReadsProcessor 1.18.0 3.5.3
HIREewas 1.0.2 3.5.3
HiTC 1.26.0 3.5.3
HIVcDNAvantWout03 1.22.0 3.5.3
HiveR 0.3.42 3.5.3
hmdbQuery 1.2.0 3.5.3
Hmisc 4.2-0 3.5.3
HMMcopy 1.24.0 3.5.3
HMP16SData 1.2.1 3.5.3
hms 0.4.2 3.5.3
hmyriB36 1.18.0 3.5.3
hom.Dm.inp.db 3.1.2 3.5.3
hom.Hs.inp.db 3.1.2 3.5.3
hom.Mm.inp.db 3.1.2 3.5.3
hom.Rn.inp.db 3.1.2 3.5.3
hom.Sc.inp.db 3.1.2 3.5.3
Homo.sapiens 1.3.1 3.5.3
hopach 2.42.0 3.5.3
howmany 0.3-1 3.5.3
HPAanalyze 1.0.0 3.5.3
hpar 1.24.0 3.5.3
HSMMSingleCell 1.2.0 3.5.3
htmlTable 1.13.1 3.5.3
htmltools 0.3.6 3.5.3
HTMLUtils 0.1.7 3.5.3
htmlwidgets 1.3 3.5.3
HTqPCR 1.36.0 3.5.3
HTSanalyzeR 2.34.1 3.5.3
HTSCluster 2.0.8 3.5.3
HTSeqGenie 4.12.0 3.5.3
htSeqTools 1.30.0 3.5.3
HTSFilter 1.22.1 3.5.3
httpcode 0.2.0 3.5.3
httptest 3.2.2 3.5.3
httpuv 1.5.1 3.5.3
httr 1.4.0 3.5.3
hu6800.db 3.2.3 3.5.3
huge 1.3.2 3.5.3
hugene10sttranscriptcluster.db 8.7.0 3.5.3
human.db0 3.7.1 3.5.3
human370v1cCrlmm 1.0.2 3.5.3
human610quadv1bCrlmm 1.0.3 3.5.3
HumanAffyData 1.8.0 3.5.3
humanCHRLOC 2.1.6 3.5.3
humanStemCell 0.22.0 3.5.3
hunspell 3.0 3.5.3
hwriter 1.3.2 3.5.3
HybridMTest 1.26.0 3.5.3
hyperdraw 1.34.0 3.5.3
hypergea 1.3.6 3.5.3
hypergraph 1.54.0 3.5.3
iASeq 1.26.1 3.5.3
iasva 1.0.1 3.5.3
iBBiG 1.26.0 3.5.3
ibh 1.30.0 3.5.3
iBMQ 1.22.0 3.5.3
ic.infer 1.1-6 3.5.3
iC10 1.5 3.5.3
iC10TrainingData 1.3.1 3.5.3
ica 1.0-2 3.5.3
iCARE 1.10.3 3.5.3
Icens 1.54.0 3.5.3
icetea 1.0.1 3.5.3
iCheck 1.12.0 3.5.3
iChip 1.36.0 3.5.3
iCluster 2.1.0 3.5.3
iClusterPlus 1.18.0 3.5.3
iCNV 1.2.1 3.5.3
iCOBRA 1.10.0 3.5.3
ICS 1.3-1 3.5.3
ICSNP 1.1-1 3.5.3
ideal 1.6.1 3.5.3
IdeoViz 1.18.0 3.5.3
idiogram 1.58.0 3.5.3
IdMappingAnalysis 1.26.0 3.5.3
IdMappingRetrieval 1.30.0 3.5.3
IDPmisc 1.1.19 3.5.3
idr 1.2 3.5.3
ifultools 2.0-5 3.5.3
iGC 1.12.0 3.5.3
igraph 1.2.4 3.5.3
igraphdata 1.0.1 3.5.3
igvR 1.2.0 3.5.3
IHW 1.10.1 3.5.3
IHWpaper 1.10.0 3.5.3
Illumina450ProbeVariants.db 1.18.0 3.5.3
IlluminaDataTestFiles 1.20.0 3.5.3
IlluminaHumanMethylation450kanno.ilmn12.hg19 0.6.0 3.5.3
IlluminaHumanMethylation450kmanifest 0.4.0 3.5.3
IlluminaHumanMethylationEPICanno.ilm10b2.hg19 0.6.0 3.5.3
IlluminaHumanMethylationEPICanno.ilm10b4.hg19 0.6.0 3.5.3
IlluminaHumanMethylationEPICmanifest 0.3.0 3.5.3
illuminaHumanv1.db 1.26.0 3.5.3
illuminaHumanv2.db 1.26.0 3.5.3
illuminaHumanv3.db 1.26.0 3.5.3
illuminaHumanv4.db 1.26.0 3.5.3
illuminaio 0.24.0 3.5.3
imageHTS 1.32.1 3.5.3
IMAS 1.6.1 3.5.3
Imetagene 1.12.0 3.5.3
IMMAN 1.2.0 3.5.3
ImmuneSpaceR 1.10.5 3.5.3
immunoClust 1.14.1 3.5.3
imp4p 0.7 3.5.3
IMPCdata 1.18.0 3.5.3
import 1.1.0 3.5.3
ImpulseDE 1.8.0 3.5.3
ImpulseDE2 1.6.1 3.5.3
impute 1.56.0 3.5.3
imputeLCMD 2.0 3.5.3
INDEED 1.0.1 3.5.3
ineq 0.2-13 3.5.3
influenceR 0.1.0 3.5.3
infotheo 1.2.0 3.5.3
ini 0.3.1 3.5.3
inline 0.3.15 3.5.3
InPAS 1.14.2 3.5.3
INPower 1.18.0 3.5.3
INSPEcT 1.12.2 3.5.3
InTAD 1.2.3 3.5.3
intansv 1.22.0 3.5.3
InteractionSet 1.10.0 3.5.3
interactiveDisplay 1.20.0 3.5.3
interactiveDisplayBase 1.20.0 3.5.3
IntEREst 1.6.2 3.5.3
intergraph 2.0-2 3.5.3
InterMineR 1.4.1 3.5.3
intervals 0.15.1 3.5.3
IntramiRExploreR 1.4.0 3.5.3
inum 1.0-0 3.5.3
InvariantCausalPrediction 0.7-2 3.5.3
inveRsion 1.30.0 3.5.3
IONiseR 2.6.0 3.5.3
iontreeData 1.18.0 3.5.3
iPAC 1.26.0 3.5.3
ipdDb 1.0.0 3.5.3
ipflasso 0.1 3.5.3
IPO 1.8.1 3.5.3
IPPD 1.30.0 3.5.3
ipred 0.9-8 3.5.3
IRanges 2.16.0 3.5.3
IrisSpatialFeatures 1.6.0 3.5.3
irlba 2.3.3 3.5.3
irr 0.84.1 3.5.3
isa2 0.3.5 3.5.3
iSEE 1.2.4 3.5.3
iSeq 1.34.0 3.5.3
ismev 1.42 3.5.3
Iso 0.0-17 3.5.3
isobar 1.28.1 3.5.3
IsoCorrectoR 1.0.5 3.5.3
IsoformSwitchAnalyzeR 1.4.0 3.5.3
IsoGene 1.0-24 3.5.3
IsoGeneGUI 2.18.0 3.5.3
ISoLDE 1.10.1 3.5.3
isomiRs 1.10.1 3.5.3
isva 1.9 3.5.3
ITALICS 2.42.0 3.5.3
ITALICSData 2.20.0 3.5.3
iterativeBMA 1.40.0 3.5.3
iterativeBMAsurv 1.40.0 3.5.3
iterators 1.0.10 3.5.3
iterClust 1.4.0 3.5.3
iteremoval 1.2.0 3.5.3
itertools 0.1-3 3.5.3
IVAS 2.2.1 3.5.3
ivygapSE 1.4.0 3.5.3
IWTomics 1.6.0 3.5.3
Iyer517 1.24.0 3.5.3
jackstraw 1.3 3.5.3
JADE 2.0-1 3.5.3
JASPAR2014 1.18.0 3.5.3
JASPAR2016 1.10.0 3.5.3
JASPAR2018 1.1.1 3.5.3
JctSeqData 1.12.0 3.5.3
joda 1.30.0 3.5.3
jomo 2.6-7 3.5.3
jpeg 0.1-8 3.5.3
jsonlite 1.6 3.5.3
JunctionSeq 1.12.1 3.5.3
kableExtra 1.1.0 3.5.3
kappalab 0.4-7 3.5.3
karyoploteR 1.8.8 3.5.3
KCsmart 2.40.0 3.5.3
kebabs 1.16.0 3.5.3
KEGG.db 3.2.3 3.5.3
KEGGandMetacoreDzPathwaysGEO 1.2.0 3.5.3
KEGGdzPathwaysGEO 1.20.0 3.5.3
KEGGgraph 1.42.0 3.5.3
KEGGlincs 1.8.0 3.5.3
keggorthology 2.34.0 3.5.3
KEGGprofile 1.24.0 3.5.3
KEGGREST 1.22.0 3.5.3
kernlab 0.9-27 3.5.3
KernSmooth 2.23-15 3.5.3
kidpack 1.24.0 3.5.3
kimisc 0.4 3.5.3
kimod 1.10.0 3.5.3
kinship2 1.6.4 3.5.3
KinSwingR 1.0.3 3.5.3
kissDE 1.2.0 3.5.3
kknn 1.3.1 3.5.3
klaR 0.6-14 3.5.3
km.ci 0.5-2 3.5.3
KMsurv 0.1-5 3.5.3
knitcitations 1.0.8 3.5.3
knitr 1.22 3.5.3
knitrBootstrap 1.0.2 3.5.3
KOdata 1.8.0 3.5.3
kohonen 3.0.8 3.5.3
kpmt 0.1.0 3.5.3
ks 1.11.4 3.5.3
kza 4.1.0 3.5.3
labeling 0.3 3.5.3
labelled 2.1.0 3.5.3
laeken 0.5.0 3.5.3
lambda.r 1.2.3 3.5.3
LaplacesDemon 16.1.1 3.5.3
lapmix 1.48.0 3.5.3
lars 1.2 3.5.3
lasso2 1.2-20 3.5.3
lassopv 0.2.0 3.5.3
lassoshooting 0.1.5-1 3.5.3
later 0.8.0 3.5.3
latex2exp 0.4.0 3.5.3
lattice 0.20-38 3.5.3
latticeExtra 0.6-28 3.5.3
lava 1.6.5 3.5.3
lavaan 0.6-3 3.5.3
lazyeval 0.2.2 3.5.3
LBE 1.50.0 3.5.3
ldblock 1.12.1 3.5.3
LEA 2.4.0 3.5.3
leaps 3.0 3.5.3
LearnBayes 2.15.1 3.5.3
learnr 0.9.2.1 3.5.3
LedPred 1.16.0 3.5.3
leeBamViews 1.18.0 3.5.3
les 1.32.0 3.5.3
leukemiasEset 1.18.0 3.5.3
levi 1.0.0 3.5.3
lfa 1.12.0 3.5.3
libcoin 1.0-4 3.5.3
LiblineaR 2.10-8 3.5.3
LiebermanAidenHiC2009 0.20.0 3.5.3
liftOver 1.4.0 3.5.3
LIM 1.4.6 3.5.3
limma 3.38.3 3.5.3
limmaGUI 1.58.0 3.5.3
limSolve 1.5.5.3 3.5.3
LINC 1.10.0 3.5.3
LineagePulse 1.2.1 3.5.3
linkcomm 1.0-11 3.5.3
Linnorm 2.6.1 3.5.3
lintr 1.0.3 3.5.3
LiquidAssociation 1.36.0 3.5.3
listenv 0.7.0 3.5.3
ListerEtAlBSseq 1.14.0 3.5.3
listviewer 2.1.0 3.5.3
lmdme 1.24.0 3.5.3
lme4 1.1-21 3.5.3
lmerTest 3.1-0 3.5.3
LMGene 2.38.0 3.5.3
Lmoments 1.3-1 3.5.3
lmtest 0.9-36 3.5.3
LOBSTAHS 1.8.1 3.5.3
locfdr 1.1-8 3.5.3
locfit 1.5-9.1 3.5.3
loci2path 1.2.0 3.5.3
log4r 0.2 3.5.3
logging 0.9-107 3.5.3
logicFS 2.2.0 3.5.3
LogicReg 1.5.10 3.5.3
logistf 1.23 3.5.3
logitT 1.40.0 3.5.3
Logolas 1.6.0 3.5.3
logspline 2.1.12 3.5.3
lokern 1.1-8 3.5.3
lol 1.30.0 3.5.3
LOLA 1.12.0 3.5.3
longitudinal 1.1.12 3.5.3
loo 2.1.0 3.5.3
LoomExperiment 1.0.4 3.5.3
loose.rock 1.0.9 3.5.3
LowMACA 1.12.1 3.5.3
LowMACAAnnotation 0.99.3 3.5.3
LPE 1.56.0 3.5.3
LPEadj 1.42.0 3.5.3
lpNet 2.14.0 3.5.3
lpSolve 5.6.13 3.5.3
lpSolveAPI 5.5.2.0-17 3.5.3
lpsymphony 1.10.0 3.5.3
LRBaseDbi 1.0.0 3.5.3
lsa 0.73.1 3.5.3
LSD 4.0-0 3.5.3
lsei 1.2-0 3.5.3
lsmeans 2.30-0 3.5.3
lsr 0.5 3.5.3
lubridate 1.7.4 3.5.3
lumi 2.34.0 3.5.3
lumiBarnes 1.22.0 3.5.3
lumiHumanAll.db 1.22.0 3.5.3
lumiHumanIDMapping 1.10.1 3.5.3
LungCancerACvsSCCGEO 1.18.0 3.5.3
LungCancerLines 0.20.0 3.5.3
lungExpression 0.20.0 3.5.3
LVSmiRNA 1.32.0 3.5.3
lydata 1.8.0 3.5.3
LymphoSeq 1.10.0 3.5.3
LymphoSeqDB 0.99.2 3.5.3
M3C 1.4.1 3.5.3
M3D 1.16.0 3.5.3
M3DExampleData 1.8.0 3.5.3
M3Drop 1.8.1 3.5.3
maanova 1.52.0 3.5.3
macat 1.56.0 3.5.3
maCorrPlot 1.52.0 3.5.3
made4 1.56.0 3.5.3
MADSEQ 1.8.0 3.5.3
maEndToEnd 2.0.0 3.5.3
MafDb.1Kgenomes.phase1.hs37d5 3.7.1 3.5.3
MafDb.1Kgenomes.phase3.hs37d5 3.7.0 3.5.3
MafDb.ESP6500SI.V2.SSA137.hs37d5 3.7.0 3.5.3
MafDb.ExAC.r1.0.hs37d5 3.7.0 3.5.3
MafDb.gnomADex.r2.0.1.hs37d5 3.8.0 3.5.3
maftools 1.8.10 3.5.3
MAGeCKFlute 1.2.3 3.5.3
magic 1.5-9 3.5.3
magicaxis 2.0.7 3.5.3
magick 2.0 3.5.3
magrittr 1.5 3.5.3
maigesPack 1.46.0 3.5.3
makecdfenv 1.58.0 3.5.3
MALDIquant 1.19.2 3.5.3
MALDIquantForeign 0.12 3.5.3
mammaPrintData 1.18.0 3.5.3
manipulate 1.0.1 3.5.3
manipulateWidget 0.10.0 3.5.3
MANOR 1.54.0 3.5.3
manta 1.28.1 3.5.3
MantelCorr 1.52.0 3.5.3
mapdata 2.3.0 3.5.3
mAPKL 1.12.0 3.5.3
mAPKLData 1.14.0 3.5.3
mapplots 1.5.1 3.5.3
mapproj 1.2.6 3.5.3
maPredictDSC 1.20.0 3.5.3
maps 3.3.0 3.5.3
mapscape 1.6.0 3.5.3
maptools 0.9-5 3.5.3
maptpx 1.9-2 3.5.3
maptree 1.4-7 3.5.3
maqcExpression4plex 1.26.0 3.5.3
MAQCsubset 1.20.0 3.5.3
MAQCsubsetAFX 1.20.0 3.5.3
MAQCsubsetILM 1.20.0 3.5.3
markdown 0.9 3.5.3
marray 1.60.0 3.5.3
martini 1.2.0 3.5.3
maser 1.0.0 3.5.3
maSigPro 1.54.0 3.5.3
maskBAD 1.26.0 3.5.3
MASS 7.3-51.3 3.5.3
MassArray 1.34.1 3.5.3
massiR 1.18.0 3.5.3
MassSpecWavelet 1.48.1 3.5.3
MAST 1.8.2 3.5.3
matchBox 1.24.0 3.5.3
Matching 4.9-5 3.5.3
matlab 1.0.2 3.5.3
Matrix 1.2-17 3.5.3
Matrix.utils 0.9.7 3.5.3
matrixcalc 1.0-3 3.5.3
MatrixModels 0.4-1 3.5.3
MatrixRider 1.14.0 3.5.3
matrixStats 0.54.0 3.5.3
matter 1.8.3 3.5.3
MaxContrastProjection 1.6.1 3.5.3
maxLik 1.3-4 3.5.3
maxstat 0.7-25 3.5.3
MBA 0.0-9 3.5.3
MBAmethyl 1.16.0 3.5.3
MBASED 1.16.0 3.5.3
MBCB 1.36.0 3.5.3
mboost 2.9-1 3.5.3
mBPCR 1.36.0 3.5.3
MBttest 1.10.0 3.5.3
mcaGUI 1.30.0 3.5.3
MCbiclust 1.6.1 3.5.3
mcbiopi 1.1.6 3.5.3
MCL 1.0 3.5.3
mclust 5.4.3 3.5.3
mcmc 0.9-6 3.5.3
MCMCglmm 2.28 3.5.3
MCMCpack 1.4-4 3.5.3
MCRestimate 2.38.0 3.5.3
mCSEA 1.2.2 3.5.3
mCSEAdata 1.2.0 3.5.3
mcsurvdata 1.0.0 3.5.3
mda 0.4-10 3.5.3
mdgsa 1.14.0 3.5.3
mdp 1.2.1 3.5.3
mdqc 1.44.0 3.5.3
MDTS 1.2.0 3.5.3
MEAL 1.12.0 3.5.3
MeasurementError.cor 1.54.0 3.5.3
MEDIPS 1.34.0 3.5.3
MEDIPSData 1.18.0 3.5.3
MEDME 1.42.0 3.5.3
MEEBOdata 1.20.0 3.5.3
mefa 3.2-7 3.5.3
MEIGOR 1.16.0 3.5.3
memoise 1.1.0 3.5.3
memuse 4.0-0 3.5.3
MergeMaid 2.54.0 3.5.3
Mergeomics 1.10.0 3.5.3
MeSH.Aca.eg.db 1.11.0 3.5.3
MeSH.AOR.db 1.11.0 3.5.3
MeSH.Bsu.168.eg.db 1.11.0 3.5.3
MeSH.Cel.eg.db 1.11.0 3.5.3
MeSH.db 1.11.0 3.5.3
MeSH.Hsa.eg.db 1.11.0 3.5.3
MeSH.PCR.db 1.11.0 3.5.3
MeSH.Syn.eg.db 1.11.0 3.5.3
MeSHDbi 1.18.0 3.5.3
meshes 1.8.0 3.5.3
meshr 1.18.0 3.5.3
MESS 0.5.5 3.5.3
messina 1.18.0 3.5.3
metaArray 1.60.0 3.5.3
Metab 1.16.1 3.5.3
metabomxtr 1.16.1 3.5.3
MetaboSignal 1.12.0 3.5.3
metaCCA 1.10.0 3.5.3
MetaCyto 1.4.1 3.5.3
metafor 2.0-0 3.5.3
metagene 2.14.0 3.5.3
metagenomeFeatures 2.2.3 3.5.3
metagenomeSeq 1.24.1 3.5.3
MetaGxBreast 1.2.0 3.5.3
MetaGxOvarian 1.2.0 3.5.3
MetaGxPancreas 1.2.0 3.5.3
metahdep 1.40.0 3.5.3
metaMA 3.1.2 3.5.3
metaMS 1.18.1 3.5.3
metaMSdata 1.18.0 3.5.3
MetaNeighbor 1.2.1 3.5.3
metap 1.1 3.5.3
metaSeq 1.22.1 3.5.3
metaseqR 1.22.1 3.5.3
metavizr 1.6.2 3.5.3
MetCirc 1.12.1 3.5.3
methimpute 1.4.1 3.5.3
methInheritSim 1.4.1 3.5.3
methods 3.5.3 3.5.3
MethPed 1.10.1 3.5.3
MethTargetedNGS 1.14.0 3.5.3
methVisual 1.34.0 3.5.3
methyAnalysis 1.24.0 3.5.3
MethylAid 1.16.0 3.5.3
MethylAidData 1.14.0 3.5.3
methylationArrayAnalysis 1.4.0 3.5.3
methylGSA 1.0.4 3.5.3
methylInheritance 1.6.1 3.5.3
methylKit 1.8.1 3.5.3
MethylMix 2.12.0 3.5.3
methylMnM 1.20.0 3.5.3
methylPipe 1.16.0 3.5.3
MethylSeekR 1.22.0 3.5.3
methylumi 2.28.0 3.5.3
methyvim 1.4.0 3.5.3
methyvimData 1.4.0 3.5.3
MetID 1.0.0 3.5.3
MetNet 1.0.1 3.5.3
mfa 1.4.1 3.5.3
Mfuzz 2.42.0 3.5.3
mgcv 1.8-28 3.5.3
MGFM 1.16.0 3.5.3
MGFR 1.8.1 3.5.3
mgsa 1.30.0 3.5.3
mGSZ 1.0 3.5.3
mgug4104a.db 3.2.3 3.5.3
mhsmm 0.4.16 3.5.3
mice 3.4.0 3.5.3
MiChip 1.36.0 3.5.3
microbenchmark 1.4-6 3.5.3
microbiome 1.4.2 3.5.3
microRNA 1.40.0 3.5.3
microRNAome 1.4.0 3.5.3
MIGSA 1.6.0 3.5.3
MIGSAdata 1.6.0 3.5.3
mimager 1.6.0 3.5.3
mime 0.6 3.5.3
MIMOSA 1.20.1 3.5.3
MineICA 1.22.0 3.5.3
minet 3.40.0 3.5.3
minfi 1.28.4 3.5.3
minfiData 0.28.0 3.5.3
minfiDataEPIC 1.8.0 3.5.3
MinimumDistance 1.26.0 3.5.3
minionSummaryData 1.12.0 3.5.3
miniUI 0.1.1.1 3.5.3
minpack.lm 1.2-1 3.5.3
minqa 1.2.4 3.5.3
MiPP 1.54.0 3.5.3
MIRA 1.4.1 3.5.3
MiRaGE 1.24.1 3.5.3
mirbase.db 1.2.0 3.5.3
miRBaseConverter 1.6.0 3.5.3
miRBaseVersions.db 1.1.0 3.5.3
miRcomp 1.12.0 3.5.3
miRcompData 1.12.0 3.5.3
mirIntegrator 1.12.0 3.5.3
miRLAB 1.12.0 3.5.3
miRmine 1.4.0 3.5.3
mirna10cdf 2.18.0 3.5.3
miRNAmeConverter 1.10.0 3.5.3
miRNApath 1.42.0 3.5.3
miRNAtap 1.16.0 3.5.3
miRNAtap.db 0.99.10 3.5.3
miRNATarget 1.20.0 3.5.3
miRSM 1.0.0 3.5.3
miRsponge 1.8.2 3.5.3
Mirsynergy 1.18.0 3.5.3
misc3d 0.8-4 3.5.3
miscTools 0.6-22 3.5.3
missForest 1.4 3.5.3
missMethyl 1.16.0 3.5.3
missRows 1.2.0 3.5.3
mitml 0.3-7 3.5.3
mitoODE 1.20.1 3.5.3
mitoODEdata 1.18.0 3.5.3
mixOmics 6.6.2 3.5.3
mixsmsn 1.1-5 3.5.3
mixsqp 0.1-97 3.5.3
mixtools 1.1.0 3.5.3
mlbench 2.1-1 3.5.3
MLInterfaces 1.62.1 3.5.3
MLmetrics 1.1.1 3.5.3
MLP 1.30.0 3.5.3
mlr 2.13 3.5.3
MLSeq 2.0.1 3.5.3
MMDiff2 1.10.0 3.5.3
MMDiffBamSubset 1.18.0 3.5.3
MmPalateMiRNA 1.32.0 3.5.3
mnormt 1.5-5 3.5.3
MODA 1.8.0 3.5.3
modeest 2.3.3 3.5.3
ModelMetrics 1.2.2 3.5.3
modelr 0.1.4 3.5.3
modeltools 0.2-22 3.5.3
modes 0.7.0 3.5.3
mogene10sttranscriptcluster.db 8.7.0 3.5.3
mogsa 1.16.0 3.5.3
moments 0.14 3.5.3
mongolite 2.0.1 3.5.3
monocle 2.10.1 3.5.3
MoonlightR 1.8.0 3.5.3
MoPS 1.16.0 3.5.3
mosaics 2.20.0 3.5.3
mosaicsExample 1.20.0 3.5.3
motifbreakR 1.12.0 3.5.3
motifcounter 1.6.0 3.5.3
MotifDb 1.24.1 3.5.3
motifmatchr 1.4.0 3.5.3
motifRG 1.26.0 3.5.3
motifStack 1.26.0 3.5.3
MotIV 1.38.0 3.5.3
mouse4302.db 3.2.3 3.5.3
mouse4302barcodevecs 1.20.0 3.5.3
mouse4302cdf 2.18.0 3.5.3
mouse4302frmavecs 1.5.0 3.5.3
MPFE 1.18.0 3.5.3
mpm 1.0-22 3.5.3
mpmi 0.42 3.5.3
mppa 1.0 3.5.3
mpra 1.4.1 3.5.3
MPRAnalyze 1.0.1 3.5.3
mQTL 1.0 3.5.3
mRMRe 2.0.9 3.5.3
msa 1.14.0 3.5.3
MSBdata 1.0.0 3.5.3
msd16s 1.2.0 3.5.3
msdata 0.22.0 3.5.3
msgbsR 1.6.1 3.5.3
MSGFgui 1.16.1 3.5.3
MSGFplus 1.16.1 3.5.3
msgps 1.3.1 3.5.3
msm 1.6.7 3.5.3
MSMB 1.0.2 3.5.3
msmsEDA 1.20.1 3.5.3
msmsTests 1.20.1 3.5.3
MSnbase 2.8.3 3.5.3
MSnID 1.16.1 3.5.3
msPurity 1.8.1 3.5.3
msPurityData 1.10.0 3.5.3
msqc1 1.10.0 3.5.3
MSstats 3.14.1 3.5.3
MSstatsBioData 1.4.0 3.5.3
MSstatsQC 2.0.1 3.5.3
MSstatsQCgui 1.2.1 3.5.3
MSstatsTMT 1.1.2 3.5.3
mtbls2 1.12.0 3.5.3
MTseeker 1.0.6 3.5.3
MTseekerData 1.0.0 3.5.3
MUGAExampleData 1.2.0 3.5.3
Mulcom 1.32.0 3.5.3
Mulder2012 0.22.0 3.5.3
multcomp 1.4-10 3.5.3
MultiAssayExperiment 1.8.3 3.5.3
multiClust 1.12.0 3.5.3
multicool 0.1-10 3.5.3
MultiDataSet 1.10.0 3.5.3
multiHiCcompare 1.0.0 3.5.3
MultiMed 2.4.0 3.5.3
multiMiR 1.4.0 3.5.3
multiOmicsViz 1.6.0 3.5.3
multiscan 1.42.0 3.5.3
multtest 2.38.0 3.5.3
munsell 0.5.0 3.5.3
Mus.musculus 1.3.1 3.5.3
muscle 3.24.0 3.5.3
muStat 1.7.0 3.5.3
MutationalPatterns 1.8.0 3.5.3
MVCClass 1.56.0 3.5.3
mvoutData 1.18.0 3.5.3
mvoutlier 2.0.9 3.5.3
mvtnorm 1.0-10 3.5.3
MWASTools 1.6.0 3.5.3
mygene 1.18.0 3.5.3
myvariant 1.12.0 3.5.3
mzID 1.20.1 3.5.3
mzR 2.16.2 3.5.3
nabor 0.5.0 3.5.3
NADA 1.6-1 3.5.3
NADfinder 1.6.1 3.5.3
NanoStringDiff 1.12.0 3.5.3
NanoStringQCPro 1.14.0 3.5.3
NarrowPeaks 1.26.0 3.5.3
nat 1.8.11 3.5.3
nat.utils 0.5.1 3.5.3
NbClust 3.0 3.5.3
nbconvertR 1.0.2 3.5.3
NBPSeq 0.3.0 3.5.3
NBSplice 1.0.6 3.5.3
ncdf4 1.16.1 3.5.3
ncdfFlow 2.28.1 3.5.3
NCIgraph 1.30.0 3.5.3
NCIgraphData 1.18.0 3.5.3
ndexr 1.4.1 3.5.3
NeighborNet 1.0.0 3.5.3
nem 2.56.0 3.5.3
netbenchmark 1.14.0 3.5.3
netbiov 1.16.0 3.5.3
nethet 1.14.0 3.5.3
NetPathMiner 1.18.0 3.5.3
NetPreProc 1.1 3.5.3
netprioR 1.8.1 3.5.3
netReg 1.6.0 3.5.3
netresponse 1.42.0 3.5.3
NetSAM 1.22.0 3.5.3
netSmooth 1.2.0 3.5.3
network 1.15 3.5.3
networkBMA 2.22.0 3.5.3
networkD3 0.4 3.5.3
Neve2006 0.20.0 3.5.3
NGScopyData 1.2.0 3.5.3
nipals 0.5 3.5.3
NISTunits 1.0.1 3.5.3
nlcv 0.3.5 3.5.3
nleqslv 3.3.2 3.5.3
nlme 3.1-139 3.5.3
nloptr 1.2.1 3.5.3
NLP 0.2-0 3.5.3
nls2 0.2 3.5.3
NMF 0.21.0 3.5.3
NMFN 2.0 3.5.3
NMI 2.0 3.5.3
nnet 7.3-12 3.5.3
nnlasso 0.3 3.5.3
nnls 1.4 3.5.3
nnNorm 2.46.0 3.5.3
NOISeq 2.26.1 3.5.3
nondetects 2.12.0 3.5.3
nor1mix 1.2-3 3.5.3
norm 1.0-9.5 3.5.3
normalize450K 1.10.0 3.5.3
NormalyzerDE 1.0.0 3.5.3
NormqPCR 1.28.0 3.5.3
normr 1.8.0 3.5.3
nortest 1.0-4 3.5.3
Nozzle.R1 1.1-1 3.5.3
npGSEA 1.18.0 3.5.3
npsurv 0.4-0 3.5.3
NTW 1.32.0 3.5.3
nucleoSim 1.10.0 3.5.3
nucleR 2.14.0 3.5.3
nuCpos 1.0.1 3.5.3
nudge 1.48.0 3.5.3
numDeriv 2016.8-1 3.5.3
NuPoP 1.32.0 3.5.3
objectProperties 0.6.5 3.5.3
objectSignals 0.10.2 3.5.3
occugene 1.42.0 3.5.3
OCplus 1.56.0 3.5.3
odseq 1.10.0 3.5.3
OGSA 1.12.0 3.5.3
oligo 1.46.0 3.5.3
oligoClasses 1.44.0 3.5.3
oligoData 1.8.0 3.5.3
OLIN 1.60.0 3.5.3
OLINgui 1.56.0 3.5.3
OmaDB 1.2.2 3.5.3
omicade4 1.22.0 3.5.3
OmicCircos 1.20.0 3.5.3
omicplotR 1.2.1 3.5.3
omicRexposome 1.4.1 3.5.3
OmicsMarkeR 1.14.0 3.5.3
OMICsPCA 1.0.1 3.5.3
OMICsPCAdata 1.0.0 3.5.3
omicsPrint 1.2.1 3.5.3
Onassis 1.4.5 3.5.3
OnassisJavaLibs 1.4.2 3.5.3
oncomix 1.4.0 3.5.3
OncoScore 1.10.0 3.5.3
OncoSimulR 2.12.0 3.5.3
Oncotree 0.3.3 3.5.3
oneSENSE 1.4.1 3.5.3
onlineFDR 1.0.0 3.5.3
ontologyIndex 2.5 3.5.3
ontologyPlot 1.4 3.5.3
ontoProc 1.4.0 3.5.3
opencpu 2.1.1 3.5.3
openCyto 1.20.2 3.5.3
openPrimeR 1.4.1 3.5.3
openPrimeRui 1.4.1 3.5.3
openssl 1.3 3.5.3
openxlsx 4.1.0 3.5.3
operator.tools 1.6.3 3.5.3
oposSOM 2.0.0 3.5.3
oppar 1.10.0 3.5.3
optimx 2018-7.10 3.5.3
optparse 1.6.2 3.5.3
OPWeight 1.4.1 3.5.3
ORCME 2.0.2 3.5.3
OrderedList 1.54.0 3.5.3
ordinal 2019.3-9 3.5.3
ore 1.6.2 3.5.3
ORFik 1.2.1 3.5.3
org.Ag.eg.db 3.7.0 3.5.3
org.At.tair.db 3.7.0 3.5.3
org.Bt.eg.db 3.7.0 3.5.3
org.Ce.eg.db 3.7.0 3.5.3
org.Cf.eg.db 3.7.0 3.5.3
org.Dm.eg.db 3.7.0 3.5.3
org.Dr.eg.db 3.7.0 3.5.3
org.EcK12.eg.db 3.7.0 3.5.3
org.Gg.eg.db 3.7.0 3.5.3
org.Hs.eg.db 3.7.0 3.5.3
org.Mm.eg.db 3.7.0 3.5.3
org.Pt.eg.db 3.7.0 3.5.3
org.Rn.eg.db 3.7.0 3.5.3
org.Sc.sgd.db 3.7.0 3.5.3
org.Ss.eg.db 3.7.0 3.5.3
org.Xl.eg.db 3.7.0 3.5.3
Organism.dplyr 1.10.0 3.5.3
OrganismDbi 1.24.0 3.5.3
OrgMassSpecR 0.5-3 3.5.3
ORIClust 1.0-1 3.5.3
origami 1.0.0 3.5.3
orQA 0.2.1 3.5.3
OSAT 1.30.0 3.5.3
Oscope 1.12.1 3.5.3
OTUbase 1.32.0 3.5.3
OutlierD 1.46.0 3.5.3
outliers 0.14 3.5.3
OUTRIDER 1.0.4 3.5.3
PAA 1.16.0 3.5.3
packrat 0.5.0 3.5.3
PADOG 1.24.0 3.5.3
paintmap 1.0 3.5.3
paircompviz 1.20.0 3.5.3
pairsD3 0.1.0 3.5.3
pamr 1.56 3.5.3
pan 1.6 3.5.3
pandaR 1.14.0 3.5.3
pander 0.6.3 3.5.3
panelcn.mops 1.4.0 3.5.3
panp 1.52.0 3.5.3
PANR 1.28.1 3.5.3
PANTHER.db 1.0.4 3.5.3
PanVizGenerator 1.10.0 3.5.3
PAPi 1.22.1 3.5.3
parallel 3.5.3 3.5.3
parallelMap 1.3 3.5.3
ParamHelpers 1.12 3.5.3
parathyroidSE 1.20.0 3.5.3
parcor 0.2-6 3.5.3
parglms 1.14.0 3.5.3
parmigene 1.0.2 3.5.3
parody 1.40.0 3.5.3
party 1.3-3 3.5.3
partykit 1.2-3 3.5.3
pasilla 1.10.0 3.5.3
pasillaBamSubset 0.20.0 3.5.3
PasillaTranscriptExpr 1.10.0 3.5.3
Path2PPI 1.12.0 3.5.3
pathifier 1.20.0 3.5.3
PathNet 1.22.0 3.5.3
PathNetData 1.18.0 3.5.3
pathological 0.1-2 3.5.3
PathoStat 1.8.4 3.5.3
pathprint 1.12.0 3.5.3
pathprintGEOData 1.12.0 3.5.3
pathRender 1.50.0 3.5.3
pathVar 1.12.0 3.5.3
pathview 1.22.3 3.5.3
PathwaySplice 1.6.1 3.5.3
paxtoolsr 1.16.0 3.5.3
pbapply 1.4-0 3.5.3
Pbase 0.22.1 3.5.3
pbcmc 1.10.1 3.5.3
pbivnorm 0.6.0 3.5.3
pbkrtest 0.4-7 3.5.3
pcaExplorer 2.8.1 3.5.3
pcaGoPromoter 1.26.0 3.5.3
pcaGoPromoter.Hs.hg19 1.18.0 3.5.3
pcaGoPromoter.Mm.mm9 1.18.0 3.5.3
pcaGoPromoter.Rn.rn4 1.18.0 3.5.3
pcalg 2.6-0 3.5.3
pcaMethods 1.74.0 3.5.3
PCAN 1.10.0 3.5.3
pcaPP 1.9-73 3.5.3
PCHiCdata 1.10.0 3.5.3
PCIT 1.5-3 3.5.3
pcot2 1.50.0 3.5.3
PCpheno 1.44.0 3.5.3
pcxn 2.4.0 3.5.3
pcxnData 2.4.0 3.5.3
pd.atdschip.tiling 0.20.0 3.5.3
pd.charm.hg18.example 0.99.4 3.5.3
pd.genomewidesnp.5 3.14.1 3.5.3
pd.genomewidesnp.6 3.14.1 3.5.3
pd.hg.u133a.2 3.12.0 3.5.3
pd.hg.u95a 3.12.0 3.5.3
pd.hg.u95av2 3.12.0 3.5.3
pd.hg18.60mer.expr 3.12.0 3.5.3
pd.huex.1.0.st.v2 3.14.1 3.5.3
pd.hugene.1.0.st.v1 3.14.1 3.5.3
pd.mapping250k.nsp 3.12.0 3.5.3
pd.mapping250k.sty 3.12.0 3.5.3
pd.mapping50k.hind240 3.12.0 3.5.3
pd.mapping50k.xba240 3.12.0 3.5.3
pdftools 2.2 3.5.3
pdInfoBuilder 1.46.0 3.5.3
pdist 1.2 3.5.3
PECA 1.18.0 3.5.3
penalized 0.9-51 3.5.3
pepDat 1.2.0 3.5.3
PepsNMR 1.0.2 3.5.3
PepsNMRData 1.0.0 3.5.3
pepStat 1.16.0 3.5.3
pepXMLTab 1.16.1 3.5.3
PerfMeas 1.2.1 3.5.3
PerformanceAnalytics 1.5.2 3.5.3
permute 0.9-5 3.5.3
perturbatr 1.2.1 3.5.3
PFAM.db 3.7.0 3.5.3
PGA 1.12.1 3.5.3
pgca 1.6.1 3.5.3
PGPC 1.10.0 3.5.3
PGSEA 1.56.0 3.5.3
phangorn 2.5.3 3.5.3
phantasus 1.2.1 3.5.3
PharmacoGx 1.12.0 3.5.3
phastCons100way.UCSC.hg19 3.7.2 3.5.3
phastCons100way.UCSC.hg38 3.7.1 3.5.3
pheatmap 1.0.12 3.5.3
phenopath 1.6.7 3.5.3
phenoTest 1.30.0 3.5.3
PhenStat 2.18.1 3.5.3
philr 1.8.1 3.5.3
phosphonormalizer 1.6.0 3.5.3
phylobase 0.8.6 3.5.3
phyloseq 1.26.1 3.5.3
Pi 1.10.0 3.5.3
piano 1.22.0 3.5.3
picante 1.8 3.5.3
pickgene 1.54.0 3.5.3
PICS 2.26.0 3.5.3
Pigengene 1.8.1 3.5.3
pillar 1.3.1 3.5.3
pinfsc50 1.1.0 3.5.3
PING 2.26.0 3.5.3
pingr 1.1.2 3.5.3
pint 1.32.0 3.5.3
pixmap 0.4-11 3.5.3
pkgbuild 1.0.3 3.5.3
pkgconfig 2.0.2 3.5.3
pkgDepTools 1.48.0 3.5.3
pkgdown 1.3.0 3.5.3
pkgload 1.0.2 3.5.3
pkgmaker 0.27 3.5.3
plasFIA 1.10.0 3.5.3
plasmodiumanophelescdf 2.18.0 3.5.3
plateCore 1.40.1 3.5.3
plethy 1.20.0 3.5.3
plgem 1.54.1 3.5.3
plier 1.52.0 3.5.3
plogr 0.2.0 3.5.3
plot3D 1.1.1 3.5.3
plotGrouper 1.0.1 3.5.3
plotly 4.9.0 3.5.3
plotmo 3.5.4 3.5.3
plotrix 3.7-5 3.5.3
PLPE 1.42.0 3.5.3
plrs 1.22.0 3.5.3
pls 2.7-1 3.5.3
plsgenomics 1.5-2 3.5.3
plspm 0.4.9 3.5.3
plsVarSel 0.9.4 3.5.3
plw 1.42.0 3.5.3
plyr 1.8.4 3.5.3
plyranges 1.2.0 3.5.3
PMA 1.1 3.5.3
PMCMR 4.3 3.5.3
pmm 1.14.0 3.5.3
png 0.1-7 3.5.3
podkat 1.14.0 3.5.3
pogos 1.2.1 3.5.3
poibin 1.3 3.5.3
PoiClaClu 1.0.2.1 3.5.3
poilog 0.4 3.5.3
polspline 1.1.14 3.5.3
polyclip 1.10-0 3.5.3
polyester 1.18.0 3.5.3
Polyfit 1.16.1 3.5.3
polylabelr 0.1.0 3.5.3
polynom 1.4-0 3.5.3
PolynomF 1.1-0 3.5.3
PolyPhen.Hsapiens.dbSNP131 1.0.2 3.5.3
POST 1.6.0 3.5.3
PowerExplorer 1.2.2 3.5.3
poweRlaw 0.70.2 3.5.3
powerTCR 1.2.0 3.5.3
ppcor 1.1 3.5.3
ppiData 0.20.0 3.5.3
PPInfer 1.8.1 3.5.3
ppiStats 1.48.0 3.5.3
ppls 1.6-1.1 3.5.3
pqsfinder 1.10.1 3.5.3
prabclus 2.2-7 3.5.3
pracma 2.2.5 3.5.3
prada 1.58.1 3.5.3
praise 1.0.0 3.5.3
prebs 1.22.1 3.5.3
prebsdata 1.18.0 3.5.3
precrec 0.10.1 3.5.3
PREDA 1.28.0 3.5.3
PREDAsampledata 0.22.0 3.5.3
predictionet 1.28.0 3.5.3
preprocessCore 1.44.0 3.5.3
preseqR 4.0.0 3.5.3
prettydoc 0.2.1 3.5.3
prettyGraphs 2.1.6 3.5.3
prettyunits 1.0.2 3.5.3
primirTSS 1.0.1 3.5.3
princurve 2.1.3 3.5.3
printr 0.1 3.5.3
Prize 1.12.1 3.5.3
proBAMr 1.16.1 3.5.3
pROC 1.14.0 3.5.3
PROcess 1.58.1 3.5.3
processx 3.3.0 3.5.3
procoil 2.10.0 3.5.3
ProCoNA 1.20.0 3.5.3
ProData 1.20.0 3.5.3
prodlim 2018.04.18 3.5.3
proFIA 1.8.1 3.5.3
profileModel 0.6.0 3.5.3
profileScoreDist 1.10.0 3.5.3
profmem 0.5.0 3.5.3
progeny 1.4.1 3.5.3
progress 1.2.0 3.5.3
pRoloc 1.22.2 3.5.3
pRolocdata 1.20.0 3.5.3
pRolocGUI 1.16.0 3.5.3
PROMISE 1.34.0 3.5.3
promises 1.0.1 3.5.3
PROPER 1.14.1 3.5.3
PROPS 1.4.0 3.5.3
Prostar 1.14.12 3.5.3
prostateCancerCamcap 1.10.0 3.5.3
prostateCancerGrasso 1.10.0 3.5.3
prostateCancerStockholm 1.10.0 3.5.3
prostateCancerTaylor 1.10.0 3.5.3
prostateCancerVarambally 1.10.0 3.5.3
prot2D 1.20.0 3.5.3
proteinProfiles 1.22.0 3.5.3
proteomics 1.4.1 3.5.3
ProteomicsAnnotationHubData 1.12.0 3.5.3
ProteoMM 1.0.1 3.5.3
proteoQC 1.18.1 3.5.3
ProtGenerics 1.14.0 3.5.3
protiq 1.2 3.5.3
proto 1.0.0 3.5.3
protolite 1.8 3.5.3
protViz 0.4.0 3.5.3
proxy 0.4-23 3.5.3
prozor 0.2.11 3.5.3
PRROC 1.3.1 3.5.3
pryr 0.1.4 3.5.3
ps 1.3.0 3.5.3
PSCBS 0.64.0 3.5.3
pscl 1.5.2 3.5.3
PSEA 1.16.0 3.5.3
psichomics 1.8.2 3.5.3
PSICQUIC 1.20.0 3.5.3
pspline 1.0-18 3.5.3
psych 1.8.12 3.5.3
psygenet2r 1.14.0 3.5.3
PtH2O2lipids 1.8.0 3.5.3
ptw 1.9-13 3.5.3
puma 3.24.0 3.5.3
pumadata 2.18.0 3.5.3
PureCN 1.12.2 3.5.3
purrr 0.3.2 3.5.3
pvac 1.30.0 3.5.3
pvca 1.22.0 3.5.3
pvclust 2.0-0 3.5.3
Pviz 1.16.0 3.5.3
PWMEnrich 4.18.0 3.5.3
PWMEnrich.Dmelanogaster.background 4.16.0 3.5.3
PWMEnrich.Hsapiens.background 4.16.0 3.5.3
PWMEnrich.Mmusculus.background 4.16.0 3.5.3
pwOmics 1.14.0 3.5.3
qap 0.1-1 3.5.3
qcmetrics 1.20.1 3.5.3
QDNAseq 1.18.0 3.5.3
QDNAseq.hg19 1.12.0 3.5.3
QDNAseq.mm10 1.12.0 3.5.3
qgraph 1.6.1 3.5.3
qlcMatrix 0.9.7 3.5.3
qpcR 1.4-1 3.5.3
qpcrNorm 1.40.0 3.5.3
qpdf 1.1 3.5.3
qpgraph 2.16.0 3.5.3
qPLEXanalyzer 1.0.4 3.5.3
qPLEXdata 1.0.1 3.5.3
qqman 0.1.4 3.5.3
qrqc 1.36.0 3.5.3
qsea 1.8.0 3.5.3
QSutils 1.0.0 3.5.3
qtl 1.44-9 3.5.3
QTLRel 1.1 3.5.3
quadprog 1.5-5 3.5.3
QUALIFIER 1.26.1 3.5.3
quantmod 0.4-14 3.5.3
quantreg 5.38 3.5.3
quantro 1.16.0 3.5.3
quantsmooth 1.48.0 3.5.3
QuartPAC 1.14.0 3.5.3
QuasR 1.22.1 3.5.3
QuaternaryProd 1.16.0 3.5.3
QUBIC 1.10.0 3.5.3
QUBICdata 1.10.0 3.5.3
questionr 0.7.0 3.5.3
qusage 2.16.1 3.5.3
qvalue 2.14.1 3.5.3
R.cache 0.13.0 3.5.3
R.devices 2.16.0 3.5.3
R.filesets 2.12.1 3.5.3
R.huge 0.9.0 3.5.3
R.matlab 3.6.2 3.5.3
R.methodsS3 1.7.1 3.5.3
R.oo 1.22.0 3.5.3
R.rsp 0.43.1 3.5.3
R.utils 2.8.0 3.5.3
r2glmm 0.1.2 3.5.3
R2HTML 2.3.2 3.5.3
R3CPET 1.14.0 3.5.3
r3Cseq 1.28.0 3.5.3
R453Plus1Toolbox 1.32.0 3.5.3
R4RNA 1.10.0 3.5.3
R6 2.4.0 3.5.3
radiant.data 0.9.9 3.5.3
rae230a.db 3.2.3 3.5.3
rae230aprobe 2.18.0 3.5.3
rafalib 1.0.0 3.5.3
RaggedExperiment 1.6.0 3.5.3
rain 1.16.0 3.5.3
rama 1.56.0 3.5.3
RamiGO 1.30.0 3.5.3
ramwas 1.6.0 3.5.3
randomcoloR 1.1.0 3.5.3
randomForest 4.6-14 3.5.3
RandomWalkRestartMH 1.2.0 3.5.3
randPack 1.28.0 3.5.3
randtests 1.0 3.5.3
ranger 0.11.2 3.5.3
RankProd 3.8.0 3.5.3
RANKS 1.0 3.5.3
RANN 2.6.1 3.5.3
rapidjsonr 1.1 3.5.3
rappdirs 0.3.1 3.5.3
RareVariantVis 2.10.0 3.5.3
Rariant 1.18.0 3.5.3
rARPACK 0.11-0 3.5.3
raster 2.8-19 3.5.3
rat2302.db 3.2.3 3.5.3
Rattus.norvegicus 1.3.1 3.5.3
RbcBook1 1.50.0 3.5.3
rbenchmark 1.0.0 3.5.3
RBGL 1.58.2 3.5.3
RBioinf 1.42.0 3.5.3
rBiopaxParser 2.22.0 3.5.3
RBM 1.14.0 3.5.3
rbokeh 0.5.0 3.5.3
Rbowtie 1.22.0 3.5.3
Rbowtie2 1.4.0 3.5.3
rbsurv 2.40.0 3.5.3
Rcade 1.24.0 3.5.3
RCAS 1.8.0 3.5.3
RCASPAR 1.28.0 3.5.3
rcdk 3.4.7.1 3.5.3
rcdklibs 2.0 3.5.3
rcellminer 2.4.0 3.5.3
rcellminerData 2.4.0 3.5.3
rCGH 1.12.0 3.5.3
Rchemcpp 2.20.1 3.5.3
rChoiceDialogs 1.0.6 3.5.3
RchyOptimyx 2.22.0 3.5.3
RCircos 1.2.1 3.5.3
RcisTarget 1.2.1 3.5.3
RcisTarget.hg19.motifDBs.cisbpOnly.500bp 1.2.0 3.5.3
rclipboard 0.1.1 3.5.3
rcmdcheck 1.3.2 3.5.3
RcmdrMisc 2.5-1 3.5.3
RColorBrewer 1.1-2 3.5.3
Rcpi 1.18.2 3.5.3
Rcpp 1.0.1 3.5.3
RcppAnnoy 0.0.11 3.5.3
RcppArmadillo 0.9.300.2.0 3.5.3
RcppClassic 0.9.11 3.5.3
RcppEigen 0.3.3.5.0 3.5.3
RcppGSL 0.3.6 3.5.3
RcppNumerical 0.3-2 3.5.3
RcppParallel 4.4.2 3.5.3
RcppProgress 0.4.1 3.5.3
RcppRoll 0.3.0 3.5.3
RcppZiggurat 0.1.5 3.5.3
Rcsdp 0.1.55 3.5.3
RCurl 1.95-4.12 3.5.3
RCy3 2.2.9 3.5.3
RCyjs 2.4.0 3.5.3
rda 1.0.2-2.1 3.5.3
RDAVIDWebService 1.20.0 3.5.3
rDGIdb 1.8.0 3.5.3
Rdisop 1.42.1 3.5.3
Rdpack 0.11-0 3.5.3
rdrop2 0.8.1 3.5.3
RDRToolbox 1.32.0 3.5.3
reactome.db 1.66.0 3.5.3
ReactomePA 1.26.0 3.5.3
readat 1.8.0 3.5.3
readbitmap 0.1.5 3.5.3
readBrukerFlexData 1.8.5 3.5.3
readMzXmlData 2.8.1 3.5.3
ReadqPCR 1.28.0 3.5.3
readr 1.3.1 3.5.3
readstata13 0.9.2 3.5.3
readxl 1.3.1 3.5.3
reb 1.60.0 3.5.3
REBET 1.0.0 3.5.3
rebus 0.1-3 3.5.3
rebus.base 0.0-3 3.5.3
rebus.datetimes 0.0-1 3.5.3
rebus.numbers 0.0-1 3.5.3
rebus.unicode 0.0-2 3.5.3
recipes 0.1.5 3.5.3
RecordLinkage 0.4-11 3.5.3
recount 1.8.2 3.5.3
recountWorkflow 1.4.2 3.5.3
recoup 1.10.1 3.5.3
RedeR 1.30.0 3.5.3
REDseq 1.28.0 3.5.3
RefFreeEWAS 2.2 3.5.3
RefManageR 1.2.12 3.5.3
RefNet 1.18.0 3.5.3
RefPlus 1.52.0 3.5.3
regioneR 1.14.0 3.5.3
regionReport 1.16.1 3.5.3
registry 0.5-1 3.5.3
RegParallel 1.0.0 3.5.3
regress 1.3-15 3.5.3
regsplice 1.8.1 3.5.3
relations 0.6-8 3.5.3
relimp 1.0-5 3.5.3
rematch 1.0.1 3.5.3
rematch2 2.0.1 3.5.3
remotes 2.0.4 3.5.3
REMP 1.6.1 3.5.3
rentrez 1.2.1 3.5.3
ReorderCluster 1.0 3.5.3
Repitools 1.28.0 3.5.3
repo 2.1.3 3.5.3
ReportingTools 2.22.1 3.5.3
reportr 1.3.0 3.5.3
reprex 0.2.1 3.5.3
ReQON 1.28.0 3.5.3
reshape 0.8.8 3.5.3
reshape2 1.4.3 3.5.3
restfulSE 1.4.1 3.5.3
restfulSEData 1.4.0 3.5.3
reticulate 1.12 3.5.3
reutils 0.2.3 3.5.3
rex 1.1.2 3.5.3
rexposome 1.4.0 3.5.3
Rfast 1.9.3 3.5.3
RFOC 3.4-6 3.5.3
RforProteomics 1.20.0 3.5.3
rfPermute 2.1.6 3.5.3
rfPred 1.20.0 3.5.3
rGADEM 2.30.0 3.5.3
RGalaxy 1.26.0 3.5.3
rgeos 0.4-2 3.5.3
rgexf 0.15.3 3.5.3
rggobi 2.1.22 3.5.3
Rgin 1.2.0 3.5.3
rgl 0.100.19 3.5.3
RGMQL 1.2.0 3.5.3
RGMQLlib 1.2.0 3.5.3
RGraph2js 1.10.0 3.5.3
Rgraphviz 2.26.0 3.5.3
rGREAT 1.14.0 3.5.3
RGSEA 1.16.0 3.5.3
rgsepd 1.14.1 3.5.3
RGtk2 2.20.36 3.5.3
rhandsontable 0.3.7 3.5.3
rhdf5 2.26.2 3.5.3
rhdf5client 1.4.1 3.5.3
Rhdf5lib 1.4.3 3.5.3
rheumaticConditionWOLLBOLD 1.20.0 3.5.3
RhpcBLASctl 0.18-205 3.5.3
Rhtslib 1.14.1 3.5.3
rHVDM 1.48.0 3.5.3
RiboProfiling 1.12.0 3.5.3
riboSeqR 1.16.0 3.5.3
RImmPort 1.10.0 3.5.3
Ringo 1.46.0 3.5.3
rintrojs 0.2.0 3.5.3
rio 0.5.16 3.5.3
rioja 0.9-15.2 3.5.3
RIPSeeker 1.22.0 3.5.3
RIPSeekerData 1.18.0 3.5.3
Risa 1.24.0 3.5.3
RISmed 2.1.7 3.5.3
RITAN 1.6.0 3.5.3
RITANdata 1.6.0 3.5.3
RIVER 1.6.0 3.5.3
rjags 4-8 3.5.3
rJava 0.9-11 3.5.3
RJMCMCNucleosomes 1.6.0 3.5.3
rjson 0.2.20 3.5.3
RJSONIO 1.3-1.1 3.5.3
Rlab 2.15.1 3.5.3
Rlabkey 2.2.5 3.5.3
rlang 0.3.4 3.5.3
rlecuyer 0.3-4 3.5.3
rlist 0.4.6.1 3.5.3
RLMM 1.44.0 3.5.3
Rmagpie 1.38.0 3.5.3
RMallow 1.0 3.5.3
RMariaDB 1.0.6 3.5.3
rmarkdown 1.12 3.5.3
RMassBank 2.10.1 3.5.3
RMassBankData 1.20.0 3.5.3
rMAT 3.32.0 3.5.3
rmeta 3.0 3.5.3
RmiR 1.38.0 3.5.3
RmiR.Hs.miRNA 1.0.7 3.5.3
Rmixmod 2.1.2.2 3.5.3
Rmmquant 1.0.4 3.5.3
Rmpfr 0.7-2 3.5.3
Rmpi 0.6-9 3.5.3
rms 5.1-3 3.5.3
RMTstat 0.3 3.5.3
rmutil 1.1.3 3.5.3
RMySQL 0.10.17 3.5.3
RNAdecay 1.2.1 3.5.3
RNAinteract 1.30.1 3.5.3
RNAinteractMAPK 1.20.0 3.5.3
RNAither 2.30.1 3.5.3
RNAprobR 1.14.0 3.5.3
RNAseq123 1.4.3 3.5.3
rnaseqcomp 1.12.0 3.5.3
RNAseqData.HNRNPC.bam.chr14 0.20.0 3.5.3
rnaseqDTU 1.0.1 3.5.3
rnaseqGene 1.4.1 3.5.3
RnaSeqGeneEdgeRQL 1.4.1 3.5.3
rnaSeqMap 2.40.1 3.5.3
RNASeqPower 1.22.1 3.5.3
RNASeqR 1.0.3 3.5.3
RNASeqRData 1.0.0 3.5.3
RnaSeqSampleSize 1.14.1 3.5.3
RnaSeqSampleSizeData 1.14.0 3.5.3
RnBeads 2.0.1 3.5.3
RnBeads.hg19 1.14.0 3.5.3
RnBeads.hg38 1.14.0 3.5.3
RnBeads.mm10 1.14.0 3.5.3
RnBeads.mm9 1.14.0 3.5.3
RnBeads.rn5 1.14.0 3.5.3
rncl 0.8.3 3.5.3
RNeXML 2.3.0 3.5.3
rngtools 1.3.1 3.5.3
RNifti 0.10.0 3.5.3
Rnits 1.16.0 3.5.3
roar 1.18.0 3.5.3
robCompositions 2.1.0 3.5.3
robust 0.4-18 3.5.3
robustbase 0.93-4 3.5.3
RobustRankAggreg 1.1 3.5.3
ROC 1.58.0 3.5.3
ROCR 1.0-7 3.5.3
Roleswitch 1.20.0 3.5.3
rols 2.10.1 3.5.3
ROntoTools 2.10.0 3.5.3
Rook 1.1-1 3.5.3
rootSolve 1.7 3.5.3
ropls 1.14.1 3.5.3
ROTS 1.10.1 3.5.3
roxygen2 6.1.1 3.5.3
RPA 1.38.0 3.5.3
rpart 4.1-15 3.5.3
rpart.plot 3.0.7 3.5.3
rphast 1.6.9 3.5.3
RPMG 2.2-2 3.5.3
RPMM 1.25 3.5.3
RPostgreSQL 0.6-2 3.5.3
rprojroot 1.3-2 3.5.3
RProtoBuf 0.4.13 3.5.3
RProtoBufLib 1.4.0 3.5.3
RpsiXML 2.24.0 3.5.3
rpx 1.18.1 3.5.3
Rqc 1.16.2 3.5.3
rqt 1.8.0 3.5.3
rqubic 1.28.0 3.5.3
RRBSdata 1.2.0 3.5.3
rrcov 1.4-7 3.5.3
rRDP 1.16.1 3.5.3
rRDPData 1.2.0 3.5.3
RRHO 1.22.0 3.5.3
Rsamtools 1.34.1 3.5.3
rsbml 2.40.0 3.5.3
rsconnect 0.8.13 3.5.3
RSEIS 3.8-3 3.5.3
RSeqAn 1.2.0 3.5.3
Rserve 1.7-3.1 3.5.3
rSFFreader 0.30.0 3.5.3
rsm 2.10 3.5.3
RSNNS 0.4-11 3.5.3
rsnps 0.3.0 3.5.3
Rsolnp 1.16 3.5.3
RSpectra 0.14-0 3.5.3
RSQLite 2.1.1 3.5.3
rstan 2.18.2 3.5.3
rstantools 1.5.1 3.5.3
rstudioapi 0.10 3.5.3
Rsubread 1.32.4 3.5.3
rsvd 1.0.0 3.5.3
rsvg 1.3 3.5.3
RSVGTipsDevice 1.0-7 3.5.3
RSVSim 1.22.0 3.5.3
rTANDEM 1.22.1 3.5.3
RTCA 1.34.1 3.5.3
RTCGA 1.12.1 3.5.3
RTCGA.clinical 20151101.12.0 3.5.3
RTCGA.CNV 1.10.0 3.5.3
RTCGA.methylation 1.10.0 3.5.3
RTCGA.miRNASeq 1.10.0 3.5.3
RTCGA.mRNA 1.10.0 3.5.3
RTCGA.mutations 20151101.12.0 3.5.3
RTCGA.PANCAN12 1.10.0 3.5.3
RTCGA.rnaseq 20151101.12.0 3.5.3
RTCGA.RPPA 1.10.0 3.5.3
RTCGAToolbox 2.12.1 3.5.3
rtfbs 0.3.9 3.5.3
RTN 2.6.3 3.5.3
RTNduals 1.6.2 3.5.3
RTNsurvival 1.6.2 3.5.3
RTopper 1.28.0 3.5.3
rtracklayer 1.42.2 3.5.3
Rtreemix 1.44.0 3.5.3
rTRM 1.20.0 3.5.3
rTRMui 1.20.0 3.5.3
Rtsne 0.15 3.5.3
Rttf2pt1 1.3.7 3.5.3
runibic 1.4.0 3.5.3
RUnit 0.4.32 3.5.3
ruv 0.9.7 3.5.3
RUVcorr 1.14.0 3.5.3
RUVnormalize 1.16.0 3.5.3
RUVnormalizeData 1.2.0 3.5.3
RUVSeq 1.16.1 3.5.3
rvcheck 0.1.3 3.5.3
rvest 0.3.3 3.5.3
RVS 1.4.4 3.5.3
Rwave 2.4-8 3.5.3
RWeka 0.4-40 3.5.3
RWekajars 3.9.3-1 3.5.3
rWikiPathways 1.2.1 3.5.3
s4vd 1.1-1 3.5.3
S4Vectors 0.20.1 3.5.3
safe 3.22.0 3.5.3
sagenhaft 1.52.0 3.5.3
SAGx 1.56.0 3.5.3
samExploreR 1.6.1 3.5.3
sampleClassifier 1.6.1 3.5.3
sampleClassifierData 1.6.0 3.5.3
sampling 2.8 3.5.3
samr 3.0 3.5.3
SamSPECTRAL 1.36.1 3.5.3
sandwich 2.5-1 3.5.3
sangerseqR 1.18.0 3.5.3
SANTA 2.20.0 3.5.3
sapFinder 1.20.1 3.5.3
savR 1.20.0 3.5.3
SBMLR 1.78.0 3.5.3
SC3 1.10.1 3.5.3
Scale4C 1.4.0 3.5.3
scales 1.0.0 3.5.3
SCAN.UPC 2.24.1 3.5.3
scater 1.10.1 3.5.3
scatterplot3d 0.3-41 3.5.3
scDD 1.6.1 3.5.3
scde 2.10.1 3.5.3
scFeatureFilter 1.2.1 3.5.3
scfind 1.4.1 3.5.3
ScISI 1.54.0 3.5.3
SCLCBam 1.14.0 3.5.3
scmap 1.4.1 3.5.3
scmeth 1.2.2 3.5.3
SCnorm 1.4.7 3.5.3
scone 1.6.1 3.5.3
Sconify 1.2.1 3.5.3
scoreInvHap 1.4.0 3.5.3
scPipe 1.4.1 3.5.3
scran 1.10.2 3.5.3
scrime 1.3.5 3.5.3
scRNAseq 1.8.0 3.5.3
scruff 1.0.3 3.5.3
scsR 1.18.0 3.5.3
sda 1.3.7 3.5.3
SDAMS 1.2.1 3.5.3
SDMTools 1.1-221 3.5.3
SearchTrees 0.5.2 3.5.3
segmented 0.5-3.0 3.5.3
segmentSeq 2.16.0 3.5.3
selectr 0.4-1 3.5.3
SELEX 1.14.0 3.5.3
SemDist 1.16.0 3.5.3
semisup 1.6.0 3.5.3
sendmailR 1.2-1 3.5.3
SEPA 1.12.0 3.5.3
SEPIRA 1.2.0 3.5.3
seq2pathway 1.14.0 3.5.3
seq2pathway.data 1.14.0 3.5.3
SeqArray 1.22.6 3.5.3
seqbias 1.30.0 3.5.3
seqc 1.16.0 3.5.3
seqCAT 1.4.1 3.5.3
seqCNA 1.28.0 3.5.3
seqCNA.annot 1.18.0 3.5.3
seqcombo 1.4.1 3.5.3
SeqGSEA 1.22.1 3.5.3
seqinr 3.4-5 3.5.3
seqLogo 1.48.0 3.5.3
seqPattern 1.14.0 3.5.3
seqplots 1.20.1 3.5.3
seqsetvis 1.2.1 3.5.3
SeqSQC 1.4.0 3.5.3
seqTools 1.16.0 3.5.3
sequencing 1.4.1 3.5.3
SeqVarTools 1.20.2 3.5.3
seriation 1.2-3 3.5.3
serumStimulation 1.18.0 3.5.3
servr 0.13 3.5.3
sesame 1.0.0 3.5.3
sesameData 1.0.0 3.5.3
sessioninfo 1.1.1 3.5.3
setRNG 2013.9-1 3.5.3
sets 1.0-18 3.5.3
settings 0.2.4 3.5.3
Seurat 2.3.4 3.5.3
sevenbridges 1.12.5 3.5.3
sevenC 1.2.0 3.5.3
seventyGeneData 1.18.0 3.5.3
sfsmisc 1.1-3 3.5.3
sgeostat 1.0-27 3.5.3
SGSeq 1.16.2 3.5.3
shades 1.3.1 3.5.3
shape 1.4.4 3.5.3
shiny 1.3.1 3.5.3
shinyAce 0.3.3 3.5.3
shinyalert 1.0 3.5.3
shinyBS 0.61 3.5.3
shinycssloaders 0.2.0 3.5.3
shinydashboard 0.7.1 3.5.3
shinyFiles 0.7.2 3.5.3
shinyjqui 0.3.2 3.5.3
shinyjs 1.0 3.5.3
shinyMethyl 1.18.0 3.5.3
shinyMethylData 1.2.0 3.5.3
shinyTANDEM 1.20.1 3.5.3
shinythemes 1.1.2 3.5.3
shinyTree 0.2.6 3.5.3
shinyWidgets 0.4.8 3.5.3
ShortRead 1.40.0 3.5.3
showtext 0.6 3.5.3
showtextdb 2.0 3.5.3
SIAMCAT 1.2.1 3.5.3
SICtools 1.12.0 3.5.3
SIFT.Hsapiens.dbSNP132 1.0.2 3.5.3
SIFT.Hsapiens.dbSNP137 1.0.0 3.5.3
sigaR 1.30.0 3.5.3
SigCheck 2.14.0 3.5.3
sigclust 1.1.0 3.5.3
sigFeature 1.0.0 3.5.3
SigFuge 1.20.0 3.5.3
siggenes 1.56.0 3.5.3
sights 1.8.1 3.5.3
signal 0.7-6 3.5.3
signeR 1.8.0 3.5.3
signet 1.2.3 3.5.3
sigPathway 1.50.0 3.5.3
sigsquared 1.14.0 3.5.3
SIM 1.52.0 3.5.3
SIMAT 1.14.1 3.5.3
SimBindProfiles 1.20.0 3.5.3
SIMD 1.0.0 3.5.3
similaRpeak 1.14.0 3.5.3
SIMLR 1.8.1 3.5.3
simpIntLists 1.18.0 3.5.3
simpleaffy 2.58.0 3.5.3
simpleSingleCell 1.4.1 3.5.3
simulatorZ 1.16.0 3.5.3
sincell 1.14.1 3.5.3
Single.mTEC.Transcriptomes 1.10.0 3.5.3
SingleCellExperiment 1.4.1 3.5.3
singleCellTK 1.2.3 3.5.3
singscore 1.2.2 3.5.3
SISPA 1.12.0 3.5.3
sizepower 1.52.0 3.5.3
skewr 1.14.0 3.5.3
slalom 1.4.1 3.5.3
slam 0.1-45 3.5.3
SLGI 1.42.0 3.5.3
slingshot 1.0.0 3.5.3
slinky 1.0.2 3.5.3
SLqPCR 1.48.0 3.5.3
sm 2.2-5.6 3.5.3
SMAP 1.46.0 3.5.3
SmartSVA 0.1.3 3.5.3
smatr 3.4-8 3.5.3
sme 1.0.2 3.5.3
SMITE 1.10.1 3.5.3
smoother 1.1 3.5.3
smoothie 1.0-1 3.5.3
smoothmest 0.1-2 3.5.3
SmoothWin 2.0.0 3.5.3
SMVar 1.3.3 3.5.3
sna 2.4 3.5.3
SNAData 1.28.0 3.5.3
SNAGEE 1.22.0 3.5.3
SNAGEEdata 1.18.0 3.5.3
snapCGH 1.52.0 3.5.3
SNFtool 2.3.0 3.5.3
snm 1.30.0 3.5.3
snow 0.4-3 3.5.3
SnowballC 0.6.0 3.5.3
snowfall 1.84-6.1 3.5.3
SNPchip 2.28.0 3.5.3
SNPediaR 1.8.0 3.5.3
SNPhood 1.12.0 3.5.3
SNPhoodData 1.12.0 3.5.3
SNPlocs.Hsapiens.dbSNP.20101109 0.99.7 3.5.3
SNPlocs.Hsapiens.dbSNP.20120608 0.99.11 3.5.3
SNPlocs.Hsapiens.dbSNP141.GRCh38 0.99.11 3.5.3
SNPlocs.Hsapiens.dbSNP142.GRCh37 0.99.5 3.5.3
SNPlocs.Hsapiens.dbSNP144.GRCh37 0.99.20 3.5.3
SNPlocs.Hsapiens.dbSNP144.GRCh38 0.99.20 3.5.3
SNPlocs.Hsapiens.dbSNP150.GRCh38 0.99.20 3.5.3
SNPRelate 1.16.0 3.5.3
snpStats 1.32.0 3.5.3
softImpute 1.4 3.5.3
soGGi 1.14.0 3.5.3
som 0.3-5.1 3.5.3
SomatiCAData 1.20.0 3.5.3
SomaticCancerAlterations 1.18.0 3.5.3
SomaticSignatures 2.18.0 3.5.3
sonicLength 1.4.6 3.5.3
sourcetools 0.1.7 3.5.3
sp 1.3-1 3.5.3
SpacePAC 1.20.0 3.5.3
spam 2.2-2 3.5.3
SPARQL 1.16 3.5.3
sparsebn 0.0.5 3.5.3
sparsebnUtils 0.0.6 3.5.3
SparseDC 0.1.17 3.5.3
sparseDOSSA 1.6.1 3.5.3
sparseinv 0.1.3 3.5.3
sparseLDA 0.1-9 3.5.3
SparseM 1.77 3.5.3
sparseMVN 0.2.1.1 3.5.3
sparsenetgls 1.0.1 3.5.3
SparseSignatures 1.2.0 3.5.3
sparsesvd 0.1-4 3.5.3
spatial 7.3-11 3.5.3
SpatialExtremes 2.0-7 3.5.3
SpatialTools 1.0.4 3.5.3
spatstat 1.59-0 3.5.3
spatstat.data 1.4-0 3.5.3
spatstat.utils 1.13-0 3.5.3
spBayes 0.4-2 3.5.3
spData 0.3.0 3.5.3
speaq 2.5.0 3.5.3
specL 1.16.1 3.5.3
SpeCond 1.36.0 3.5.3
speedglm 0.3-2 3.5.3
spelling 2.1 3.5.3
SPEM 1.22.0 3.5.3
SPIA 2.34.0 3.5.3
SpidermiR 1.12.1 3.5.3
SpikeIn 1.24.0 3.5.3
SpikeInSubset 1.22.0 3.5.3
spikeLI 2.42.0 3.5.3
spkTools 1.38.0 3.5.3
splancs 2.01-40 3.5.3
splatter 1.6.1 3.5.3
splicegear 1.54.0 3.5.3
SplicingGraphs 1.22.2 3.5.3
splines 3.5.3 3.5.3
splineTimeR 1.10.0 3.5.3
SPLINTER 1.8.1 3.5.3
splitstackshape 1.4.6 3.5.3
splots 1.48.0 3.5.3
splus2R 1.2-2 3.5.3
SPONGE 1.4.0 3.5.3
spotSegmentation 1.56.0 3.5.3
spp 1.15.5 3.5.3
sqldf 0.4-11 3.5.3
SQN 1.0.5 3.5.3
SQUADD 1.32.0 3.5.3
SQUAREM 2017.10-1 3.5.3
squash 1.0.8 3.5.3
SRAdb 1.44.0 3.5.3
sRAP 1.22.0 3.5.3
SRGnet 1.8.0 3.5.3
srnadiff 1.2.1 3.5.3
sROC 0.1-2 3.5.3
sscore 1.54.0 3.5.3
sscu 2.12.0 3.5.3
sSeq 1.20.1 3.5.3
ssize 1.56.0 3.5.3
SSPA 2.22.1 3.5.3
ssviz 1.16.1 3.5.3
st 1.2.5 3.5.3
stable 1.1.4 3.5.3
stabledist 0.7-1 3.5.3
stabs 0.6-3 3.5.3
stageR 1.4.0 3.5.3
STAN 2.10.1 3.5.3
StanHeaders 2.18.1 3.5.3
staRank 1.24.1 3.5.3
StarBioTrek 1.8.5 3.5.3
Starr 1.38.0 3.5.3
startupmsg 0.9.6 3.5.3
STATegRa 1.18.0 3.5.3
statip 0.2.0 3.5.3
statmod 1.4.30 3.5.3
statnet.common 4.2.0 3.5.3
stats 3.5.3 3.5.3
stats4 3.5.3 3.5.3
statTarget 1.12.1 3.5.3
stemHypoxia 1.18.0 3.5.3
stepNorm 1.54.0 3.5.3
stjudem 1.22.0 3.5.3
strandCheckR 1.0.0 3.5.3
Streamer 1.28.1 3.5.3
STRINGdb 1.22.0 3.5.3
stringdist 0.9.5.1 3.5.3
stringi 1.4.3 3.5.3
stringr 1.4.0 3.5.3
STROMA4 1.6.1 3.5.3
strucchange 1.5-1 3.5.3
subSeq 1.12.1 3.5.3
SummarizedBenchmark 2.0.1 3.5.3
SummarizedExperiment 1.12.0 3.5.3
superheat 0.1.0 3.5.3
SuperLearner 2.0-24 3.5.3
superpc 1.09 3.5.3
SuppDists 1.1-9.4 3.5.3
supraHex 1.20.0 3.5.3
survcomp 1.32.0 3.5.3
survey 3.35-1 3.5.3
survival 2.44-1.1 3.5.3
survivalROC 1.0.3 3.5.3
survminer 0.4.3 3.5.3
survMisc 0.5.5 3.5.3
Sushi 1.20.0 3.5.3
sva 3.30.1 3.5.3
SVAPLSseq 1.8.1 3.5.3
svd 0.4.3 3.5.3
svDialogs 1.0.0 3.5.3
svglite 1.2.1 3.5.3
svGUI 1.0.0 3.5.3
SVM2CRM 1.14.0 3.5.3
SVM2CRMdata 1.14.0 3.5.3
svMisc 1.1.0 3.5.3
SWATH2stats 1.12.1 3.5.3
SwathXtend 2.4.0 3.5.3
swfdr 1.8.0 3.5.3
swfscMisc 1.2 3.5.3
SwimR 1.20.0 3.5.3
switchBox 1.18.0 3.5.3
switchde 1.8.1 3.5.3
synapter 2.6.1 3.5.3
synapterdata 1.20.0 3.5.3
synergyfinder 1.8.0 3.5.3
synlet 1.12.1 3.5.3
sys 3.1 3.5.3
sysfonts 0.8 3.5.3
systemPipeR 1.16.1 3.5.3
systemPipeRdata 1.10.0 3.5.3
TabulaMurisData 1.0.0 3.5.3
targetscan.Hs.eg.db 0.6.1 3.5.3
targetscan.Mm.eg.db 0.6.1 3.5.3
TargetScore 1.20.0 3.5.3
TargetScoreData 1.18.0 3.5.3
TargetSearch 1.38.2 3.5.3
TargetSearchData 1.20.0 3.5.3
TarSeqQC 1.12.0 3.5.3
TBX20BamSubset 1.18.0 3.5.3
TCC 1.22.1 3.5.3
TCGAbiolinks 2.10.5 3.5.3
TCGAbiolinksGUI 1.8.1 3.5.3
TCGAbiolinksGUI.data 1.2.0 3.5.3
TCGAcrcmiRNA 1.2.0 3.5.3
TCGAcrcmRNA 1.2.0 3.5.3
TCGAMethylation450k 1.18.0 3.5.3
TCGAutils 1.2.2 3.5.3
tcgaWGBSData.hg19 1.0.0 3.5.3
TCGAWorkflow 1.4.1 3.5.3
TCGAWorkflowData 1.6.0 3.5.3
tcltk 3.5.3 3.5.3
tcltk2 1.2-11 3.5.3
tcR 2.2.4 3.5.3
TCseq 1.6.1 3.5.3
TDARACNE 1.32.0 3.5.3
TeachingDemos 2.10 3.5.3
tensor 1.5 3.5.3
tensorA 0.36.1 3.5.3
TENxBrainData 1.2.0 3.5.3
TENxPBMCData 1.0.0 3.5.3
tenXplore 1.4.1 3.5.3
TEQC 4.4.0 3.5.3
ternarynet 1.26.0 3.5.3
test3cdf 2.18.0 3.5.3
tester 0.1.7 3.5.3
testthat 2.0.1 3.5.3
TFARM 1.4.0 3.5.3
TFBSTools 1.20.0 3.5.3
TFEA.ChIP 1.2.3 3.5.3
TFHAZ 1.4.0 3.5.3
TFMPvalue 0.0.8 3.5.3
TFutils 1.2.0 3.5.3
TH.data 1.0-10 3.5.3
threejs 0.3.1 3.5.3
tibble 2.1.1 3.5.3
tidyr 0.8.3 3.5.3
tidyselect 0.2.5 3.5.3
tidytree 0.2.4 3.5.3
tidyverse 1.2.1 3.5.3
tiff 0.1-5 3.5.3
tigre 1.36.0 3.5.3
tilingArray 1.60.0 3.5.3
timecourse 1.54.0 3.5.3
timeDate 3043.102 3.5.3
TimerQuant 1.12.0 3.5.3
timescape 1.6.0 3.5.3
timeSeries 3042.102 3.5.3
TimeSeriesExperiment 1.0.4 3.5.3
timsac 1.3.6 3.5.3
TIN 1.14.0 3.5.3
tinesath1cdf 1.20.0 3.5.3
tinesath1probe 1.20.0 3.5.3
tinytex 0.12 3.5.3
TissueEnrich 1.2.1 3.5.3
tissueTreg 1.2.0 3.5.3
TitanCNA 1.20.1 3.5.3
tkrgl 0.8 3.5.3
tkrplot 0.0-24 3.5.3
tkWidgets 1.60.0 3.5.3
tm 0.7-6 3.5.3
TMB 1.7.15 3.5.3
TMixClust 1.4.0 3.5.3
tmle 1.3.0-2 3.5.3
tmvtnorm 1.4-10 3.5.3
TnT 1.4.0 3.5.3
tofsims 1.10.1 3.5.3
tofsimsData 1.10.0 3.5.3
tools 3.5.3 3.5.3
ToPASeq 1.16.1 3.5.3
topdownr 1.4.1 3.5.3
topdownrdata 1.4.0 3.5.3
topGO 2.34.0 3.5.3
topicmodels 0.2-8 3.5.3
topologyGSA 1.4.6 3.5.3
TPP 3.10.1 3.5.3
tracktables 1.16.0 3.5.3
trackViewer 1.18.3 3.5.3
tractor.base 3.3.0 3.5.3
transcriptogramer 1.4.1 3.5.3
transcriptR 1.10.1 3.5.3
transite 1.0.2 3.5.3
tRanslatome 1.20.0 3.5.3
TransView 1.26.1 3.5.3
traseR 1.12.0 3.5.3
tree 1.0-39 3.5.3
treeio 1.6.2 3.5.3
trena 1.4.2 3.5.3
Trendy 1.4.6 3.5.3
triebeard 0.3.0 3.5.3
triform 1.24.0 3.5.3
trigger 1.28.0 3.5.3
trimcluster 0.1-2.1 3.5.3
trio 3.20.0 3.5.3
triplex 1.22.0 3.5.3
tRNA 1.0.0 3.5.3
tRNAdbImport 1.0.0 3.5.3
tRNAscanImport 1.2.0 3.5.3
TRONCO 2.14.2 3.5.3
truncdist 1.0-2 3.5.3
truncnorm 1.0-8 3.5.3
trust 0.1-7 3.5.3
TSCAN 1.20.0 3.5.3
tseries 0.10-46 3.5.3
tsne 0.1-3 3.5.3
TSP 1.1-6 3.5.3
tspair 1.40.0 3.5.3
TSRchitect 1.8.9 3.5.3
TSSi 1.28.0 3.5.3
TTMap 1.4.0 3.5.3
TTR 0.23-4 3.5.3
TurboNorm 1.30.0 3.5.3
turner 0.1.7 3.5.3
TVTB 1.8.0 3.5.3
tweeDEseq 1.28.1 3.5.3
tweeDEseqCountData 1.20.0 3.5.3
tweenr 1.0.1 3.5.3
twilight 1.58.0 3.5.3
twoddpcr 1.6.0 3.5.3
TxDb.Athaliana.BioMart.plantsmart22 3.0.1 3.5.3
TxDb.Celegans.UCSC.ce6.ensGene 3.2.2 3.5.3
TxDb.Dmelanogaster.UCSC.dm3.ensGene 3.2.2 3.5.3
TxDb.Dmelanogaster.UCSC.dm6.ensGene 3.4.4 3.5.3
TxDb.Drerio.UCSC.danRer10.refGene 3.4.4 3.5.3
TxDb.Ggallus.UCSC.galGal5.refGene 3.4.4 3.5.3
TxDb.Hsapiens.UCSC.hg18.knownGene 3.2.2 3.5.3
TxDb.Hsapiens.UCSC.hg19.knownGene 3.2.2 3.5.3
TxDb.Hsapiens.UCSC.hg19.lincRNAsTranscripts 3.2.2 3.5.3
TxDb.Hsapiens.UCSC.hg38.knownGene 3.4.0 3.5.3
TxDb.Mmusculus.UCSC.mm10.ensGene 3.4.0 3.5.3
TxDb.Mmusculus.UCSC.mm10.knownGene 3.4.4 3.5.3
TxDb.Mmusculus.UCSC.mm9.knownGene 3.2.2 3.5.3
TxDb.Rnorvegicus.UCSC.rn4.ensGene 3.2.2 3.5.3
TxDb.Rnorvegicus.UCSC.rn5.refGene 3.4.4 3.5.3
TxDb.Rnorvegicus.UCSC.rn6.refGene 3.4.4 3.5.3
TxDb.Scerevisiae.UCSC.sacCer3.sgdGene 3.2.2 3.5.3
tximeta 1.0.3 3.5.3
tximport 1.10.1 3.5.3
tximportData 1.10.0 3.5.3
TxRegInfra 1.2.1 3.5.3
TypeInfo 1.48.0 3.5.3
ucminf 1.1-4 3.5.3
Ularcirc 1.0.0 3.5.3
umap 0.2.0.0 3.5.3
UNDO 1.24.0 3.5.3
unifiedWMWqPCR 1.18.0 3.5.3
UniProt.ws 2.22.0 3.5.3
uniqtag 1.0 3.5.3
Uniquorn 2.2.1 3.5.3
units 0.6-2 3.5.3
universalmotif 1.0.22 3.5.3
UpSetR 1.3.3 3.5.3
urltools 1.7.3 3.5.3
usethis 1.5.0 3.5.3
uSORT 1.8.1 3.5.3
utf8 1.1.4 3.5.3
utils 3.5.3 3.5.3
uuid 0.1-2 3.5.3
V8 2.2 3.5.3
VanillaICE 1.44.0 3.5.3
varhandle 2.0.3 3.5.3
variancePartition 1.12.3 3.5.3
VariantAnnotation 1.28.13 3.5.3
VariantFiltering 1.18.0 3.5.3
variants 1.4.1 3.5.3
VariantTools 1.24.0 3.5.3
VariantToolsData 1.6.0 3.5.3
varSelRF 0.7-8 3.5.3
vbmp 1.50.0 3.5.3
vbsr 0.0.5 3.5.3
vcd 1.4-4 3.5.3
vcfR 1.8.0 3.5.3
vdiffr 0.3.0 3.5.3
Vega 1.30.0 3.5.3
VegaMC 3.20.0 3.5.3
vegan 2.5-4 3.5.3
venn 1.7 3.5.3
VennDiagram 1.6.20 3.5.3
verification 1.42 3.5.3
VGAM 1.1-1 3.5.3
vidger 1.2.1 3.5.3
VIM 4.8.0 3.5.3
vioplot 0.3.0 3.5.3
viper 1.16.0 3.5.3
vipor 0.4.5 3.5.3
viridis 0.5.1 3.5.3
viridisLite 0.3.0 3.5.3
visNetwork 2.0.6 3.5.3
vsn 3.50.0 3.5.3
vtpnet 0.22.0 3.5.3
vulcan 1.4.0 3.5.3
vulcandata 1.4.0 3.5.3
waffle 0.7.0 3.5.3
wateRmelon 1.26.0 3.5.3
wavClusteR 2.16.1 3.5.3
waveslim 1.7.5.1 3.5.3
wavethresh 4.6.8 3.5.3
waveTiling 1.24.0 3.5.3
waveTilingData 1.18.0 3.5.3
weaver 1.48.0 3.5.3
webbioc 1.54.0 3.5.3
webshot 0.5.1 3.5.3
webutils 0.6 3.5.3
WES.1KG.WUGSC 1.14.0 3.5.3
wesanderson 0.3.6 3.5.3
WGCNA 1.67 3.5.3
wheatmap 0.1.0 3.5.3
whisker 0.3-2 3.5.3
widgetTools 1.60.0 3.5.3
wiggleplotr 1.6.1 3.5.3
withr 2.1.2 3.5.3
wmtsa 2.0-3 3.5.3
wordcloud 2.6 3.5.3
Wrench 1.0.0 3.5.3
writexl 1.1 3.5.3
WriteXLS 4.1.0 3.5.3
XBSeq 1.14.1 3.5.3
xcms 3.4.4 3.5.3
XDE 2.28.0 3.5.3
xfun 0.6 3.5.3
xgboost 0.82.1 3.5.3
XGR 1.1.5 3.5.3
XhybCasneuf 1.20.0 3.5.3
XINA 1.0.1 3.5.3
XLConnect 0.2-15 3.5.3
XLConnectJars 0.2-15 3.5.3
xlsx 0.6.1 3.5.3
xlsxjars 0.6.1 3.5.3
xmapbridge 1.40.0 3.5.3
Xmisc 0.2.1 3.5.3
XML 3.98-1.19 3.5.3
xml2 1.2.0 3.5.3
xopen 1.0.0 3.5.3
xps 1.42.0 3.5.3
xtable 1.8-3 3.5.3
XtraSNPlocs.Hsapiens.dbSNP144.GRCh37 0.99.12 3.5.3
XtraSNPlocs.Hsapiens.dbSNP144.GRCh38 0.99.12 3.5.3
xts 0.11-2 3.5.3
XVector 0.22.0 3.5.3
yaml 2.2.0 3.5.3
yamss 1.8.1 3.5.3
YAPSA 1.8.0 3.5.3
yaqcaffy 1.42.0 3.5.3
yarn 1.8.1 3.5.3
yeast2.db 3.2.3 3.5.3
yeastCC 1.22.0 3.5.3
yeastExpData 0.28.0 3.5.3
yeastGSData 0.20.0 3.5.3
yeastNagalakshmi 1.18.0 3.5.3
yeastRNASeq 0.20.0 3.5.3
yri1kgv 0.24.0 3.5.3
yriMulti 0.12.0 3.5.3
zCompositions 1.2.0 3.5.3
zebrafishRNASeq 1.2.0 3.5.3
zFPKM 1.4.1 3.5.3
zinbwave 1.4.2 3.5.3
zip 2.0.1 3.5.3
zlibbioc 1.28.0 3.5.3
zoo 1.8-5 3.5.3