| Back to Long tests report for BioC 3.8 | 
This page was generated on 2019-04-13 19:55:01 -0400 (Sat, 13 Apr 2019).
| Package 2/4 | Hostname | OS / Arch | CHECK | |||||
| BiocParallel 1.16.6 Bioconductor Package Maintainer 
  | malbec1 | Linux (Ubuntu 16.04.6 LTS) / x86_64 | WARNINGS |