| Back to Multiple platform build/check report for BioC 3.7 experimental data |
This page was generated on 2018-10-16 14:19:57 -0400 (Tue, 16 Oct 2018).
Version Built
a4 1.28.0 3.5.1
a4Base 1.28.0 3.5.1
a4Classif 1.28.0 3.5.1
a4Core 1.28.0 3.5.1
a4Preproc 1.28.0 3.5.1
a4Reporting 1.28.0 3.5.1
ABAData 1.10.0 3.5.1
ABAEnrichment 1.10.0 3.5.1
ABarray 1.48.0 3.5.1
abind 1.4-5 3.5.1
ABSSeq 1.34.1 3.5.1
acde 1.10.0 3.5.1
acepack 1.4.1 3.5.1
aCGH 1.58.0 3.5.1
ACME 2.36.0 3.5.1
actuar 2.3-1 3.5.1
ada 2.0-5 3.5.1
ADaCGH2 2.20.0 3.5.1
adaptest 1.0.0 3.5.1
additivityTests 1.1-4 3.5.1
ade4 1.7-13 3.5.1
adehabitatLT 0.3.23 3.5.1
adehabitatMA 0.3.12 3.5.1
ADGofTest 0.3 3.5.1
adSplit 1.50.0 3.5.1
afex 0.22-1 3.5.1
affxparser 1.52.0 3.5.1
affy 1.58.0 3.5.1
affycomp 1.56.0 3.5.1
AffyCompatible 1.40.0 3.5.1
affycompData 1.18.0 3.5.1
affyContam 1.38.0 3.5.1
affycoretools 1.52.2 3.5.1
affydata 1.28.0 3.5.1
AffyExpress 1.46.0 3.5.1
Affyhgu133A2Expr 1.16.0 3.5.1
Affyhgu133aExpr 1.18.0 3.5.1
Affyhgu133Plus2Expr 1.14.0 3.5.1
affyILM 1.32.0 3.5.1
affyio 1.50.0 3.5.1
affylmGUI 1.54.1 3.5.1
AffymetrixDataTestFiles 0.18.0 3.5.1
Affymoe4302Expr 1.18.0 3.5.1
affyPara 1.40.0 3.5.1
affypdnn 1.54.0 3.5.1
affyPLM 1.56.0 3.5.1
affyQCReport 1.58.0 3.5.1
AffyRNADegradation 1.26.0 3.5.1
AGDEX 1.28.0 3.5.1
agilp 3.12.0 3.5.1
AgiMicroRna 2.30.0 3.5.1
agricolae 1.2-8 3.5.1
AhoCorasickTrie 0.1.0 3.5.1
AIMS 1.12.0 3.5.1
airway 0.114.0 3.5.1
akima 0.6-2 3.5.1
ALDEx2 1.12.0 3.5.1
aLFQ 1.3.4 3.5.1
AlgDesign 1.1-7.3 3.5.1
ALL 1.22.0 3.5.1
AllelicImbalance 1.18.0 3.5.1
ALLMLL 1.20.0 3.5.1
alluvial 0.1-2 3.5.1
alpine 1.6.0 3.5.1
alpineData 1.6.0 3.5.1
ALS 0.0.6 3.5.1
alsace 1.16.0 3.5.1
altcdfenvs 2.42.0 3.5.1
amap 0.8-16 3.5.1
AMOUNTAIN 1.6.0 3.5.1
AmpAffyExample 1.20.0 3.5.1
amplican 1.2.1 3.5.1
AnalysisPageServer 1.14.0 3.5.1
anamiR 1.8.0 3.5.1
Anaquin 2.4.0 3.5.1
AneuFinder 1.8.0 3.5.1
AneuFinderData 1.8.0 3.5.1
ANF 1.2.0 3.5.1
animation 2.5 3.5.1
annaffy 1.52.0 3.5.1
annmap 1.22.0 3.5.1
annotate 1.58.0 3.5.1
annotation 1.2.0 3.5.1
AnnotationDbi 1.42.1 3.5.1
AnnotationFilter 1.4.0 3.5.1
AnnotationForge 1.22.2 3.5.1
AnnotationFuncs 1.30.0 3.5.1
AnnotationHub 2.12.1 3.5.1
AnnotationHubData 1.10.3 3.5.1
annotationTools 1.54.0 3.5.1
annotatr 1.6.0 3.5.1
anota 1.28.0 3.5.1
anota2seq 1.2.0 3.5.1
antiProfiles 1.20.0 3.5.1
antiProfilesData 1.16.0 3.5.1
aod 1.3 3.5.1
apcluster 1.4.7 3.5.1
apComplex 2.46.0 3.5.1
ape 5.2 3.5.1
apeglm 1.2.1 3.5.1
aplpack 1.3.2 3.5.1
aracne.networks 1.6.0 3.5.1
argparse 1.1.1 3.5.1
argparser 0.4 3.5.1
ArgumentCheck 0.10.2 3.5.1
arm 1.10-1 3.5.1
aroma.affymetrix 3.1.1 3.5.1
aroma.apd 0.6.0 3.5.1
aroma.core 3.1.3 3.5.1
aroma.light 3.10.0 3.5.1
ArrayExpress 1.40.0 3.5.1
ArrayExpressHTS 1.30.0 3.5.1
arrayMvout 1.38.0 3.5.1
arrayQuality 1.58.0 3.5.1
arrayQualityMetrics 3.36.0 3.5.1
arrays 1.4.0 3.5.1
ArrayTools 1.40.0 3.5.1
ArrayTV 1.18.0 3.5.1
ARRmData 1.16.0 3.5.1
ARRmNormalization 1.20.0 3.5.1
arules 1.6-1 3.5.1
ASAFE 1.6.0 3.5.1
ASEB 1.24.0 3.5.1
ASGSCA 1.14.0 3.5.1
AshkenazimSonChr21 1.10.0 3.5.1
ashr 2.2-7 3.5.1
ASICS 1.0.1 3.5.1
ASICSdata 1.0.0 3.5.1
ASpli 1.6.0 3.5.1
assertive 0.3-5 3.5.1
assertive.base 0.0-7 3.5.1
assertive.code 0.0-1 3.5.1
assertive.data 0.0-1 3.5.1
assertive.data.uk 0.0-1 3.5.1
assertive.data.us 0.0-1 3.5.1
assertive.datetimes 0.0-2 3.5.1
assertive.files 0.0-2 3.5.1
assertive.matrices 0.0-1 3.5.1
assertive.models 0.0-1 3.5.1
assertive.numbers 0.0-2 3.5.1
assertive.properties 0.0-4 3.5.1
assertive.reflection 0.0-4 3.5.1
assertive.sets 0.0-3 3.5.1
assertive.strings 0.0-3 3.5.1
assertive.types 0.0-3 3.5.1
assertthat 0.2.0 3.5.1
ASSET 1.98.0 3.5.1
ASSIGN 1.16.0 3.5.1
ATACseqQC 1.4.3 3.5.1
ath1121501cdf 2.18.0 3.5.1
attract 1.32.0 3.5.1
AUCell 1.2.4 3.5.1
aws 2.2-0 3.5.1
awsMethods 1.1-0 3.5.1
BaalChIP 1.6.0 3.5.1
BAC 1.40.0 3.5.1
backports 1.1.2 3.5.1
bacon 1.8.0 3.5.1
BADER 1.18.0 3.5.1
BadRegionFinder 1.8.0 3.5.1
BAGS 2.20.0 3.5.1
ballgown 2.12.0 3.5.1
bamsignals 1.12.1 3.5.1
banocc 1.4.0 3.5.1
base 3.5.1 3.5.1
base64 2.0 3.5.1
base64enc 0.1-3 3.5.1
base64url 1.4 3.5.1
basecallQC 1.4.0 3.5.1
baseline 1.2-1 3.5.1
BaseSpaceR 1.24.0 3.5.1
Basic4Cseq 1.16.0 3.5.1
BASiCS 1.2.1 3.5.1
BasicSTARRseq 1.8.0 3.5.1
BatchJobs 1.7 3.5.1
BatchQC 1.8.1 3.5.1
batchtools 0.9.11 3.5.1
BayesKnockdown 1.6.0 3.5.1
bayesm 3.1-0.1 3.5.1
BayesPeak 1.32.0 3.5.1
baySeq 2.14.0 3.5.1
BB 2014.10-1 3.5.1
BBCAnalyzer 1.10.0 3.5.1
BBmisc 1.11 3.5.1
bbmle 1.0.20 3.5.1
bc3net 1.0.4 3.5.1
bcellViper 1.16.0 3.5.1
BCRANK 1.42.0 3.5.1
bcSeq 1.2.0 3.5.1
BDgraph 2.52 3.5.1
bdsmatrix 1.3-3 3.5.1
beachmat 1.2.1 3.5.1
beadarray 2.30.0 3.5.1
beadarrayExampleData 1.18.0 3.5.1
beadarraySNP 1.46.0 3.5.1
BeadArrayUseCases 1.18.0 3.5.1
BeadDataPackR 1.32.0 3.5.1
beanplot 1.2 3.5.1
BEARscc 1.0.0 3.5.1
BEAT 1.18.0 3.5.1
BEclear 1.12.1 3.5.1
beeswarm 0.2.3 3.5.1
beta7 1.18.0 3.5.1
betareg 3.1-1 3.5.1
bezier 1.1 3.5.1
bgafun 1.42.0 3.5.1
BgeeDB 2.6.2 3.5.1
BGmix 1.40.0 3.5.1
bgmm 1.8.3 3.5.1
bgx 1.46.0 3.5.1
BH 1.66.0-1 3.5.1
BHC 1.32.0 3.5.1
BiasedUrn 1.07 3.5.1
bibtex 0.4.2 3.5.1
BicARE 1.38.0 3.5.1
biclust 2.0.1 3.5.1
BiFET 1.0.1 3.5.1
biganalytics 1.1.14 3.5.1
BiGGR 1.16.0 3.5.1
biglm 0.9-1 3.5.1
bigmelon 1.6.0 3.5.1
bigmemory 4.5.33 3.5.1
bigmemory.sri 0.1.3 3.5.1
bigmemoryExtras 1.28.0 3.5.1
bigrquery 1.0.0 3.5.1
bindr 0.1.1 3.5.1
bindrcpp 0.2.2 3.5.1
binom 1.1-1 3.5.1
bio3d 2.3-4 3.5.1
bioassayR 1.18.0 3.5.1
Biobase 2.40.0 3.5.1
biobroom 1.12.1 3.5.1
bioCancer 1.8.0 3.5.1
BiocCaseStudies 1.42.0 3.5.1
BiocCheck 1.16.0 3.5.1
BiocFileCache 1.4.0 3.5.1
BiocGenerics 0.26.0 3.5.1
biocGraph 1.42.0 3.5.1
BiocInstaller 1.30.0 3.5.1
BiocManager 1.30.3 3.5.1
BiocMetaWorkflow 1.0.0 3.5.1
BiocOncoTK 1.0.3 3.5.1
BioCor 1.4.0 3.5.1
BiocParallel 1.14.2 3.5.1
BiocSklearn 1.2.0 3.5.1
BiocStyle 2.8.2 3.5.1
BiocVersion 3.7.4 3.5.1
biocViews 1.48.3 3.5.1
BiocWorkflowTools 1.6.2 3.5.1
bioDist 1.52.0 3.5.1
BioMark 0.4.5 3.5.1
biomaRt 2.36.1 3.5.1
biomformat 1.8.0 3.5.1
BioMVCClass 1.48.0 3.5.1
biomvRCNS 1.20.0 3.5.1
BioNet 1.40.0 3.5.1
bionetdata 1.0.1 3.5.1
BioNetStat 1.0.4 3.5.1
BioQC 1.8.0 3.5.1
BioSeqClass 1.38.0 3.5.1
biosigner 1.8.0 3.5.1
Biostrings 2.48.0 3.5.1
biosvd 2.16.0 3.5.1
biotmle 1.4.0 3.5.1
biotmleData 1.4.0 3.5.1
biovizBase 1.28.2 3.5.1
BiRewire 3.12.0 3.5.1
birta 1.24.0 3.5.1
birte 1.16.0 3.5.1
BiSeq 1.20.0 3.5.1
bit 1.1-14 3.5.1
bit64 0.9-7 3.5.1
bitops 1.0-6 3.5.1
BitSeq 1.24.0 3.5.1
biwt 1.0 3.5.1
bladderbatch 1.18.0 3.5.1
blima 1.14.0 3.5.1
blimaTestingData 0.114.0 3.5.1
BLMA 1.4.0 3.5.1
blob 1.1.1 3.5.1
blockmodeling 0.3.1 3.5.1
BloodCancerMultiOmics2017 1.0.2 3.5.1
BMA 3.18.9 3.5.1
bmp 0.3 3.5.1
bnbc 1.2.0 3.5.1
bnlearn 4.3 3.5.1
bookdown 0.7 3.5.1
BoolNet 2.1.4 3.5.1
boot 1.3-20 3.5.1
bootstrap 2017.2 3.5.1
bpca 1.3-0 3.5.1
BPRMeth 1.6.0 3.5.1
BRAIN 1.26.0 3.5.1
BrainStars 1.24.0 3.5.1
branchpointer 1.6.0 3.5.1
breastCancerMAINZ 1.18.0 3.5.1
breastCancerNKI 1.18.0 3.5.1
breastCancerTRANSBIG 1.18.0 3.5.1
breastCancerUNT 1.18.0 3.5.1
breastCancerUPP 1.18.0 3.5.1
breastCancerVDX 1.18.0 3.5.1
brew 1.0-6 3.5.1
brgedata 1.2.0 3.5.1
brglm 0.6.1 3.5.1
bridge 1.44.0 3.5.1
BridgeDbR 1.14.0 3.5.1
bronchialIL13 1.18.0 3.5.1
broom 0.5.0 3.5.1
BrowserViz 2.2.0 3.5.1
BrowserVizDemo 1.12.0 3.5.1
BSgenome 1.48.0 3.5.1
BSgenome.Athaliana.TAIR.TAIR9 1.3.1000 3.5.1
BSgenome.Celegans.UCSC.ce10 1.4.0 3.5.1
BSgenome.Celegans.UCSC.ce2 1.4.0 3.5.1
BSgenome.Dmelanogaster.UCSC.dm3 1.4.0 3.5.1
BSgenome.Drerio.UCSC.danRer10 1.4.2 3.5.1
BSgenome.Drerio.UCSC.danRer7 1.4.0 3.5.1
BSgenome.Ecoli.NCBI.20080805 1.3.1000 3.5.1
BSgenome.Ggallus.UCSC.galGal3 1.4.0 3.5.1
BSgenome.Hsapiens.1000genomes.hs37d5 0.99.1 3.5.1
BSgenome.Hsapiens.NCBI.GRCh38 1.3.1000 3.5.1
BSgenome.Hsapiens.UCSC.hg18 1.3.1000 3.5.1
BSgenome.Hsapiens.UCSC.hg18.masked 1.3.99 3.5.1
BSgenome.Hsapiens.UCSC.hg19 1.4.0 3.5.1
BSgenome.Hsapiens.UCSC.hg19.masked 1.3.99 3.5.1
BSgenome.Hsapiens.UCSC.hg38 1.4.1 3.5.1
BSgenome.Hsapiens.UCSC.hg38.masked 1.3.99 3.5.1
BSgenome.Mmusculus.UCSC.mm10 1.4.0 3.5.1
BSgenome.Mmusculus.UCSC.mm10.masked 1.3.99 3.5.1
BSgenome.Mmusculus.UCSC.mm8 1.4.0 3.5.1
BSgenome.Mmusculus.UCSC.mm8.masked 1.3.99 3.5.1
BSgenome.Mmusculus.UCSC.mm9 1.4.0 3.5.1
BSgenome.Mmusculus.UCSC.mm9.masked 1.3.99 3.5.1
BSgenome.Rnorvegicus.UCSC.rn5 1.4.0 3.5.1
BSgenome.Rnorvegicus.UCSC.rn5.masked 1.3.99 3.5.1
BSgenome.Rnorvegicus.UCSC.rn6 1.4.1 3.5.1
BSgenome.Scerevisiae.UCSC.sacCer1 1.4.0 3.5.1
BSgenome.Scerevisiae.UCSC.sacCer2 1.4.0 3.5.1
BSgenome.Scerevisiae.UCSC.sacCer3 1.4.0 3.5.1
bsseq 1.16.1 3.5.1
bsseqData 0.18.1 3.5.1
BubbleTree 2.10.0 3.5.1
BufferedMatrix 1.44.0 3.5.1
BufferedMatrixMethods 1.44.0 3.5.1
BUMHMM 1.4.0 3.5.1
bumphunter 1.22.0 3.5.1
BUS 1.36.0 3.5.1
c3net 1.1.1 3.5.1
C50 0.1.2 3.5.1
ca 0.71 3.5.1
CAFE 1.16.0 3.5.1
CAGEfightR 1.0.0 3.5.1
CAGEr 1.22.3 3.5.1
Cairo 1.5-9 3.5.1
cairoDevice 2.25 3.5.1
CALIB 1.46.0 3.5.1
calibrate 1.7.2 3.5.1
callr 3.0.0 3.5.1
CAMERA 1.36.0 3.5.1
canceR 1.14.0 3.5.1
cancerclass 1.24.0 3.5.1
cancerdata 1.18.0 3.5.1
CancerInSilico 2.0.0 3.5.1
CancerMutationAnalysis 1.22.0 3.5.1
CancerSubtypes 1.6.0 3.5.1
CAnD 1.12.0 3.5.1
caOmicsV 1.10.0 3.5.1
capushe 1.1.1 3.5.1
car 3.0-2 3.5.1
carData 3.0-2 3.5.1
Cardinal 1.12.1 3.5.1
CardinalWorkflows 1.12.0 3.5.1
caret 6.0-80 3.5.1
caroline 0.7.6 3.5.1
casper 2.14.0 3.5.1
CATALYST 1.4.2 3.5.1
Category 2.46.0 3.5.1
categoryCompare 1.24.0 3.5.1
catnet 1.15.3 3.5.1
caTools 1.17.1.1 3.5.1
CausalR 1.12.0 3.5.1
cba 0.2-19 3.5.1
cbaf 1.2.0 3.5.1
ccaPP 0.3.2 3.5.1
ccdata 1.6.0 3.5.1
ccfindR 1.0.0 3.5.1
CCl4 1.18.0 3.5.1
ccmap 1.6.0 3.5.1
CCP 1.1 3.5.1
CCPROMISE 1.6.0 3.5.1
ccrepe 1.16.0 3.5.1
ccTutorial 1.18.0 3.5.1
CDFt 1.0.1 3.5.1
celestial 1.4.1 3.5.1
cellbaseR 1.4.0 3.5.1
cellGrowth 1.24.0 3.5.1
cellHTS2 2.44.0 3.5.1
cellity 1.8.0 3.5.1
CellMapper 1.6.0 3.5.1
CellMapperData 1.6.0 3.5.1
CellNOptR 1.26.0 3.5.1
cellranger 1.1.0 3.5.1
cellscape 1.4.0 3.5.1
CellScore 1.0.0 3.5.1
cellTree 1.10.0 3.5.1
CEMiTool 1.4.2 3.5.1
ceu1kg 0.18.0 3.5.1
ceu1kgv 0.22.0 3.5.1
ceuhm3 0.18.0 3.5.1
CexoR 1.18.0 3.5.1
CFAssay 1.14.0 3.5.1
cgdsr 1.2.10 3.5.1
cgdv17 0.18.0 3.5.1
CGEN 3.16.0 3.5.1
CGHbase 1.40.0 3.5.1
CGHcall 2.42.0 3.5.1
cghMCR 1.38.0 3.5.1
CGHnormaliter 1.34.0 3.5.1
CGHregions 1.38.0 3.5.1
ChAMP 2.10.2 3.5.1
ChAMPdata 2.12.0 3.5.1
changepoint 2.2.2 3.5.1
CHARGE 1.0.0 3.5.1
charm 2.26.0 3.5.1
charmData 1.16.0 3.5.1
checkmate 1.8.5 3.5.1
ChemmineDrugs 1.0.0 3.5.1
ChemmineOB 1.18.0 3.5.1
ChemmineR 3.32.1 3.5.1
ChemometricsWithR 0.1.11 3.5.1
cheung2010 0.18.0 3.5.1
ChIC 1.0.0 3.5.1
ChIC.data 1.0.0 3.5.1
Chicago 1.8.0 3.5.1
chimera 1.22.0 3.5.1
chimeraviz 1.6.2 3.5.1
ChimpHumanBrainData 1.18.0 3.5.1
ChIPanalyser 1.2.0 3.5.1
ChIPComp 1.10.0 3.5.1
chipenrich 2.4.0 3.5.1
chipenrich.data 2.4.0 3.5.1
ChIPexoQual 1.4.0 3.5.1
ChIPexoQualExample 1.4.0 3.5.1
ChIPpeakAnno 3.14.2 3.5.1
ChIPQC 1.16.1 3.5.1
ChIPseeker 1.16.1 3.5.1
chipseq 1.30.0 3.5.1
chipseqDB 1.2.0 3.5.1
ChIPseqR 1.34.0 3.5.1
ChIPSeqSpike 1.0.0 3.5.1
ChIPsim 1.34.0 3.5.1
ChIPXpress 1.24.0 3.5.1
ChIPXpressData 1.18.0 3.5.1
chopsticks 1.46.0 3.5.1
chroGPS 1.28.0 3.5.1
chromDraw 2.10.0 3.5.1
ChromHeatMap 1.34.0 3.5.1
chromPlot 1.8.0 3.5.1
chromstaR 1.6.2 3.5.1
chromstaRData 1.6.0 3.5.1
chromswitch 1.2.1 3.5.1
chromVAR 1.2.0 3.5.1
chron 2.3-53 3.5.1
CHRONOS 1.8.1 3.5.1
CINdex 1.8.0 3.5.1
circlize 0.4.4 3.5.1
CircStats 0.2-6 3.5.1
cisPath 1.20.0 3.5.1
class 7.3-14 3.5.1
ClassifyR 2.0.10 3.5.1
classInt 0.2-3 3.5.1
cleanUpdTSeq 1.18.0 3.5.1
cleaver 1.18.0 3.5.1
cli 1.0.1 3.5.1
clinfun 1.0.15 3.5.1
clippda 1.30.0 3.5.1
clipper 1.20.1 3.5.1
clipr 0.4.1 3.5.1
CLL 1.20.0 3.5.1
CLLmethylation 1.0.0 3.5.1
Clomial 1.16.0 3.5.1
Clonality 1.28.0 3.5.1
clonotypeR 1.18.0 3.5.1
clst 1.28.0 3.5.1
clstutils 1.28.0 3.5.1
clue 0.3-56 3.5.1
clues 0.5.9 3.5.1
clustComp 1.8.0 3.5.1
cluster 2.0.7-1 3.5.1
clusterCrit 1.2.8 3.5.1
clusterExperiment 2.0.2 3.5.1
ClusterJudge 1.2.0 3.5.1
clusterProfiler 3.8.1 3.5.1
ClusterR 1.1.5 3.5.1
clusterSeq 1.4.0 3.5.1
ClusterSignificance 1.8.2 3.5.1
clusterSim 0.47-2 3.5.1
clusterStab 1.52.0 3.5.1
clustsig 1.1 3.5.1
clValid 0.6-6 3.5.1
CMA 1.38.0 3.5.1
cMAP 1.15.1 3.5.1
cMap2data 1.16.0 3.5.1
cmprsk 2.2-7 3.5.1
cn.farms 1.28.0 3.5.1
cn.mops 1.26.0 3.5.1
CNAnorm 1.26.0 3.5.1
CNEr 1.16.1 3.5.1
CNORdt 1.22.0 3.5.1
CNORfeeder 1.20.0 3.5.1
CNORfuzzy 1.22.0 3.5.1
CNORode 1.22.0 3.5.1
CNPBayes 1.10.0 3.5.1
CNTools 1.36.0 3.5.1
cnvGSA 1.24.0 3.5.1
cnvGSAdata 1.16.0 3.5.1
CNVPanelizer 1.12.0 3.5.1
CNVrd2 1.18.0 3.5.1
CNVtools 1.74.0 3.5.1
cobindR 1.18.0 3.5.1
CoCiteStats 1.52.0 3.5.1
coda 0.19-2 3.5.1
codelink 1.48.0 3.5.1
codetools 0.2-15 3.5.1
CODEX 1.12.0 3.5.1
coexnet 1.2.0 3.5.1
CoGAPS 3.0.2 3.5.1
cogena 1.14.0 3.5.1
coGPS 1.24.0 3.5.1
COHCAP 1.26.0 3.5.1
COHCAPanno 1.16.0 3.5.1
coin 1.2-2 3.5.1
colonCA 1.22.0 3.5.1
colorRamps 2.3 3.5.1
colorspace 1.3-2 3.5.1
colortools 0.1.5 3.5.1
colourpicker 1.0 3.5.1
combinat 0.0-8 3.5.1
coMET 1.12.0 3.5.1
cometExactTest 0.1.5 3.5.1
commonmark 1.6 3.5.1
COMPASS 1.18.1 3.5.1
compcodeR 1.16.1 3.5.1
compEpiTools 1.14.1 3.5.1
CompGO 1.16.0 3.5.1
compiler 3.5.1 3.5.1
ComplexHeatmap 1.18.1 3.5.1
compositions 1.40-2 3.5.1
CompQuadForm 1.4.3 3.5.1
CONFESS 1.8.0 3.5.1
CONFESSdata 1.8.0 3.5.1
ConnectivityMap 1.16.0 3.5.1
ConsensusClusterPlus 1.44.0 3.5.1
consensusOV 1.2.0 3.5.1
consensusSeekeR 1.8.0 3.5.1
contiBAIT 1.8.0 3.5.1
contrast 0.21 3.5.1
conumee 1.14.0 3.5.1
convert 1.56.0 3.5.1
copa 1.48.0 3.5.1
COPDSexualDimorphism.data 1.16.0 3.5.1
copula 0.999-18 3.5.1
CopyhelpeR 1.12.0 3.5.1
copynumber 1.20.0 3.5.1
CopywriteR 2.12.0 3.5.1
CoRegNet 1.18.0 3.5.1
Cormotif 1.26.0 3.5.1
CorMut 1.22.0 3.5.1
corpcor 1.6.9 3.5.1
CORREP 1.46.0 3.5.1
corrgram 1.13 3.5.1
corrplot 0.84 3.5.1
coseq 1.4.0 3.5.1
COSMIC.67 1.16.0 3.5.1
cosmiq 1.14.0 3.5.1
COSNet 1.14.0 3.5.1
CountClust 1.8.0 3.5.1
covEB 1.6.0 3.5.1
CoverageView 1.18.0 3.5.1
covr 3.2.0 3.5.1
covRNA 1.6.0 3.5.1
cowplot 0.9.3 3.5.1
CoxBoost 1.4 3.5.1
cp4p 0.3.5 3.5.1
CPE 1.5.1 3.5.1
cpvSNP 1.12.0 3.5.1
cqn 1.26.0 3.5.1
crayon 1.3.4 3.5.1
CRCL18 0.114.0 3.5.1
CRImage 1.28.0 3.5.1
CRISPRseek 1.20.0 3.5.1
crisprseekplus 1.6.0 3.5.1
CrispRVariants 1.8.0 3.5.1
crlmm 1.38.0 3.5.1
crossmeta 1.6.0 3.5.1
crosstalk 1.0.0 3.5.1
CSAR 1.32.0 3.5.1
csaw 1.14.1 3.5.1
CSSP 1.18.0 3.5.1
ctc 1.54.0 3.5.1
CTDquerier 1.0.0 3.5.1
ctsGE 1.6.1 3.5.1
cubature 1.4 3.5.1
Cubist 0.2.2 3.5.1
cummeRbund 2.22.0 3.5.1
curatedBladderData 1.16.0 3.5.1
curatedBreastData 2.8.0 3.5.1
curatedCRCData 2.12.0 3.5.1
curatedMetagenomicData 1.10.2 3.5.1
curatedOvarianData 1.18.0 3.5.1
curatedTCGAData 1.2.0 3.5.1
curl 3.2 3.5.1
customProDB 1.20.2 3.5.1
cvAUC 1.1.0 3.5.1
CVE 1.6.0 3.5.1
CVST 0.2-2 3.5.1
cvTools 0.3.2 3.5.1
cvxclustr 1.1.1 3.5.1
cycle 1.34.0 3.5.1
cydar 1.4.0 3.5.1
CytoDx 1.0.1 3.5.1
cytofkit 1.12.0 3.5.1
cytofWorkflow 1.2.0 3.5.1
cytolib 1.2.0 3.5.1
CytoML 1.6.5 3.5.1
d3heatmap 0.6.1.2 3.5.1
d3Network 0.5.2.1 3.5.1
dada2 1.8.0 3.5.1
dagitty 0.2-2 3.5.1
dagLogo 1.18.0 3.5.1
daMA 1.52.0 3.5.1
DaMiRseq 1.4.2 3.5.1
DAPAR 1.12.11 3.5.1
DAPARdata 1.10.2 3.5.1
DART 1.28.0 3.5.1
DASC 1.2.0 3.5.1
data.table 1.11.8 3.5.1
datasets 3.5.1 3.5.1
davidTiling 1.20.0 3.5.1
DBChIP 1.24.0 3.5.1
DBI 1.0.0 3.5.1
dbplyr 1.2.2 3.5.1
dcGSA 1.8.0 3.5.1
DChIPRep 1.10.0 3.5.1
ddalpha 1.3.4 3.5.1
ddCt 1.36.0 3.5.1
ddPCRclust 1.0.1 3.5.1
DDRTree 0.1.5 3.5.1
debrowser 1.8.5 3.5.1
DECIPHER 2.8.1 3.5.1
DEComplexDisease 1.0.0 3.5.1
DeconRNASeq 1.22.0 3.5.1
decontam 1.0.0 3.5.1
DEDS 1.54.0 3.5.1
DeepBlueR 1.6.0 3.5.1
deepSNV 1.26.1 3.5.1
DEFormats 1.8.0 3.5.1
DEGraph 1.32.0 3.5.1
DEGreport 1.16.0 3.5.1
DEGseq 1.34.1 3.5.1
Delaporte 6.2.0 3.5.1
DelayedArray 0.6.6 3.5.1
DelayedMatrixStats 1.2.0 3.5.1
deldir 0.1-15 3.5.1
deltaGseg 1.20.0 3.5.1
DeMAND 1.10.0 3.5.1
dendextend 1.8.0 3.5.1
dendsort 0.3.3 3.5.1
densityClust 0.3 3.5.1
DEoptimR 1.0-8 3.5.1
DEP 1.2.0 3.5.1
depmixS4 1.3-5 3.5.1
derfinder 1.14.0 3.5.1
derfinderData 0.114.0 3.5.1
derfinderHelper 1.14.0 3.5.1
derfinderPlot 1.14.0 3.5.1
desc 1.2.0 3.5.1
DEScan2 1.0.0 3.5.1
DescTools 0.99.25 3.5.1
DESeq 1.32.0 3.5.1
DESeq2 1.20.0 3.5.1
DEsingle 1.0.5 3.5.1
deSolve 1.21 3.5.1
DeSousa2013 1.16.0 3.5.1
destiny 2.10.2 3.5.1
DEsubs 1.6.3 3.5.1
devtools 1.13.6 3.5.1
DEXSeq 1.26.0 3.5.1
dexus 1.20.0 3.5.1
dfoptim 2018.2-1 3.5.1
DFP 1.38.0 3.5.1
diagram 1.6.4 3.5.1
DiagrammeR 1.0.0 3.5.1
DiagrammeRsvg 0.1 3.5.1
dichromat 2.0-0 3.5.1
DiffBind 2.8.0 3.5.1
diffcoexp 1.0.0 3.5.1
DiffCorr 0.4.1 3.5.1
diffcyt 1.0.10 3.5.1
diffGeneAnalysis 1.62.0 3.5.1
diffHic 1.12.1 3.5.1
DiffLogo 2.4.0 3.5.1
diffloop 1.8.0 3.5.1
diffloopdata 1.8.0 3.5.1
diffr 0.1 3.5.1
diffusr 0.1.4 3.5.1
diffuStats 0.104.0 3.5.1
digest 0.6.18 3.5.1
diggit 1.12.0 3.5.1
diggitdata 1.12.0 3.5.1
dimRed 0.1.0 3.5.1
diptest 0.75-7 3.5.1
Director 1.6.0 3.5.1
DirichletMultinomial 1.22.0 3.5.1
discordant 1.4.0 3.5.1
DiscriMiner 0.1-29 3.5.1
distillery 1.0-4 3.5.1
distr 2.7.0 3.5.1
distrEx 2.7.0 3.5.1
dks 1.26.0 3.5.1
DLBCL 1.20.0 3.5.1
DMCHMM 1.2.0 3.5.1
DmelSGI 1.12.0 3.5.1
DMRcaller 1.12.7 3.5.1
DMRcate 1.16.0 3.5.1
DMRcatedata 1.16.0 3.5.1
DMRforPairs 1.16.0 3.5.1
DMRScan 1.6.0 3.5.1
dmrseq 1.0.14 3.5.1
dmt 0.8.20 3.5.1
DMwR 0.4.1 3.5.1
DNABarcodes 1.10.0 3.5.1
DNAcopy 1.54.0 3.5.1
DNAshapeR 1.8.0 3.5.1
dnet 1.1.4 3.5.1
DO.db 2.9 3.5.1
doBy 4.6-2 3.5.1
docopt 0.6.1 3.5.1
doFuture 0.6.0 3.5.1
doMC 1.3.5 3.5.1
DominoEffect 1.0.0 3.5.1
doMPI 0.2.2 3.5.1
DonaPLLP2013 1.18.0 3.5.1
doParallel 1.0.14 3.5.1
doppelgangR 1.8.0 3.5.1
DOQTL 1.16.2 3.5.1
doRNG 1.7.1 3.5.1
Doscheda 1.2.0 3.5.1
DOSE 3.6.1 3.5.1
doSNOW 1.0.16 3.5.1
dotCall64 1.0-0 3.5.1
downloader 0.4 3.5.1
dplyr 0.7.6 3.5.1
DPpackage 1.1-7.4 3.5.1
drawProteins 1.0.0 3.5.1
drc 3.0-1 3.5.1
DREAM4 1.16.0 3.5.1
dressCheck 0.18.0 3.5.1
DRIMSeq 1.8.0 3.5.1
DriverNet 1.20.0 3.5.1
DropletUtils 1.0.3 3.5.1
drosgenome1.db 3.2.3 3.5.1
drosophila2probe 2.18.0 3.5.1
DRR 0.0.3 3.5.1
DrugVsDisease 2.22.0 3.5.1
DrugVsDiseasedata 1.16.0 3.5.1
dSimer 1.6.0 3.5.1
dsQTL 0.18.0 3.5.1
DSS 2.28.0 3.5.1
DT 0.4 3.5.1
DTA 2.26.0 3.5.1
dtw 1.20-1 3.5.1
dualKS 1.40.0 3.5.1
DupChecker 1.18.0 3.5.1
dupRadar 1.10.0 3.5.1
DvDdata 1.16.0 3.5.1
dyebias 1.40.0 3.5.1
dyebiasexamples 1.20.0 3.5.1
dynamicTreeCut 1.63-1 3.5.1
DynDoc 1.58.0 3.5.1
e1071 1.7-0 3.5.1
earth 4.6.3 3.5.1
easyRNASeq 2.16.0 3.5.1
EatonEtAlChIPseq 0.18.0 3.5.1
EBarrays 2.44.0 3.5.1
EBcoexpress 1.24.0 3.5.1
ebdbNet 1.2.5 3.5.1
EBImage 4.22.1 3.5.1
EBSEA 1.8.0 3.5.1
EBSeq 1.20.0 3.5.1
EBSeqHMM 1.14.0 3.5.1
ecolicdf 2.18.0 3.5.1
ecoliLeucine 1.20.0 3.5.1
ecolitk 1.52.0 3.5.1
ecp 3.1.0 3.5.1
EDASeq 2.14.1 3.5.1
EDDA 1.18.0 3.5.1
edge 2.12.2 3.5.1
edgeR 3.22.5 3.5.1
eegc 1.6.1 3.5.1
EGAD 1.8.0 3.5.1
EGSEA 1.8.0 3.5.1
EGSEA123 1.2.0 3.5.1
EGSEAdata 1.8.0 3.5.1
eiR 1.20.0 3.5.1
eisa 1.32.0 3.5.1
elasticnet 1.1.1 3.5.1
ELBOW 1.16.0 3.5.1
ellipse 0.4.1 3.5.1
ELMER 2.4.4 3.5.1
ELMER.data 2.4.2 3.5.1
emdbook 1.3.10 3.5.1
emdist 0.3-1 3.5.1
EMDomics 2.10.0 3.5.1
emojifont 0.5.2 3.5.1
EmpiricalBrownsMethod 1.8.0 3.5.1
EMT 1.1 3.5.1
ENCODExplorer 2.6.0 3.5.1
energy 1.7-5 3.5.1
ENmix 1.16.0 3.5.1
EnrichedHeatmap 1.10.0 3.5.1
EnrichmentBrowser 2.10.11 3.5.1
enrichplot 1.0.2 3.5.1
enrichR 1.0 3.5.1
EnsDb.Hsapiens.v75 2.99.0 3.5.1
EnsDb.Hsapiens.v79 2.99.0 3.5.1
EnsDb.Hsapiens.v86 2.99.0 3.5.1
EnsDb.Mmusculus.v79 2.99.0 3.5.1
ensembldb 2.4.1 3.5.1
ensemblVEP 1.22.1 3.5.1
ensurer 1.1 3.5.1
entropy 1.2.1 3.5.1
enviPat 2.2 3.5.1
ENVISIONQuery 1.28.0 3.5.1
Epi 2.32 3.5.1
EpiDISH 1.2.0 3.5.1
epigenomix 1.20.0 3.5.1
epiNEM 1.4.0 3.5.1
epivizr 2.10.0 3.5.1
epivizrChart 1.2.0 3.5.1
epivizrData 1.8.0 3.5.1
epivizrServer 1.8.1 3.5.1
epivizrStandalone 1.8.0 3.5.1
eQTL 1.2.0 3.5.1
erccdashboard 1.14.0 3.5.1
erma 0.12.0 3.5.1
esATAC 1.2.3 3.5.1
esetVis 1.6.3 3.5.1
estimability 1.3 3.5.1
estrogen 1.26.0 3.5.1
etec16s 1.8.0 3.5.1
etm 1.0.4 3.5.1
etrunct 0.1 3.5.1
eudysbiome 1.10.0 3.5.1
eulerr 4.1.0 3.5.1
evaluate 0.12 3.5.1
evd 2.3-3 3.5.1
EventPointer 1.4.0 3.5.1
evmix 2.11 3.5.1
exactRankTests 0.8-29 3.5.1
ExiMiR 2.22.0 3.5.1
exomeCopy 1.26.0 3.5.1
exomePeak 2.14.0 3.5.1
ExperimentHub 1.6.1 3.5.1
ExperimentHubData 1.6.0 3.5.1
expint 0.1-5 3.5.1
explorase 1.44.0 3.5.1
expm 0.999-3 3.5.1
ExPosition 2.8.19 3.5.1
ExpressionAtlas 1.8.1 3.5.1
ExpressionNormalizationWorkflow 1.4.0 3.5.1
ExpressionView 1.32.0 3.5.1
extrafont 0.17 3.5.1
extrafontdb 1.0 3.5.1
extRemes 2.0-9 3.5.1
extremevalues 2.3.2 3.5.1
faahKO 1.20.0 3.5.1
fabia 2.26.0 3.5.1
fabiaData 1.18.0 3.5.1
facopy.annot 0.114.0 3.5.1
facsDorit 1.22.0 3.5.1
factDesign 1.56.0 3.5.1
factoextra 1.0.5 3.5.1
FactoMineR 1.41 3.5.1
FamAgg 1.8.0 3.5.1
fansi 0.4.0 3.5.1
FANTOM3and4CAGE 1.16.0 3.5.1
farms 1.32.0 3.5.1
farver 1.0 3.5.1
fastcluster 1.1.25 3.5.1
fastICA 1.2-1 3.5.1
fastLiquidAssociation 1.16.0 3.5.1
fastmatch 1.1-0 3.5.1
fastseg 1.26.0 3.5.1
fBasics 3042.89 3.5.1
fCCAC 1.6.0 3.5.1
fCI 1.10.0 3.5.1
FD 1.0-12 3.5.1
fda 2.4.8 3.5.1
FDb.InfiniumMethylation.hg18 2.2.0 3.5.1
FDb.InfiniumMethylation.hg19 2.2.0 3.5.1
FDb.UCSC.tRNAs 1.0.1 3.5.1
fdrame 1.52.0 3.5.1
fdrtool 1.2.15 3.5.1
feather 0.3.1 3.5.1
feature 1.2.13 3.5.1
FELLA 1.0.1 3.5.1
FEM 3.8.0 3.5.1
ff 2.2-14 3.5.1
ffbase 0.12.5 3.5.1
FField 0.1.0 3.5.1
ffpe 1.24.0 3.5.1
ffpeExampleData 1.18.0 3.5.1
fftwtools 0.9-8 3.5.1
FGNet 3.14.0 3.5.1
fgsea 1.6.0 3.5.1
fibroEset 1.22.0 3.5.1
fields 9.6 3.5.1
filehash 2.4-1 3.5.1
filematrix 1.3 3.5.1
FindMyFriends 1.10.0 3.5.1
findpython 1.0.3 3.5.1
fingerprint 3.5.7 3.5.1
FIs 1.8.0 3.5.1
FISHalyseR 1.14.0 3.5.1
fission 0.114.0 3.5.1
fit.models 0.5-14 3.5.1
fitdistrplus 1.0-11 3.5.1
FitHiC 1.6.0 3.5.1
flagme 1.36.0 3.5.1
flare 1.6.0 3.5.1
flashClust 1.01-2 3.5.1
Fletcher2013a 1.16.0 3.5.1
Fletcher2013b 1.16.0 3.5.1
flexclust 1.4-0 3.5.1
flexmix 2.3-14 3.5.1
flipflop 1.18.0 3.5.1
flowAI 1.10.1 3.5.1
flowBeads 1.18.0 3.5.1
flowBin 1.16.0 3.5.1
flowcatchR 1.14.0 3.5.1
flowCHIC 1.14.0 3.5.1
flowCL 1.18.1 3.5.1
flowClean 1.18.0 3.5.1
flowClust 3.18.0 3.5.1
flowCore 1.46.2 3.5.1
flowCyBar 1.16.0 3.5.1
flowDensity 1.14.0 3.5.1
flowFit 1.18.0 3.5.1
flowFitExampleData 1.16.0 3.5.1
flowFP 1.38.0 3.5.1
flowMap 1.18.0 3.5.1
flowMatch 1.16.0 3.5.1
flowMeans 1.40.0 3.5.1
flowMerge 2.28.0 3.5.1
flowPeaks 1.26.0 3.5.1
flowPloidy 1.6.0 3.5.1
flowPloidyData 1.6.0 3.5.1
flowPlots 1.28.0 3.5.1
flowQ 1.40.0 3.5.1
flowQB 2.8.0 3.5.1
flowQBData 1.6.0 3.5.1
FlowRepositoryR 1.12.0 3.5.1
FlowSOM 1.12.0 3.5.1
FlowSorted.Blood.450k 1.18.0 3.5.1
FlowSorted.CordBlood.450k 1.8.0 3.5.1
FlowSorted.CordBloodNorway.450k 1.6.0 3.5.1
FlowSorted.DLPFC.450k 1.16.0 3.5.1
flowStats 3.38.0 3.5.1
flowTime 1.4.0 3.5.1
flowTrans 1.32.0 3.5.1
flowType 2.18.0 3.5.1
flowUtils 1.44.0 3.5.1
flowViz 1.44.0 3.5.1
flowVS 1.12.0 3.5.1
flowWorkspace 3.28.2 3.5.1
flowWorkspaceData 2.16.0 3.5.1
fmcsR 1.22.0 3.5.1
fmsb 0.6.3 3.5.1
FNN 1.1.2.1 3.5.1
focalCall 1.14.0 3.5.1
fontBitstreamVera 0.1.1 3.5.1
fontLiberation 0.1.0 3.5.1
fontquiver 0.2.1 3.5.1
forcats 0.3.0 3.5.1
foreach 1.4.4 3.5.1
foreign 0.8-71 3.5.1
forestplot 1.7.2 3.5.1
formatR 1.5 3.5.1
Formula 1.2-3 3.5.1
formula.tools 1.7.1 3.5.1
FourCSeq 1.14.0 3.5.1
fpc 2.1-11.1 3.5.1
FRGEpistasis 1.16.0 3.5.1
frma 1.32.0 3.5.1
frmaExampleData 1.16.0 3.5.1
frmaTools 1.32.0 3.5.1
fs 1.2.6 3.5.1
FSelector 0.31 3.5.1
FunChIP 1.6.0 3.5.1
FunciSNP 1.24.0 3.5.1
FunciSNP.data 1.16.0 3.5.1
functional 0.6 3.5.1
funtooNorm 1.4.0 3.5.1
furrowSeg 1.8.0 3.5.1
futile.logger 1.4.3 3.5.1
futile.options 1.0.1 3.5.1
future 1.9.0 3.5.1
future.apply 1.0.1 3.5.1
GA 3.1.1 3.5.1
GA4GHclient 1.4.0 3.5.1
GA4GHshiny 1.2.0 3.5.1
gaga 2.26.0 3.5.1
gage 2.30.0 3.5.1
gageData 2.18.0 3.5.1
gaggle 1.48.0 3.5.1
gaia 2.24.0 3.5.1
gam 1.16 3.5.1
gamlss 5.1-2 3.5.1
gamlss.data 5.1-0 3.5.1
gamlss.dist 5.1-0 3.5.1
gap 1.1-22 3.5.1
GAprediction 1.6.0 3.5.1
garfield 1.8.0 3.5.1
GARS 1.0.0 3.5.1
gaschYHS 1.18.0 3.5.1
GateFinder 1.0.0 3.5.1
gatingMLData 2.20.0 3.5.1
gaucho 1.16.0 3.5.1
gbm 2.1.4 3.5.1
gbRd 0.4-11 3.5.1
gcapc 1.4.0 3.5.1
gcatest 1.10.0 3.5.1
gclus 1.3.1 3.5.1
gCMAP 1.24.0 3.5.1
gCMAPWeb 1.20.0 3.5.1
gCrisprTools 1.8.0 3.5.1
gcrma 2.52.0 3.5.1
gcspikelite 1.18.0 3.5.1
gdata 2.18.0 3.5.1
GDCRNATools 1.0.7 3.5.1
GDSArray 1.0.0 3.5.1
gdsfmt 1.16.0 3.5.1
gdtools 0.1.7 3.5.1
geecc 1.14.0 3.5.1
geeM 0.10.1 3.5.1
geepack 1.2-1 3.5.1
GEM 1.6.0 3.5.1
genalg 0.2.0 3.5.1
genArise 1.56.0 3.5.1
genbankr 1.8.0 3.5.1
GeneAnswers 2.22.0 3.5.1
geneAttribution 1.6.0 3.5.1
GeneBreak 1.10.0 3.5.1
geneClassifiers 1.4.0 3.5.1
GeneExpressionSignature 1.26.0 3.5.1
genefilter 1.62.0 3.5.1
genefu 2.12.0 3.5.1
GeneGA 1.30.0 3.5.1
GeneGeneInteR 1.6.0 3.5.1
geneLenDataBase 1.16.0 3.5.1
GeneMeta 1.52.0 3.5.1
GeneNet 1.2.13 3.5.1
GeneNetworkBuilder 1.22.0 3.5.1
GeneOverlap 1.16.0 3.5.1
geneplast 1.6.2 3.5.1
geneplotter 1.58.0 3.5.1
geneRecommender 1.52.0 3.5.1
GeneRegionScan 1.36.0 3.5.1
generegulation 1.2.0 3.5.1
geneRxCluster 1.16.0 3.5.1
GeneSelectMMD 2.24.0 3.5.1
GENESIS 2.10.1 3.5.1
GeneStructureTools 1.0.0 3.5.1
geNetClassifier 1.20.0 3.5.1
genetics 1.3.8.1 3.5.1
GeneticsDesign 1.48.0 3.5.1
GeneticsPed 1.42.0 3.5.1
geneXtendeR 1.6.0 3.5.1
GENIE3 1.2.1 3.5.1
GenKern 1.2-60 3.5.1
genoCN 1.32.0 3.5.1
GenoGAM 1.8.0 3.5.1
genomation 1.12.0 3.5.1
genomationData 1.12.0 3.5.1
GenomeGraphs 1.40.0 3.5.1
GenomeInfoDb 1.16.0 3.5.1
GenomeInfoDbData 1.1.0 3.5.1
genomeIntervals 1.36.0 3.5.1
genomes 3.10.0 3.5.1
genomewidesnp5Crlmm 1.0.6 3.5.1
genomewidesnp6Crlmm 1.0.7 3.5.1
GenomicAlignments 1.16.0 3.5.1
GenomicDataCommons 1.4.3 3.5.1
GenomicFeatures 1.32.3 3.5.1
GenomicFiles 1.16.0 3.5.1
GenomicInteractions 1.14.0 3.5.1
GenomicRanges 1.32.7 3.5.1
GenomicScores 1.4.1 3.5.1
GenomicTuples 1.14.1 3.5.1
Genominator 1.34.0 3.5.1
genoset 1.36.0 3.5.1
genotypeeval 1.12.0 3.5.1
genphen 1.8.0 3.5.1
GenRank 1.8.0 3.5.1
GenSA 1.1.7 3.5.1
GenVisR 1.12.1 3.5.1
GEOmap 2.4-4 3.5.1
GEOmetadb 1.42.0 3.5.1
geometry 0.3-6 3.5.1
GEOquery 2.48.0 3.5.1
GEOsubmission 1.32.0 3.5.1
gep2pep 1.0.0 3.5.1
gespeR 1.12.0 3.5.1
getopt 1.20.2 3.5.1
GetoptLong 0.1.7 3.5.1
GeuvadisTranscriptExpr 1.8.0 3.5.1
geuvPack 1.12.0 3.5.1
geuvStore2 1.10.0 3.5.1
GEWIST 1.24.0 3.5.1
GGally 1.4.0 3.5.1
GGBase 3.42.0 3.5.1
ggbeeswarm 0.6.0 3.5.1
ggbio 1.28.5 3.5.1
ggcyto 1.8.2 3.5.1
GGdata 1.18.0 3.5.1
ggdendro 0.1-20 3.5.1
ggExtra 0.8 3.5.1
ggforce 0.1.3 3.5.1
ggfortify 0.4.5 3.5.1
ggimage 0.1.7 3.5.1
ggm 2.3 3.5.1
ggmcmc 1.1 3.5.1
ggnetwork 0.5.1 3.5.1
ggplot2 3.0.0 3.5.1
ggplotify 0.0.3 3.5.1
ggpmisc 0.3.0 3.5.1
ggpubr 0.1.8 3.5.1
ggraph 1.0.2 3.5.1
ggrepel 0.8.0 3.5.1
ggridges 0.5.1 3.5.1
ggsci 2.9 3.5.1
ggseqlogo 0.1 3.5.1
ggsignif 0.4.0 3.5.1
ggtern 3.0.0 3.5.1
ggthemes 4.0.1 3.5.1
GGtools 5.16.0 3.5.1
ggtree 1.12.7 3.5.1
ggvis 0.4.4 3.5.1
girafe 1.32.0 3.5.1
GISPA 1.4.0 3.5.1
gistr 0.4.2 3.5.1
git2r 0.23.0 3.5.1
GLAD 2.44.0 3.5.1
glasso 1.10 3.5.1
Glimma 1.8.2 3.5.1
glm2 1.2.1 3.5.1
glmnet 2.0-16 3.5.1
GlobalAncova 3.48.0 3.5.1
GlobalOptions 0.1.0 3.5.1
globals 0.12.4 3.5.1
globalSeq 1.8.0 3.5.1
globaltest 5.34.1 3.5.1
glue 1.3.0 3.5.1
gmapR 1.22.0 3.5.1
gmm 1.6-2 3.5.1
gmodels 2.18.1 3.5.1
gmp 0.5-13.2 3.5.1
GMRP 1.8.1 3.5.1
GO.db 3.6.0 3.5.1
GOexpress 1.14.0 3.5.1
goftest 1.1-1 3.5.1
GOfuncR 1.0.0 3.5.1
GOFunction 1.28.0 3.5.1
golubEsets 1.22.0 3.5.1
googleAuthR 0.6.3 3.5.1
GoogleGenomics 2.2.0 3.5.1
googleVis 0.6.2 3.5.1
GOpro 1.6.0 3.5.1
goProfiles 1.42.0 3.5.1
goric 1.1-0 3.5.1
GOSemSim 2.6.2 3.5.1
goseq 1.32.0 3.5.1
GOSim 1.18.0 3.5.1
goSTAG 1.4.0 3.5.1
GOstats 2.46.0 3.5.1
GOsummaries 2.16.1 3.5.1
GOTHiC 1.16.0 3.5.1
goTools 1.54.0 3.5.1
gower 0.1.2 3.5.1
gplots 3.0.1 3.5.1
gpls 1.52.0 3.5.1
gprege 1.24.0 3.5.1
gProfileR 0.6.6 3.5.1
gptk 1.08 3.5.1
gQTLBase 1.12.0 3.5.1
gQTLstats 1.12.0 3.5.1
gRain 1.3-0 3.5.1
graph 1.58.2 3.5.1
GraphAlignment 1.44.0 3.5.1
GraphAT 1.52.0 3.5.1
graphics 3.5.1 3.5.1
graphite 1.26.3 3.5.1
GraphPAC 1.22.1 3.5.1
grasp2db 1.1.0 3.5.1
gRbase 1.8-3.4 3.5.1
grDevices 3.5.1 3.5.1
GRENITS 1.32.0 3.5.1
GreyListChIP 1.12.0 3.5.1
grid 3.5.1 3.5.1
gridBase 0.4-7 3.5.1
gridExtra 2.3 3.5.1
gridGraphics 0.3-0 3.5.1
gridSVG 1.6-0 3.5.1
grImport 0.9-1 3.5.1
GRmetrics 1.6.1 3.5.1
grndata 1.12.0 3.5.1
groHMM 1.14.0 3.5.1
grr 0.9.5 3.5.1
GRridge 1.4.0 3.5.1
GSA 1.03 3.5.1
GSALightning 1.8.0 3.5.1
GSAR 1.14.0 3.5.1
GSBenchMark 0.114.0 3.5.1
GSCA 2.10.0 3.5.1
GSE62944 1.8.0 3.5.1
GSEABase 1.42.0 3.5.1
GSEABenchmarkeR 1.0.0 3.5.1
GSEAlm 1.40.0 3.5.1
gsean 1.0.0 3.5.1
gskb 1.12.0 3.5.1
gsl 1.9-10.3 3.5.1
gsmoothr 0.1.7 3.5.1
GSReg 1.14.0 3.5.1
GSRI 2.28.0 3.5.1
gss 2.1-9 3.5.1
gsubfn 0.7 3.5.1
GSVA 1.28.0 3.5.1
GSVAdata 1.16.0 3.5.1
gtable 0.2.0 3.5.1
gtools 3.8.1 3.5.1
gtrellis 1.12.1 3.5.1
GUIDEseq 1.10.0 3.5.1
Guitar 1.18.0 3.5.1
Gviz 1.24.0 3.5.1
gwascat 2.12.0 3.5.1
GWASdata 1.18.0 3.5.1
GWASExactHW 1.01 3.5.1
GWASTools 1.26.1 3.5.1
gWidgets 0.0-54 3.5.1
gWidgets2 1.0-7 3.5.1
gWidgets2RGtk2 1.0-7 3.5.1
gWidgetsRGtk2 0.0-86 3.5.1
gWidgetstcltk 0.0-55 3.5.1
h5vc 2.14.0 3.5.1
h5vcData 1.114.0 3.5.1
hapFabia 1.22.0 3.5.1
haplo.stats 1.7.9 3.5.1
hapmap100khind 1.22.0 3.5.1
hapmap100kxba 1.22.0 3.5.1
hapmap500knsp 1.22.0 3.5.1
hapmap500ksty 1.22.0 3.5.1
hapmapsnp5 1.22.0 3.5.1
hapmapsnp6 1.22.0 3.5.1
harbChIP 1.18.0 3.5.1
HardyWeinberg 1.6.1 3.5.1
Harman 1.8.0 3.5.1
HarmanData 1.8.0 3.5.1
HarmonizedTCGAData 1.2.0 3.5.1
Harshlight 1.52.0 3.5.1
hash 2.2.6 3.5.1
haven 1.1.2 3.5.1
HD2013SGI 1.20.0 3.5.1
HDCytoData 1.0.0 3.5.1
HDF5Array 1.8.1 3.5.1
hdf5r 1.0.1 3.5.1
HDTD 1.14.0 3.5.1
healthyFlowData 1.18.0 3.5.1
heatmap.plus 1.3 3.5.1
heatmap3 1.1.1 3.5.1
heatmaply 0.15.2 3.5.1
heatmaps 1.4.0 3.5.1
Heatplus 2.26.0 3.5.1
HEEBOdata 1.18.0 3.5.1
HelloRanges 1.6.0 3.5.1
HelloRangesData 1.6.0 3.5.1
HELP 1.38.0 3.5.1
HEM 1.52.0 3.5.1
hexbin 1.27.2 3.5.1
hgfocus.db 3.2.3 3.5.1
hgfocuscdf 2.18.0 3.5.1
hgfocusprobe 2.18.0 3.5.1
hgu133a.db 3.2.3 3.5.1
hgu133a2.db 3.2.3 3.5.1
hgu133abarcodevecs 1.18.0 3.5.1
hgu133acdf 2.18.0 3.5.1
hgu133afrmavecs 1.5.0 3.5.1
hgu133aprobe 2.18.0 3.5.1
hgu133atagcdf 2.18.0 3.5.1
hgu133atagprobe 2.18.0 3.5.1
hgu133plus2.db 3.2.3 3.5.1
hgu133plus2barcodevecs 1.18.0 3.5.1
hgu133plus2cdf 2.18.0 3.5.1
hgu133plus2CellScore 1.0.0 3.5.1
hgu133plus2frmavecs 1.5.0 3.5.1
hgu133plus2probe 2.18.0 3.5.1
hgu2beta7 1.20.0 3.5.1
hgu95a.db 3.2.3 3.5.1
hgu95acdf 2.18.0 3.5.1
hgu95av2 2.2.0 3.5.1
hgu95av2.db 3.2.3 3.5.1
hgu95av2cdf 2.18.0 3.5.1
hgu95av2probe 2.18.0 3.5.1
hgug4112a.db 3.2.3 3.5.1
HH 3.1-35 3.5.1
hiAnnotator 1.14.0 3.5.1
HIBAG 1.16.0 3.5.1
HiCcompare 1.2.0 3.5.1
HiCDataHumanIMR90 0.114.0 3.5.1
HiCDataLymphoblast 1.16.0 3.5.1
hicrep 1.4.0 3.5.1
hierGWAS 1.10.0 3.5.1
highcharter 0.5.0 3.5.1
highr 0.7 3.5.1
highthroughputassays 1.2.0 3.5.1
Hiiragi2013 1.16.0 3.5.1
HilbertCurve 1.10.1 3.5.1
HilbertVis 1.38.0 3.5.1
HilbertVisGUI 1.38.0 3.5.1
hipathia 1.0.0 3.5.1
hiReadsProcessor 1.16.0 3.5.1
HiTC 1.24.0 3.5.1
HIVcDNAvantWout03 1.20.0 3.5.1
HiveR 0.3.42 3.5.1
hmdbQuery 1.0.1 3.5.1
Hmisc 4.1-1 3.5.1
HMMcopy 1.22.0 3.5.1
HMP16SData 1.0.1 3.5.1
hms 0.4.2 3.5.1
hmyriB36 1.16.0 3.5.1
hom.Dm.inp.db 3.1.2 3.5.1
hom.Hs.inp.db 3.1.2 3.5.1
hom.Mm.inp.db 3.1.2 3.5.1
hom.Rn.inp.db 3.1.2 3.5.1
hom.Sc.inp.db 3.1.2 3.5.1
Homo.sapiens 1.3.1 3.5.1
hopach 2.40.0 3.5.1
howmany 0.3-1 3.5.1
hpar 1.22.2 3.5.1
HSMMSingleCell 0.114.0 3.5.1
htmlTable 1.12 3.5.1
htmltools 0.3.6 3.5.1
HTMLUtils 0.1.7 3.5.1
htmlwidgets 1.3 3.5.1
HTqPCR 1.34.0 3.5.1
HTSanalyzeR 2.32.0 3.5.1
HTSCluster 2.0.8 3.5.1
HTSeqGenie 4.10.0 3.5.1
htSeqTools 1.28.3 3.5.1
HTSFilter 1.20.0 3.5.1
httpuv 1.4.5 3.5.1
httr 1.3.1 3.5.1
hu6800.db 3.2.3 3.5.1
huge 1.2.7 3.5.1
hugene10sttranscriptcluster.db 8.7.0 3.5.1
human.db0 3.6.0 3.5.1
human370v1cCrlmm 1.0.2 3.5.1
human610quadv1bCrlmm 1.0.3 3.5.1
HumanAffyData 1.6.0 3.5.1
humanCHRLOC 2.1.6 3.5.1
humanStemCell 0.20.0 3.5.1
hwriter 1.3.2 3.5.1
HybridMTest 1.24.0 3.5.1
hyperdraw 1.32.0 3.5.1
hypergea 1.3.6 3.5.1
hypergraph 1.52.0 3.5.1
iASeq 1.24.0 3.5.1
iBBiG 1.24.0 3.5.1
ibh 1.28.0 3.5.1
iBMQ 1.20.0 3.5.1
ic.infer 1.1-6 3.5.1
iC10 1.4.2 3.5.1
iC10TrainingData 1.3.1 3.5.1
ica 1.0-2 3.5.1
iCARE 1.8.0 3.5.1
Icens 1.52.0 3.5.1
iCheck 1.10.0 3.5.1
iChip 1.34.0 3.5.1
iCluster 2.1.0 3.5.1
iClusterPlus 1.16.0 3.5.1
iCNV 1.0.0 3.5.1
iCOBRA 1.8.0 3.5.1
ICS 1.3-1 3.5.1
ICSNP 1.1-1 3.5.1
ideal 1.4.0 3.5.1
IdeoViz 1.16.0 3.5.1
idiogram 1.56.0 3.5.1
IdMappingAnalysis 1.24.0 3.5.1
IdMappingRetrieval 1.28.0 3.5.1
IDPmisc 1.1.18 3.5.1
idr 1.2 3.5.1
ifultools 2.0-4 3.5.1
iGC 1.10.0 3.5.1
igraph 1.2.2 3.5.1
igraphdata 1.0.1 3.5.1
igvR 1.0.1 3.5.1
IHW 1.8.0 3.5.1
IHWpaper 1.8.0 3.5.1
Illumina450ProbeVariants.db 1.16.0 3.5.1
IlluminaDataTestFiles 1.18.0 3.5.1
IlluminaHumanMethylation27kanno.ilmn12.hg19 0.6.0 3.5.1
IlluminaHumanMethylation27kmanifest 0.4.0 3.5.1
IlluminaHumanMethylation450kanno.ilmn12.hg19 0.6.0 3.5.1
IlluminaHumanMethylation450kmanifest 0.4.0 3.5.1
IlluminaHumanMethylationEPICanno.ilm10b2.hg19 0.6.0 3.5.1
IlluminaHumanMethylationEPICmanifest 0.3.0 3.5.1
illuminaHumanv1.db 1.26.0 3.5.1
illuminaHumanv2.db 1.26.0 3.5.1
illuminaHumanv3.db 1.26.0 3.5.1
illuminaHumanv4.db 1.26.0 3.5.1
illuminaio 0.22.0 3.5.1
imageHTS 1.30.0 3.5.1
IMAS 1.4.0 3.5.1
Imetagene 1.10.0 3.5.1
IMMAN 1.0.0 3.5.1
ImmuneSpaceR 1.8.2 3.5.1
immunoClust 1.12.0 3.5.1
imp4p 0.7 3.5.1
IMPCdata 1.16.0 3.5.1
import 1.1.0 3.5.1
ImpulseDE 1.6.0 3.5.1
ImpulseDE2 1.4.0 3.5.1
impute 1.54.0 3.5.1
imputeLCMD 2.0 3.5.1
ineq 0.2-13 3.5.1
influenceR 0.1.0 3.5.1
infotheo 1.2.0 3.5.1
inline 0.3.15 3.5.1
InPAS 1.12.0 3.5.1
INPower 1.16.0 3.5.1
INSPEcT 1.10.0 3.5.1
InTAD 1.0.0 3.5.1
intansv 1.22.0 3.5.1
InteractionSet 1.8.0 3.5.1
interactiveDisplay 1.18.0 3.5.1
interactiveDisplayBase 1.18.0 3.5.1
IntEREst 1.4.1 3.5.1
intergraph 2.0-2 3.5.1
InterMineR 1.2.1 3.5.1
intervals 0.15.1 3.5.1
IntramiRExploreR 1.2.0 3.5.1
inum 1.0-0 3.5.1
inveRsion 1.28.0 3.5.1
IONiseR 2.4.0 3.5.1
iontreeData 1.16.0 3.5.1
iPAC 1.24.2 3.5.1
ipflasso 0.1 3.5.1
IPO 1.6.0 3.5.1
IPPD 1.28.0 3.5.1
ipred 0.9-7 3.5.1
IRanges 2.14.12 3.5.1
IrisSpatialFeatures 1.4.0 3.5.1
irlba 2.3.2 3.5.1
irr 0.84 3.5.1
isa2 0.3.5 3.5.1
iSEE 1.0.1 3.5.1
iSeq 1.32.0 3.5.1
ismev 1.42 3.5.1
Iso 0.0-17 3.5.1
isobar 1.26.0 3.5.1
IsoformSwitchAnalyzeR 1.2.0 3.5.1
IsoGene 1.0-24 3.5.1
IsoGeneGUI 2.16.0 3.5.1
ISoLDE 1.8.0 3.5.1
isomiRs 1.8.0 3.5.1
isva 1.9 3.5.1
ITALICS 2.40.0 3.5.1
ITALICSData 2.18.0 3.5.1
iterativeBMA 1.38.0 3.5.1
iterativeBMAsurv 1.38.0 3.5.1
iterators 1.0.10 3.5.1
iterClust 1.2.0 3.5.1
iteremoval 1.0.0 3.5.1
itertools 0.1-3 3.5.1
IVAS 2.0.0 3.5.1
ivygapSE 1.2.0 3.5.1
IWTomics 1.4.0 3.5.1
Iyer517 1.22.0 3.5.1
jackstraw 1.2 3.5.1
JADE 2.0-1 3.5.1
JASPAR2014 1.16.0 3.5.1
JASPAR2016 1.8.0 3.5.1
JctSeqData 1.10.0 3.5.1
joda 1.28.0 3.5.1
jomo 2.6-4 3.5.1
jpeg 0.1-8 3.5.1
jsonlite 1.5 3.5.1
JunctionSeq 1.10.0 3.5.1
kableExtra 0.9.0 3.5.1
kappalab 0.4-7 3.5.1
karyoploteR 1.6.3 3.5.1
KCsmart 2.38.0 3.5.1
kebabs 1.14.0 3.5.1
KEGG.db 3.2.3 3.5.1
KEGGandMetacoreDzPathwaysGEO 0.114.0 3.5.1
KEGGdzPathwaysGEO 1.18.0 3.5.1
KEGGgraph 1.40.0 3.5.1
KEGGlincs 1.6.2 3.5.1
keggorthology 2.32.0 3.5.1
KEGGprofile 1.22.0 3.5.1
KEGGREST 1.20.2 3.5.1
kernlab 0.9-27 3.5.1
KernSmooth 2.23-15 3.5.1
kidpack 1.22.0 3.5.1
kimod 1.8.0 3.5.1
kinship2 1.6.4 3.5.1
kissDE 1.0.0 3.5.1
kknn 1.3.1 3.5.1
klaR 0.6-14 3.5.1
km.ci 0.5-2 3.5.1
KMsurv 0.1-5 3.5.1
knitcitations 1.0.8 3.5.1
knitr 1.20 3.5.1
knitrBootstrap 1.0.2 3.5.1
KOdata 1.6.0 3.5.1
kohonen 3.0.6 3.5.1
ks 1.11.3 3.5.1
kza 4.0.0 3.5.1
labeling 0.3 3.5.1
labelled 1.1.0 3.5.1
laeken 0.4.6 3.5.1
lambda.r 1.2.3 3.5.1
LaplacesDemon 16.1.1 3.5.1
lapmix 1.46.0 3.5.1
lars 1.2 3.5.1
lassopv 0.2.0 3.5.1
lassoshooting 0.1.5-1 3.5.1
later 0.7.5 3.5.1
latex2exp 0.4.0 3.5.1
lattice 0.20-35 3.5.1
latticeExtra 0.6-28 3.5.1
lava 1.6.3 3.5.1
lavaan 0.6-3 3.5.1
lazyeval 0.2.1 3.5.1
LBE 1.48.0 3.5.1
ldblock 1.10.0 3.5.1
LEA 2.2.0 3.5.1
leaps 3.0 3.5.1
LearnBayes 2.15.1 3.5.1
learnr 0.9.2.1 3.5.1
LedPred 1.14.1 3.5.1
leeBamViews 1.16.0 3.5.1
les 1.30.0 3.5.1
leukemiasEset 1.16.0 3.5.1
lfa 1.10.0 3.5.1
libcoin 1.0-1 3.5.1
LiblineaR 2.10-8 3.5.1
LiebermanAidenHiC2009 0.18.0 3.5.1
liftOver 1.2.0 3.5.1
LIM 1.4.6 3.5.1
limma 3.36.5 3.5.1
limmaGUI 1.56.1 3.5.1
limSolve 1.5.5.3 3.5.1
LINC 1.8.0 3.5.1
LineagePulse 1.0.0 3.5.1
linkcomm 1.0-11 3.5.1
Linnorm 2.4.0 3.5.1
lintr 1.0.2 3.5.1
LiquidAssociation 1.34.0 3.5.1
listenv 0.7.0 3.5.1
ListerEtAlBSseq 1.12.0 3.5.1
listviewer 2.1.0 3.5.1
lmdme 1.22.0 3.5.1
lme4 1.1-18-1 3.5.1
lmerTest 3.0-1 3.5.1
LMGene 2.36.0 3.5.1
Lmoments 1.2-3 3.5.1
lmtest 0.9-36 3.5.1
LOBSTAHS 1.6.0 3.5.1
locfdr 1.1-8 3.5.1
locfit 1.5-9.1 3.5.1
loci2path 1.0.0 3.5.1
log4r 0.2 3.5.1
logging 0.7-103 3.5.1
logicFS 1.50.0 3.5.1
LogicReg 1.5.10 3.5.1
logistf 1.23 3.5.1
logitT 1.38.0 3.5.1
Logolas 1.4.0 3.5.1
logspline 2.1.11 3.5.1
lokern 1.1-8 3.5.1
lol 1.28.0 3.5.1
LOLA 1.10.0 3.5.1
longitudinal 1.1.12 3.5.1
LowMACA 1.12.0 3.5.1
LowMACAAnnotation 0.99.3 3.5.1
LPE 1.54.0 3.5.1
LPEadj 1.40.0 3.5.1
lpNet 2.12.0 3.5.1
lpSolve 5.6.13 3.5.1
lpSolveAPI 5.5.2.0-17 3.5.1
lpsymphony 1.8.0 3.5.1
lsa 0.73.1 3.5.1
LSD 4.0-0 3.5.1
lsei 1.2-0 3.5.1
lsmeans 2.27-62 3.5.1
lsr 0.5 3.5.1
lubridate 1.7.4 3.5.1
lumi 2.32.0 3.5.1
lumiBarnes 1.20.0 3.5.1
lumiHumanAll.db 1.22.0 3.5.1
lumiHumanIDMapping 1.10.1 3.5.1
LungCancerACvsSCCGEO 1.16.0 3.5.1
LungCancerLines 0.18.0 3.5.1
lungExpression 0.18.0 3.5.1
LVSmiRNA 1.30.0 3.5.1
lydata 1.6.0 3.5.1
LymphoSeq 1.8.0 3.5.1
LymphoSeqDB 0.99.2 3.5.1
M3C 1.2.0 3.5.1
M3D 1.14.0 3.5.1
M3DExampleData 1.6.0 3.5.1
M3Drop 1.6.0 3.5.1
maanova 1.50.0 3.5.1
macat 1.54.0 3.5.1
maCorrPlot 1.50.0 3.5.1
MACPET 1.0.0 3.5.1
made4 1.54.0 3.5.1
MADSEQ 1.6.1 3.5.1
MafDb.1Kgenomes.phase1.hs37d5 3.7.1 3.5.1
maftools 1.6.15 3.5.1
MAGeCKFlute 1.0.1 3.5.1
magic 1.5-9 3.5.1
magicaxis 2.0.3 3.5.1
magick 2.0 3.5.1
magrittr 1.5 3.5.1
maigesPack 1.44.0 3.5.1
MAIT 1.14.0 3.5.1
makecdfenv 1.56.0 3.5.1
MALDIquant 1.18 3.5.1
MALDIquantForeign 0.11.5 3.5.1
mammaPrintData 1.16.0 3.5.1
manipulate 1.0.1 3.5.1
manipulateWidget 0.10.0 3.5.1
MANOR 1.52.1 3.5.1
manta 1.26.0 3.5.1
MantelCorr 1.50.0 3.5.1
mAPKL 1.10.0 3.5.1
mAPKLData 1.12.0 3.5.1
mapplots 1.5.1 3.5.1
mapproj 1.2.6 3.5.1
maPredictDSC 1.18.0 3.5.1
maps 3.3.0 3.5.1
mapscape 1.4.0 3.5.1
maptools 0.9-4 3.5.1
maptpx 1.9-2 3.5.1
maqcExpression4plex 1.24.0 3.5.1
MAQCsubset 1.18.0 3.5.1
MAQCsubsetAFX 1.18.0 3.5.1
MAQCsubsetILM 1.18.0 3.5.1
markdown 0.8 3.5.1
marray 1.58.0 3.5.1
martini 1.0.0 3.5.1
maSigPro 1.52.0 3.5.1
maskBAD 1.24.0 3.5.1
MASS 7.3-50 3.5.1
MassArray 1.32.0 3.5.1
massiR 1.16.0 3.5.1
MassSpecWavelet 1.46.0 3.5.1
MAST 1.6.1 3.5.1
matchBox 1.22.0 3.5.1
Matching 4.9-3 3.5.1
matlab 1.0.2 3.5.1
Matrix 1.2-14 3.5.1
Matrix.utils 0.9.7 3.5.1
matrixcalc 1.0-3 3.5.1
MatrixModels 0.4-1 3.5.1
MatrixRider 1.12.0 3.5.1
matrixStats 0.54.0 3.5.1
matter 1.6.0 3.5.1
MaxContrastProjection 1.4.0 3.5.1
maxLik 1.3-4 3.5.1
maxstat 0.7-25 3.5.1
MBA 0.0-9 3.5.1
MBAmethyl 1.14.0 3.5.1
MBASED 1.14.0 3.5.1
MBCB 1.34.0 3.5.1
mboost 2.9-1 3.5.1
mBPCR 1.34.0 3.5.1
MBttest 1.8.1 3.5.1
mcaGUI 1.28.1 3.5.1
MCbiclust 1.4.0 3.5.1
mcbiopi 1.1.6 3.5.1
MCL 1.0 3.5.1
mclust 5.4.1 3.5.1
mcmc 0.9-5 3.5.1
MCMCglmm 2.26 3.5.1
MCMCpack 1.4-4 3.5.1
MCRestimate 2.36.0 3.5.1
mCSEA 1.0.1 3.5.1
mCSEAdata 1.0.0 3.5.1
mda 0.4-10 3.5.1
mdgsa 1.12.1 3.5.1
mdp 1.0.0 3.5.1
mdqc 1.42.0 3.5.1
MDTS 1.0.2 3.5.1
MEAL 1.10.1 3.5.1
MEALData 1.10.0 3.5.1
MeasurementError.cor 1.52.0 3.5.1
MEDIPS 1.32.0 3.5.1
MEDIPSData 1.16.0 3.5.1
MEDME 1.40.0 3.5.1
MEEBOdata 1.18.0 3.5.1
mefa 3.2-7 3.5.1
MEIGOR 1.14.0 3.5.1
memoise 1.1.0 3.5.1
memuse 4.0-0 3.5.1
MergeMaid 2.52.0 3.5.1
Mergeomics 1.8.0 3.5.1
MeSH.Aca.eg.db 1.10.0 3.5.1
MeSH.AOR.db 1.10.0 3.5.1
MeSH.Bsu.168.eg.db 1.10.0 3.5.1
MeSH.Cel.eg.db 1.10.0 3.5.1
MeSH.db 1.10.0 3.5.1
MeSH.Hsa.eg.db 1.10.0 3.5.1
MeSH.PCR.db 1.10.0 3.5.1
MeSH.Syn.eg.db 1.10.0 3.5.1
MeSHDbi 1.16.0 3.5.1
meshes 1.6.1 3.5.1
meshr 1.16.0 3.5.1
MESS 0.5.2 3.5.1
messina 1.16.0 3.5.1
metaArray 1.58.0 3.5.1
Metab 1.14.0 3.5.1
metabomxtr 1.14.0 3.5.1
MetaboSignal 1.10.0 3.5.1
metaCCA 1.8.0 3.5.1
MetaCyto 1.2.1 3.5.1
metafor 2.0-0 3.5.1
metagene 2.12.2 3.5.1
metagenomeFeatures 2.0.0 3.5.1
metagenomeSeq 1.22.0 3.5.1
MetaGxBreast 1.0.0 3.5.1
MetaGxOvarian 1.0.0 3.5.1
MetaGxPancreas 1.0.0 3.5.1
metahdep 1.38.0 3.5.1
metaMA 3.1.2 3.5.1
metaMS 1.16.0 3.5.1
metaMSdata 1.16.0 3.5.1
MetaNeighbor 1.0.0 3.5.1
metap 1.0 3.5.1
metaSeq 1.20.0 3.5.1
metaseqR 1.20.0 3.5.1
metavizr 1.4.1 3.5.1
MetCirc 1.10.0 3.5.1
methimpute 1.2.0 3.5.1
methInheritSim 1.2.0 3.5.1
methods 3.5.1 3.5.1
MethPed 1.8.0 3.5.1
MethTargetedNGS 1.12.0 3.5.1
methVisual 1.32.0 3.5.1
methyAnalysis 1.22.0 3.5.1
MethylAid 1.14.0 3.5.1
MethylAidData 1.12.0 3.5.1
methylationArrayAnalysis 1.2.0 3.5.1
methylInheritance 1.4.0 3.5.1
methylKit 1.6.3 3.5.1
MethylMix 2.10.2 3.5.1
methylMnM 1.18.0 3.5.1
methylPipe 1.14.0 3.5.1
MethylSeekR 1.20.0 3.5.1
methylumi 2.26.0 3.5.1
methyvim 1.2.0 3.5.1
methyvimData 1.2.0 3.5.1
mfa 1.2.0 3.5.1
Mfuzz 2.40.0 3.5.1
mgcv 1.8-24 3.5.1
MGFM 1.14.0 3.5.1
MGFR 1.6.0 3.5.1
mgsa 1.28.0 3.5.1
mGSZ 1.0 3.5.1
mgug4104a.db 3.2.3 3.5.1
mhsmm 0.4.16 3.5.1
mi 1.0 3.5.1
mice 3.3.0 3.5.1
MiChip 1.34.0 3.5.1
microbenchmark 1.4-5 3.5.1
microbiome 1.2.1 3.5.1
microRNA 1.38.0 3.5.1
microRNAome 1.2.0 3.5.1
MIGSA 1.4.0 3.5.1
MIGSAdata 1.4.0 3.5.1
mimager 1.4.0 3.5.1
mime 0.6 3.5.1
MIMOSA 1.18.0 3.5.1
MineICA 1.20.0 3.5.1
minet 3.38.0 3.5.1
minfi 1.26.2 3.5.1
minfiData 0.26.0 3.5.1
minfiDataEPIC 1.6.0 3.5.1
MinimumDistance 1.24.1 3.5.1
minionSummaryData 1.10.0 3.5.1
miniUI 0.1.1.1 3.5.1
minpack.lm 1.2-1 3.5.1
minqa 1.2.4 3.5.1
MiPP 1.52.0 3.5.1
MIRA 1.2.0 3.5.1
MiRaGE 1.22.0 3.5.1
mirbase.db 1.2.0 3.5.1
miRBaseConverter 1.4.3 3.5.1
miRBaseVersions.db 1.1.0 3.5.1
miRcomp 1.10.0 3.5.1
miRcompData 1.10.0 3.5.1
mirIntegrator 1.10.0 3.5.1
miRLAB 1.10.0 3.5.1
miRmine 1.2.0 3.5.1
mirna10cdf 2.18.0 3.5.1
miRNAmeConverter 1.8.0 3.5.1
miRNApath 1.40.0 3.5.1
miRNAtap 1.14.0 3.5.1
miRNAtap.db 0.99.10 3.5.1
miRNATarget 1.18.0 3.5.1
miRsponge 1.6.1 3.5.1
Mirsynergy 1.16.0 3.5.1
misc3d 0.8-4 3.5.1
miscTools 0.6-22 3.5.1
missForest 1.4 3.5.1
missMethyl 1.14.0 3.5.1
missRows 1.0.0 3.5.1
mitml 0.3-6 3.5.1
mitoODE 1.18.0 3.5.1
mitoODEdata 1.16.0 3.5.1
mixsmsn 1.1-5 3.5.1
mixtools 1.1.0 3.5.1
mlbench 2.1-1 3.5.1
MLInterfaces 1.60.1 3.5.1
mlogit 0.3-0 3.5.1
MLP 1.28.0 3.5.1
mlr 2.13 3.5.1
MLSeq 1.20.3 3.5.1
MMDiff2 1.8.0 3.5.1
MMDiffBamSubset 1.16.0 3.5.1
MmPalateMiRNA 1.30.0 3.5.1
mnlogit 1.2.5 3.5.1
mnormt 1.5-5 3.5.1
MODA 1.6.0 3.5.1
modeest 2.1 3.5.1
ModelMetrics 1.2.0 3.5.1
modelr 0.1.2 3.5.1
modeltools 0.2-22 3.5.1
modes 0.7.0 3.5.1
mogene10sttranscriptcluster.db 8.7.0 3.5.1
mogsa 1.14.0 3.5.1
moments 0.14 3.5.1
mongolite 2.0 3.5.1
monocle 2.8.0 3.5.1
MoonlightR 1.6.1 3.5.1
MoPS 1.14.0 3.5.1
mosaics 2.18.0 3.5.1
mosaicsExample 1.18.0 3.5.1
motifbreakR 1.10.0 3.5.1
motifcounter 1.4.0 3.5.1
MotifDb 1.22.0 3.5.1
motifmatchr 1.2.0 3.5.1
motifRG 1.24.0 3.5.1
motifStack 1.24.1 3.5.1
MotIV 1.36.0 3.5.1
mouse4302.db 3.2.3 3.5.1
mouse4302barcodevecs 1.18.0 3.5.1
mouse4302cdf 2.18.0 3.5.1
mouse4302frmavecs 1.5.0 3.5.1
MPFE 1.16.0 3.5.1
mpm 1.0-22 3.5.1
mpra 1.2.0 3.5.1
mQTL 1.0 3.5.1
mRMRe 2.0.7 3.5.1
msa 1.12.0 3.5.1
MSBdata 0.18.0 3.5.1
msd16s 0.114.0 3.5.1
msdata 0.20.0 3.5.1
msgbsR 1.4.0 3.5.1
MSGFgui 1.14.0 3.5.1
MSGFplus 1.14.0 3.5.1
msgps 1.3 3.5.1
msm 1.6.6 3.5.1
msmsEDA 1.18.0 3.5.1
msmsTests 1.18.0 3.5.1
MSnbase 2.6.4 3.5.1
MSnID 1.14.0 3.5.1
msPurity 1.6.2 3.5.1
msPurityData 1.8.0 3.5.1
msqc1 1.8.0 3.5.1
MSstats 3.12.3 3.5.1
MSstatsBioData 1.2.0 3.5.1
MSstatsQC 1.2.0 3.5.1
MSstatsQCgui 1.0.0 3.5.1
mtbls2 1.10.0 3.5.1
MUGAExampleData 0.114.0 3.5.1
Mulcom 1.30.0 3.5.1
Mulder2012 0.20.0 3.5.1
multcomp 1.4-8 3.5.1
MultiAssayExperiment 1.6.0 3.5.1
multiClust 1.10.0 3.5.1
multicool 0.1-10 3.5.1
MultiDataSet 1.8.0 3.5.1
MultiMed 2.2.0 3.5.1
multiMiR 1.2.0 3.5.1
multiOmicsViz 1.4.0 3.5.1
multiscan 1.40.0 3.5.1
multtest 2.36.0 3.5.1
munsell 0.5.0 3.5.1
Mus.musculus 1.3.1 3.5.1
muscle 3.22.0 3.5.1
muStat 1.7.0 3.5.1
MutationalPatterns 1.6.1 3.5.1
MVCClass 1.54.0 3.5.1
mvoutData 1.16.0 3.5.1
mvoutlier 2.0.9 3.5.1
mvtnorm 1.0-8 3.5.1
MWASTools 1.4.0 3.5.1
mygene 1.16.2 3.5.1
myvariant 1.10.0 3.5.1
mzID 1.18.0 3.5.1
mzR 2.14.0 3.5.1
nabor 0.5.0 3.5.1
NADA 1.6-1 3.5.1
NADfinder 1.4.0 3.5.1
NanoStringDiff 1.10.0 3.5.1
NanoStringQCPro 1.12.0 3.5.1
NarrowPeaks 1.24.0 3.5.1
nat 1.8.11 3.5.1
nat.utils 0.5.1 3.5.1
nbconvertR 1.0.2 3.5.1
NBPSeq 0.3.0 3.5.1
ncdf4 1.16 3.5.1
ncdfFlow 2.26.0 3.5.1
NCIgraph 1.28.0 3.5.1
NCIgraphData 1.16.0 3.5.1
ndexr 1.2.0 3.5.1
nem 2.54.0 3.5.1
netbenchmark 1.12.0 3.5.1
netbiov 1.14.0 3.5.1
nethet 1.12.0 3.5.1
NetPathMiner 1.16.0 3.5.1
NetPreProc 1.1 3.5.1
netprioR 1.6.0 3.5.1
netReg 1.4.0 3.5.1
netresponse 1.40.0 3.5.1
NetSAM 1.20.0 3.5.1
netSmooth 1.0.2 3.5.1
network 1.13.0.1 3.5.1
networkBMA 2.20.0 3.5.1
networkD3 0.4 3.5.1
Neve2006 0.18.0 3.5.1
NGScopy 1.14.0 3.5.1
NGScopyData 0.114.0 3.5.1
nipals 0.4 3.5.1
NISTunits 1.0.1 3.5.1
nlcv 0.3.5 3.5.1
nleqslv 3.3.2 3.5.1
nlme 3.1-137 3.5.1
nloptr 1.2.1 3.5.1
NLP 0.1-11 3.5.1
nls2 0.2 3.5.1
NMF 0.21.0 3.5.1
NMFN 2.0 3.5.1
NMI 2.0 3.5.1
nnet 7.3-12 3.5.1
nnlasso 0.3 3.5.1
nnls 1.4 3.5.1
nnNorm 2.44.0 3.5.1
NOISeq 2.24.0 3.5.1
nondetects 2.10.0 3.5.1
nor1mix 1.2-3 3.5.1
norm 1.0-9.5 3.5.1
normalize450K 1.8.0 3.5.1
NormqPCR 1.26.0 3.5.1
normr 1.6.0 3.5.1
nortest 1.0-4 3.5.1
Nozzle.R1 1.1-1 3.5.1
npGSEA 1.16.0 3.5.1
npsurv 0.4-0 3.5.1
NTW 1.30.0 3.5.1
nucleoSim 1.8.0 3.5.1
nucleR 2.12.1 3.5.1
nudge 1.46.0 3.5.1
numDeriv 2016.8-1 3.5.1
NuPoP 1.30.0 3.5.1
objectProperties 0.6.5 3.5.1
objectSignals 0.10.2 3.5.1
occugene 1.40.0 3.5.1
OCplus 1.54.0 3.5.1
odseq 1.8.0 3.5.1
OGSA 1.10.0 3.5.1
oligo 1.44.0 3.5.1
oligoClasses 1.42.0 3.5.1
oligoData 1.8.0 3.5.1
OLIN 1.58.0 3.5.1
OLINgui 1.54.0 3.5.1
OmaDB 1.0.1 3.5.1
omicade4 1.20.0 3.5.1
OmicCircos 1.18.0 3.5.1
omicplotR 1.0.1 3.5.1
omicRexposome 1.2.0 3.5.1
OmicsMarkeR 1.12.0 3.5.1
omicsPrint 1.0.0 3.5.1
Onassis 1.2.7 3.5.1
OnassisJavaLibs 1.2.0 3.5.1
oncomix 1.2.0 3.5.1
OncoScore 1.8.0 3.5.1
OncoSimulR 2.10.0 3.5.1
Oncotree 0.3.3 3.5.1
oneSENSE 1.2.0 3.5.1
ontoCAT 1.32.0 3.5.1
ontologyIndex 2.4 3.5.1
ontologyPlot 1.4 3.5.1
ontoProc 1.2.1 3.5.1
opencpu 2.0.8 3.5.1
openCyto 1.18.0 3.5.1
OpenImageR 1.1.1 3.5.1
openPrimeR 1.2.0 3.5.1
openPrimeRui 1.2.0 3.5.1
openssl 1.0.2 3.5.1
openxlsx 4.1.0 3.5.1
OperaMate 1.12.0 3.5.1
operator.tools 1.6.3 3.5.1
oposSOM 1.18.0 3.5.1
oppar 1.8.0 3.5.1
optextras 2016-8.8 3.5.1
optimx 2018-7.10 3.5.1
optparse 1.6.0 3.5.1
OPWeight 1.2.0 3.5.1
ORCME 2.0.2 3.5.1
OrderedList 1.52.0 3.5.1
ordinal 2018.8-25 3.5.1
ore 1.6.2 3.5.1
ORFik 1.0.0 3.5.1
org.Ag.eg.db 3.6.0 3.5.1
org.At.tair.db 3.6.0 3.5.1
org.Bt.eg.db 3.6.0 3.5.1
org.Ce.eg.db 3.6.0 3.5.1
org.Cf.eg.db 3.6.0 3.5.1
org.Dm.eg.db 3.6.0 3.5.1
org.Dr.eg.db 3.6.0 3.5.1
org.EcK12.eg.db 3.6.0 3.5.1
org.Gg.eg.db 3.6.0 3.5.1
org.Hs.eg.db 3.6.0 3.5.1
org.Mm.eg.db 3.6.0 3.5.1
org.Mmu.eg.db 3.6.0 3.5.1
org.Pt.eg.db 3.6.0 3.5.1
org.Rn.eg.db 3.6.0 3.5.1
org.Sc.sgd.db 3.6.0 3.5.1
org.Ss.eg.db 3.6.0 3.5.1
org.Xl.eg.db 3.6.0 3.5.1
Organism.dplyr 1.8.1 3.5.1
OrganismDbi 1.22.0 3.5.1
OrgMassSpecR 0.5-3 3.5.1
ORIClust 1.0-1 3.5.1
origami 1.0.0 3.5.1
orQA 0.2.1 3.5.1
OSAT 1.28.0 3.5.1
Oscope 1.10.0 3.5.1
OTUbase 1.30.0 3.5.1
OutlierD 1.44.0 3.5.1
outliers 0.14 3.5.1
PAA 1.14.0 3.5.1
PADOG 1.22.0 3.5.1
paintmap 1.0 3.5.1
paircompviz 1.18.0 3.5.1
pairsD3 0.1.0 3.5.1
pamr 1.55 3.5.1
pan 1.6 3.5.1
pandaR 1.12.0 3.5.1
pander 0.6.2 3.5.1
panelcn.mops 1.2.0 3.5.1
PAnnBuilder 1.44.0 3.5.1
panp 1.50.0 3.5.1
PANR 1.26.0 3.5.1
PANTHER.db 1.0.4 3.5.1
PanVizGenerator 1.8.0 3.5.1
PAPi 1.20.0 3.5.1
parallel 3.5.1 3.5.1
parallelMap 1.3 3.5.1
ParamHelpers 1.11 3.5.1
parathyroidSE 1.18.0 3.5.1
parcor 0.2-6 3.5.1
parglms 1.12.0 3.5.1
parmigene 1.0.2 3.5.1
parody 1.38.0 3.5.1
party 1.3-1 3.5.1
partykit 1.2-2 3.5.1
pasilla 1.8.0 3.5.1
pasillaBamSubset 0.18.0 3.5.1
PasillaTranscriptExpr 1.8.0 3.5.1
Path2PPI 1.10.0 3.5.1
pathifier 1.20.0 3.5.1
PathNet 1.20.0 3.5.1
PathNetData 1.16.0 3.5.1
pathological 0.1-2 3.5.1
PathoStat 1.6.1 3.5.1
pathprint 1.10.4 3.5.1
pathprintGEOData 1.10.0 3.5.1
pathRender 1.48.0 3.5.1
pathVar 1.10.0 3.5.1
pathview 1.20.0 3.5.1
PathwaySplice 1.4.0 3.5.1
paxtoolsr 1.14.0 3.5.1
pbapply 1.3-4 3.5.1
Pbase 0.20.0 3.5.1
pbcmc 1.8.0 3.5.1
pbivnorm 0.6.0 3.5.1
pbkrtest 0.4-7 3.5.1
pcaExplorer 2.6.0 3.5.1
pcaGoPromoter 1.24.0 3.5.1
pcaGoPromoter.Hs.hg19 1.16.0 3.5.1
pcaGoPromoter.Mm.mm9 1.16.0 3.5.1
pcaGoPromoter.Rn.rn4 1.16.0 3.5.1
pcalg 2.6-0 3.5.1
pcaMethods 1.72.0 3.5.1
PCAN 1.8.0 3.5.1
pcaPP 1.9-73 3.5.1
PCHiCdata 1.8.0 3.5.1
PCIT 1.5-3 3.5.1
pcot2 1.48.0 3.5.1
PCpheno 1.42.0 3.5.1
pcxn 2.2.0 3.5.1
pcxnData 2.2.0 3.5.1
pd.atdschip.tiling 0.18.0 3.5.1
pd.charm.hg18.example 0.99.4 3.5.1
pd.genomewidesnp.5 3.14.1 3.5.1
pd.genomewidesnp.6 3.14.1 3.5.1
pd.hg.u133a 3.12.0 3.5.1
pd.hg.u133a.2 3.12.0 3.5.1
pd.hg.u95a 3.12.0 3.5.1
pd.hg.u95av2 3.12.0 3.5.1
pd.hg18.60mer.expr 3.12.0 3.5.1
pd.huex.1.0.st.v2 3.14.1 3.5.1
pd.hugene.1.0.st.v1 3.14.1 3.5.1
pd.mapping250k.nsp 3.12.0 3.5.1
pd.mapping250k.sty 3.12.0 3.5.1
pd.mapping50k.hind240 3.12.0 3.5.1
pd.mapping50k.xba240 3.12.0 3.5.1
pdInfoBuilder 1.44.0 3.5.1
pdist 1.2 3.5.1
PECA 1.16.0 3.5.1
penalized 0.9-51 3.5.1
pepDat 0.114.0 3.5.1
pepStat 1.14.0 3.5.1
pepXMLTab 1.14.0 3.5.1
PerfMeas 1.2.1 3.5.1
permute 0.9-4 3.5.1
perturbatr 1.0.0 3.5.1
PFAM.db 3.6.0 3.5.1
PGA 1.10.1 3.5.1
pgca 1.4.0 3.5.1
PGPC 1.8.0 3.5.1
PGSEA 1.54.0 3.5.1
phangorn 2.4.0 3.5.1
phantasus 1.0.2 3.5.1
PharmacoGx 1.10.3 3.5.1
phastCons100way.UCSC.hg19 3.7.2 3.5.1
pheatmap 1.0.10 3.5.1
phenoDist 1.28.0 3.5.1
phenopath 1.4.0 3.5.1
phenoTest 1.28.0 3.5.1
PhenStat 2.17.0 3.5.1
philr 1.6.0 3.5.1
phosphonormalizer 1.4.0 3.5.1
phylobase 0.8.4 3.5.1
phyloseq 1.24.2 3.5.1
Pi 1.8.0 3.5.1
piano 1.20.1 3.5.1
picante 1.7 3.5.1
pickgene 1.52.0 3.5.1
PICS 2.24.0 3.5.1
Pigengene 1.6.0 3.5.1
pillar 1.3.0 3.5.1
pinfsc50 1.1.0 3.5.1
PING 2.24.0 3.5.1
pingr 1.1.2 3.5.1
pint 1.30.0 3.5.1
pixmap 0.4-11 3.5.1
pkgbuild 1.0.1 3.5.1
pkgconfig 2.0.2 3.5.1
pkgDepTools 1.46.0 3.5.1
pkgload 1.0.1 3.5.1
pkgmaker 0.27 3.5.1
plasFIA 1.8.0 3.5.1
plasmodiumanophelescdf 2.18.0 3.5.1
plateCore 1.38.0 3.5.1
plethy 1.18.0 3.5.1
plgem 1.52.0 3.5.1
plier 1.50.0 3.5.1
plogr 0.2.0 3.5.1
plot3D 1.1.1 3.5.1
plotly 4.8.0 3.5.1
plotmo 3.5.0 3.5.1
plotrix 3.7-4 3.5.1
PLPE 1.40.0 3.5.1
plrs 1.20.0 3.5.1
pls 2.7-0 3.5.1
plsgenomics 1.5-2 3.5.1
plspm 0.4.9 3.5.1
plsVarSel 0.9.4 3.5.1
plw 1.40.0 3.5.1
plyr 1.8.4 3.5.1
plyranges 1.0.3 3.5.1
PMA 1.0.11 3.5.1
PMCMR 4.3 3.5.1
pmm 1.12.0 3.5.1
png 0.1-7 3.5.1
podkat 1.12.0 3.5.1
pogos 1.0.0 3.5.1
poibin 1.3 3.5.1
PoiClaClu 1.0.2 3.5.1
poilog 0.4 3.5.1
polspline 1.1.13 3.5.1
polyclip 1.9-1 3.5.1
polyester 1.16.0 3.5.1
Polyfit 1.14.0 3.5.1
polynom 1.3-9 3.5.1
PolynomF 1.0-2 3.5.1
PolyPhen.Hsapiens.dbSNP131 1.0.2 3.5.1
POST 1.4.0 3.5.1
PowerExplorer 1.0.1 3.5.1
poweRlaw 0.70.1 3.5.1
powerTCR 1.0.0 3.5.1
ppcor 1.1 3.5.1
ppiData 0.18.0 3.5.1
PPInfer 1.6.0 3.5.1
ppiStats 1.46.0 3.5.1
ppls 1.6-1.1 3.5.1
pqsfinder 1.8.0 3.5.1
prabclus 2.2-6 3.5.1
pracma 2.1.5 3.5.1
prada 1.56.0 3.5.1
praise 1.0.0 3.5.1
prebs 1.20.0 3.5.1
prebsdata 1.16.0 3.5.1
precrec 0.9.1 3.5.1
PREDA 1.26.1 3.5.1
PREDAsampledata 0.20.0 3.5.1
predictionet 1.26.0 3.5.1
preprocessCore 1.42.0 3.5.1
preseqR 4.0.0 3.5.1
prettydoc 0.2.1 3.5.1
prettyGraphs 2.1.5 3.5.1
prettyunits 1.0.2 3.5.1
princurve 2.1.3 3.5.1
printr 0.1 3.5.1
Prize 1.10.0 3.5.1
proBAMr 1.14.0 3.5.1
pROC 1.13.0 3.5.1
PROcess 1.56.0 3.5.1
processx 3.2.0 3.5.1
procoil 2.8.0 3.5.1
ProCoNA 1.18.0 3.5.1
ProData 1.18.0 3.5.1
prodlim 2018.04.18 3.5.1
proFIA 1.6.0 3.5.1
profileModel 0.5-9 3.5.1
profileScoreDist 1.8.0 3.5.1
profmem 0.5.0 3.5.1
progeny 1.2.0 3.5.1
progress 1.2.0 3.5.1
pRoloc 1.20.2 3.5.1
pRolocdata 1.18.0 3.5.1
pRolocGUI 1.14.0 3.5.1
PROMISE 1.32.0 3.5.1
promises 1.0.1 3.5.1
PROPER 1.12.0 3.5.1
PROPS 1.2.0 3.5.1
Prostar 1.12.18 3.5.1
prostateCancerCamcap 1.8.0 3.5.1
prostateCancerGrasso 1.8.0 3.5.1
prostateCancerStockholm 1.8.0 3.5.1
prostateCancerTaylor 1.8.0 3.5.1
prostateCancerVarambally 1.8.0 3.5.1
proteinProfiles 1.20.0 3.5.1
proteomics 1.2.0 3.5.1
ProteomicsAnnotationHubData 1.10.0 3.5.1
proteoQC 1.16.0 3.5.1
ProtGenerics 1.12.0 3.5.1
protiq 1.2 3.5.1
proto 1.0.0 3.5.1
protolite 1.8 3.5.1
protViz 0.3.1 3.5.1
proxy 0.4-22 3.5.1
prozor 0.2.11 3.5.1
PRROC 1.3.1 3.5.1
pryr 0.1.4 3.5.1
ps 1.1.0 3.5.1
PSCBS 0.64.0 3.5.1
pscl 1.5.2 3.5.1
PSEA 1.14.0 3.5.1
psichomics 1.6.2 3.5.1
PSICQUIC 1.18.1 3.5.1
pspline 1.0-18 3.5.1
psych 1.8.4 3.5.1
psygenet2r 1.12.0 3.5.1
PtH2O2lipids 1.6.0 3.5.1
ptw 1.9-13 3.5.1
puma 3.22.0 3.5.1
pumadata 2.16.0 3.5.1
PureCN 1.10.0 3.5.1
purrr 0.2.5 3.5.1
pvac 1.28.0 3.5.1
pvca 1.20.0 3.5.1
pvclust 2.0-0 3.5.1
Pviz 1.14.0 3.5.1
PWMEnrich 4.16.0 3.5.1
PWMEnrich.Dmelanogaster.background 4.14.0 3.5.1
PWMEnrich.Hsapiens.background 4.14.0 3.5.1
PWMEnrich.Mmusculus.background 4.14.0 3.5.1
pwOmics 1.12.0 3.5.1
qap 0.1-1 3.5.1
qcmetrics 1.18.0 3.5.1
QDNAseq 1.16.0 3.5.1
QDNAseq.hg19 1.10.0 3.5.1
QDNAseq.mm10 1.10.0 3.5.1
qgraph 1.5 3.5.1
qlcMatrix 0.9.7 3.5.1
qpcR 1.4-1 3.5.1
qpcrNorm 1.38.0 3.5.1
qpgraph 2.14.0 3.5.1
qqman 0.1.4 3.5.1
qrqc 1.34.0 3.5.1
qsea 1.6.0 3.5.1
qtl 1.42-8 3.5.1
QTLRel 1.0 3.5.1
quadprog 1.5-5 3.5.1
QUALIFIER 1.24.1 3.5.1
quantmod 0.4-13 3.5.1
quantreg 5.36 3.5.1
quantro 1.14.0 3.5.1
quantsmooth 1.46.0 3.5.1
QuartPAC 1.12.1 3.5.1
QuasR 1.20.0 3.5.1
QuaternaryProd 1.14.0 3.5.1
QUBIC 1.8.0 3.5.1
QUBICdata 1.8.0 3.5.1
questionr 0.6.3 3.5.1
qusage 2.14.0 3.5.1
qvalue 2.12.0 3.5.1
R.cache 0.13.0 3.5.1
R.devices 2.16.0 3.5.1
R.filesets 2.12.1 3.5.1
R.huge 0.9.0 3.5.1
R.matlab 3.6.2 3.5.1
R.methodsS3 1.7.1 3.5.1
R.oo 1.22.0 3.5.1
R.rsp 0.43.0 3.5.1
R.utils 2.7.0 3.5.1
r2glmm 0.1.2 3.5.1
R2HTML 2.3.2 3.5.1
R3CPET 1.12.0 3.5.1
r3Cseq 1.26.0 3.5.1
R453Plus1Toolbox 1.30.0 3.5.1
R4RNA 1.8.0 3.5.1
R6 2.3.0 3.5.1
radiant.data 0.9.7 3.5.1
rae230a.db 3.2.3 3.5.1
rae230aprobe 2.18.0 3.5.1
RaggedExperiment 1.4.0 3.5.1
rain 1.14.0 3.5.1
rama 1.54.0 3.5.1
RamiGO 1.28.0 3.5.1
ramwas 1.4.0 3.5.1
randomForest 4.6-14 3.5.1
RandomWalkRestartMH 1.0.0 3.5.1
randPack 1.26.0 3.5.1
ranger 0.10.1 3.5.1
RankProd 3.6.0 3.5.1
RANKS 1.0 3.5.1
RANN 2.6 3.5.1
rapidjsonr 1.1 3.5.1
rappdirs 0.3.1 3.5.1
rapportools 1.0 3.5.1
RareVariantVis 2.8.0 3.5.1
Rariant 1.16.0 3.5.1
rARPACK 0.11-0 3.5.1
raster 2.6-7 3.5.1
rat2302.db 3.2.3 3.5.1
Rattus.norvegicus 1.3.1 3.5.1
rbamtools 2.16.11 3.5.1
RbcBook1 1.48.0 3.5.1
rbenchmark 1.0.0 3.5.1
RBGL 1.56.0 3.5.1
RBioinf 1.40.0 3.5.1
rBiopaxParser 2.20.0 3.5.1
RBM 1.12.0 3.5.1
rbokeh 0.5.0 3.5.1
Rbowtie 1.20.0 3.5.1
Rbowtie2 1.2.0 3.5.1
rbsurv 2.38.0 3.5.1
Rcade 1.22.0 3.5.1
RCAS 1.6.0 3.5.1
RCASPAR 1.26.0 3.5.1
rcdk 3.4.7.1 3.5.1
rcdklibs 2.0 3.5.1
rcellminer 2.2.0 3.5.1
rcellminerData 2.2.0 3.5.1
rCGH 1.10.0 3.5.1
Rcgmin 2013-2.21 3.5.1
Rchemcpp 2.18.0 3.5.1
rChoiceDialogs 1.0.6 3.5.1
RchyOptimyx 2.20.0 3.5.1
RCircos 1.2.0 3.5.1
RcisTarget 1.0.2 3.5.1
RcisTarget.hg19.motifDBs.cisbpOnly.500bp 1.0.1 3.5.1
RColorBrewer 1.1-2 3.5.1
Rcpi 1.16.2 3.5.1
Rcpp 0.12.19 3.5.1
RcppAnnoy 0.0.10 3.5.1
RcppArmadillo 0.9.100.5.0 3.5.1
RcppClassic 0.9.11 3.5.1
RcppEigen 0.3.3.4.0 3.5.1
RcppNumerical 0.3-2 3.5.1
RcppParallel 4.4.1 3.5.1
RcppProgress 0.4.1 3.5.1
RcppRoll 0.3.0 3.5.1
Rcsdp 0.1.55 3.5.1
RCurl 1.95-4.11 3.5.1
RCy3 2.0.88 3.5.1
RCyjs 2.2.2 3.5.1
rda 1.0.2-2.1 3.5.1
RDAVIDWebService 1.18.0 3.5.1
rDGIdb 1.6.0 3.5.1
Rdisop 1.40.0 3.5.1
Rdpack 0.10-1 3.5.1
rdrop2 0.8.1 3.5.1
RDRToolbox 1.30.0 3.5.1
reactome.db 1.64.0 3.5.1
ReactomePA 1.24.0 3.5.1
readat 1.6.0 3.5.1
readbitmap 0.1.5 3.5.1
readBrukerFlexData 1.8.5 3.5.1
readMzXmlData 2.8.1 3.5.1
ReadqPCR 1.26.0 3.5.1
readr 1.1.1 3.5.1
readxl 1.1.0 3.5.1
reb 1.58.0 3.5.1
rebus 0.1-3 3.5.1
rebus.base 0.0-3 3.5.1
rebus.datetimes 0.0-1 3.5.1
rebus.numbers 0.0-1 3.5.1
rebus.unicode 0.0-2 3.5.1
recipes 0.1.3 3.5.1
RecordLinkage 0.4-10 3.5.1
recount 1.6.3 3.5.1
recountWorkflow 1.2.0 3.5.1
recoup 1.8.0 3.5.1
RedeR 1.28.0 3.5.1
REDseq 1.26.0 3.5.1
RefFreeEWAS 2.1 3.5.1
refGenome 1.7.3 3.5.1
RefManageR 1.2.0 3.5.1
RefNet 1.16.0 3.5.1
RefPlus 1.50.0 3.5.1
regioneR 1.12.0 3.5.1
regionReport 1.14.3 3.5.1
registry 0.5 3.5.1
regress 1.3-15 3.5.1
regsplice 1.6.0 3.5.1
relations 0.6-8 3.5.1
relimp 1.0-5 3.5.1
rematch 1.0.1 3.5.1
remotes 2.0.0 3.5.1
REMP 1.4.1 3.5.1
rentrez 1.2.1 3.5.1
ReorderCluster 1.0 3.5.1
Repitools 1.26.0 3.5.1
repo 2.1.3 3.5.1
ReportingTools 2.20.0 3.5.1
reportr 1.2.2 3.5.1
reprex 0.2.1 3.5.1
ReQON 1.26.0 3.5.1
reshape 0.8.7 3.5.1
reshape2 1.4.3 3.5.1
restfulSE 1.2.3 3.5.1
restfulSEData 1.2.0 3.5.1
reticulate 1.10 3.5.1
reutils 0.2.3 3.5.1
rex 1.1.2 3.5.1
rexposome 1.2.0 3.5.1
RFOC 3.4-6 3.5.1
RforProteomics 1.18.1 3.5.1
rfPred 1.18.0 3.5.1
rGADEM 2.28.0 3.5.1
RGalaxy 1.24.0 3.5.1
rgeos 0.3-28 3.5.1
rgexf 0.15.3 3.5.1
rggobi 2.1.22 3.5.1
Rgin 1.0.0 3.5.1
rgl 0.99.16 3.5.1
RGMQL 1.0.2 3.5.1
RGMQLlib 1.0.0 3.5.1
RGraph2js 1.8.0 3.5.1
Rgraphviz 2.24.0 3.5.1
rGREAT 1.12.1 3.5.1
RGSEA 1.14.0 3.5.1
rgsepd 1.12.0 3.5.1
RGtk2 2.20.35 3.5.1
rhandsontable 0.3.6 3.5.1
rhdf5 2.24.0 3.5.1
rhdf5client 1.2.3 3.5.1
Rhdf5lib 1.2.1 3.5.1
rheumaticConditionWOLLBOLD 1.18.0 3.5.1
RhpcBLASctl 0.18-205 3.5.1
Rhtslib 1.12.1 3.5.1
rHVDM 1.46.0 3.5.1
RiboProfiling 1.10.0 3.5.1
riboSeqR 1.14.0 3.5.1
RImmPort 1.8.0 3.5.1
Ringo 1.44.0 3.5.1
rintrojs 0.2.0 3.5.1
rio 0.5.10 3.5.1
rioja 0.9-15.1 3.5.1
RIPSeeker 1.20.0 3.5.1
RIPSeekerData 1.16.0 3.5.1
Risa 1.22.0 3.5.1
RISmed 2.1.7 3.5.1
RITAN 1.4.2 3.5.1
RITANdata 1.4.0 3.5.1
RIVER 1.4.0 3.5.1
rjags 4-7 3.5.1
rJava 0.9-10 3.5.1
RJMCMCNucleosomes 1.4.0 3.5.1
rjson 0.2.20 3.5.1
RJSONIO 1.3-0 3.5.1
Rlab 2.15.1 3.5.1
Rlabkey 2.2.3 3.5.1
rlang 0.2.2 3.5.1
rlecuyer 0.3-4 3.5.1
rlist 0.4.6.1 3.5.1
RLMM 1.42.0 3.5.1
Rmagpie 1.36.0 3.5.1
RMallow 1.0 3.5.1
RMariaDB 1.0.6 3.5.1
rmarkdown 1.10 3.5.1
RMassBank 2.8.0 3.5.1
RMassBankData 1.18.0 3.5.1
rMAT 3.30.0 3.5.1
rmeta 3.0 3.5.1
RmiR 1.36.0 3.5.1
RmiR.Hs.miRNA 1.0.7 3.5.1
Rmixmod 2.1.2 3.5.1
Rmpfr 0.7-1 3.5.1
Rmpi 0.6-7 3.5.1
rms 5.1-2 3.5.1
RMTstat 0.3 3.5.1
RMySQL 0.10.15 3.5.1
RNAdecay 1.0.2 3.5.1
RNAinteract 1.28.0 3.5.1
RNAinteractMAPK 1.18.0 3.5.1
RNAither 2.28.0 3.5.1
RNAprobR 1.12.0 3.5.1
RNAseq123 1.2.0 3.5.1
rnaseqcomp 1.10.0 3.5.1
RNAseqData.HNRNPC.bam.chr14 0.18.0 3.5.1
rnaseqGene 1.2.0 3.5.1
RnaSeqGeneEdgeRQL 1.2.3 3.5.1
rnaSeqMap 2.38.0 3.5.1
RNASeqPower 1.20.0 3.5.1
RnaSeqSampleSize 1.12.0 3.5.1
RnaSeqSampleSizeData 1.12.0 3.5.1
RnaSeqTutorial 0.18.0 3.5.1
RnBeads 1.12.1 3.5.1
RnBeads.hg19 1.12.0 3.5.1
RnBeads.hg38 1.12.0 3.5.1
RnBeads.mm10 1.12.0 3.5.1
RnBeads.mm9 1.12.0 3.5.1
RnBeads.rn5 1.12.0 3.5.1
rncl 0.8.3 3.5.1
RNeXML 2.1.2 3.5.1
rngtools 1.3.1 3.5.1
Rnits 1.14.0 3.5.1
roar 1.16.0 3.5.1
robCompositions 2.0.8 3.5.1
robust 0.4-18 3.5.1
robustbase 0.93-3 3.5.1
RobustRankAggreg 1.1 3.5.1
ROC 1.56.0 3.5.1
ROCR 1.0-7 3.5.1
Roleswitch 1.18.0 3.5.1
rols 2.8.2 3.5.1
ROntoTools 2.8.0 3.5.1
Rook 1.1-1 3.5.1
rootSolve 1.7 3.5.1
ropls 1.12.0 3.5.1
ROTS 1.8.0 3.5.1
roxygen2 6.1.0 3.5.1
RPA 1.36.0 3.5.1
rpart 4.1-13 3.5.1
rpart.plot 3.0.4 3.5.1
rphast 1.6.9 3.5.1
RPMG 2.2-2 3.5.1
RPMM 1.25 3.5.1
RPostgreSQL 0.6-2 3.5.1
rprojroot 1.3-2 3.5.1
RProtoBuf 0.4.12 3.5.1
RProtoBufLib 1.2.0 3.5.1
RpsiXML 2.22.0 3.5.1
rpx 1.16.0 3.5.1
Rqc 1.14.0 3.5.1
rqt 1.6.0 3.5.1
rqubic 1.26.0 3.5.1
RRBSdata 0.114.0 3.5.1
rrcov 1.4-4 3.5.1
rRDP 1.14.0 3.5.1
rRDPData 0.114.0 3.5.1
RRHO 1.20.0 3.5.1
Rsamtools 1.32.3 3.5.1
rsbml 2.38.0 3.5.1
RSEIS 3.8-3 3.5.1
RSeqAn 1.0.0 3.5.1
Rserve 1.7-3 3.5.1
rSFFreader 0.28.0 3.5.1
rsm 2.10 3.5.1
RSNNS 0.4-11 3.5.1
Rsolnp 1.16 3.5.1
RSpectra 0.13-1 3.5.1
RSQLite 2.1.1 3.5.1
rstan 2.17.4 3.5.1
rstudioapi 0.8 3.5.1
Rsubread 1.30.9 3.5.1
rsvd 0.9 3.5.1
rsvg 1.3 3.5.1
RSVGTipsDevice 1.0-7 3.5.1
RSVSim 1.20.0 3.5.1
rTANDEM 1.20.0 3.5.1
RTCA 1.32.0 3.5.1
RTCGA 1.10.0 3.5.1
RTCGA.clinical 20151101.10.0 3.5.1
RTCGA.CNV 1.8.0 3.5.1
RTCGA.methylation 1.8.0 3.5.1
RTCGA.miRNASeq 1.8.0 3.5.1
RTCGA.mRNA 1.8.0 3.5.1
RTCGA.mutations 20151101.10.0 3.5.1
RTCGA.PANCAN12 1.8.0 3.5.1
RTCGA.rnaseq 20151101.10.0 3.5.1
RTCGA.RPPA 1.8.0 3.5.1
RTCGAToolbox 2.10.0 3.5.1
rtfbs 0.3.9 3.5.1
RTN 2.4.6 3.5.1
RTNduals 1.4.4 3.5.1
RTNsurvival 1.4.5 3.5.1
RTopper 1.26.0 3.5.1
rtracklayer 1.40.6 3.5.1
Rtreemix 1.42.0 3.5.1
rTRM 1.18.0 3.5.1
rTRMui 1.18.0 3.5.1
Rtsne 0.13 3.5.1
Rttf2pt1 1.3.7 3.5.1
runibic 1.2.5 3.5.1
RUnit 0.4.32 3.5.1
ruv 0.9.7 3.5.1
RUVcorr 1.12.0 3.5.1
RUVnormalize 1.14.0 3.5.1
RUVnormalizeData 0.114.0 3.5.1
RUVSeq 1.14.0 3.5.1
rvcheck 0.1.1 3.5.1
rvest 0.3.2 3.5.1
Rvmmin 2018-4.17 3.5.1
RVS 1.2.1 3.5.1
Rwave 2.4-8 3.5.1
RWeka 0.4-39 3.5.1
RWekajars 3.9.3-1 3.5.1
rWikiPathways 1.0.5 3.5.1
S4Vectors 0.18.3 3.5.1
safe 3.20.0 3.5.1
sagenhaft 1.50.0 3.5.1
SAGx 1.54.0 3.5.1
samExploreR 1.4.0 3.5.1
sampleClassifier 1.4.0 3.5.1
sampleClassifierData 1.4.0 3.5.1
sampling 2.8 3.5.1
SamSPECTRAL 1.34.0 3.5.1
sandwich 2.5-0 3.5.1
sangerseqR 1.16.0 3.5.1
SANTA 2.18.0 3.5.1
sapFinder 1.18.0 3.5.1
savR 1.18.0 3.5.1
SBMLR 1.76.0 3.5.1
SC3 1.8.0 3.5.1
Scale4C 1.2.0 3.5.1
scales 1.0.0 3.5.1
SCAN.UPC 2.22.0 3.5.1
scater 1.8.4 3.5.1
scatterplot3d 0.3-41 3.5.1
scDD 1.4.0 3.5.1
scde 2.8.0 3.5.1
scFeatureFilter 1.0.0 3.5.1
scfind 1.2.0 3.5.1
ScISI 1.52.0 3.5.1
SCLCBam 1.12.0 3.5.1
scmap 1.2.0 3.5.1
scmeth 1.0.1 3.5.1
SCnorm 1.2.1 3.5.1
scone 1.4.0 3.5.1
Sconify 1.0.4 3.5.1
scoreInvHap 1.2.1 3.5.1
scPipe 1.2.1 3.5.1
scran 1.8.4 3.5.1
scrime 1.3.3 3.5.1
scRNAseq 1.6.0 3.5.1
scsR 1.16.0 3.5.1
sda 1.3.7 3.5.1
SDAMS 1.0.0 3.5.1
SDMTools 1.1-221 3.5.1
SearchTrees 0.5.2 3.5.1
segmented 0.5-3.0 3.5.1
segmentSeq 2.14.0 3.5.1
selectr 0.4-1 3.5.1
SELEX 1.12.0 3.5.1
sem 3.1-9 3.5.1
SemDist 1.14.0 3.5.1
semisup 1.4.0 3.5.1
sendmailR 1.2-1 3.5.1
SEPA 1.10.0 3.5.1
SEPIRA 1.0.2 3.5.1
seq2pathway 1.12.0 3.5.1
seq2pathway.data 1.12.0 3.5.1
SeqArray 1.20.2 3.5.1
seqbias 1.28.0 3.5.1
seqc 1.14.2 3.5.1
seqCAT 1.2.1 3.5.1
seqCNA 1.26.0 3.5.1
seqCNA.annot 1.16.0 3.5.1
seqcombo 1.2.0 3.5.1
SeqGSEA 1.20.0 3.5.1
seqinr 3.4-5 3.5.1
seqLogo 1.46.0 3.5.1
seqPattern 1.12.0 3.5.1
seqplots 1.18.0 3.5.1
seqsetvis 1.0.2 3.5.1
SeqSQC 1.2.0 3.5.1
seqTools 1.14.0 3.5.1
sequencing 1.2.0 3.5.1
SeqVarTools 1.18.0 3.5.1
seriation 1.2-3 3.5.1
serumStimulation 1.16.0 3.5.1
servr 0.10 3.5.1
setRNG 2013.9-1 3.5.1
sets 1.0-18 3.5.1
settings 0.2.4 3.5.1
Seurat 2.3.4 3.5.1
sevenbridges 1.10.5 3.5.1
sevenC 1.0.0 3.5.1
seventyGeneData 1.16.0 3.5.1
sfsmisc 1.1-2 3.5.1
sgeostat 1.0-27 3.5.1
SGSeq 1.14.0 3.5.1
shades 1.2.0 3.5.1
shape 1.4.4 3.5.1
shiny 1.1.0 3.5.1
shinyAce 0.3.2 3.5.1
shinyalert 1.0 3.5.1
shinyBS 0.61 3.5.1
shinydashboard 0.7.0 3.5.1
shinyFiles 0.7.1 3.5.1
shinyjs 1.0 3.5.1
shinyMethyl 1.16.0 3.5.1
shinyMethylData 0.114.0 3.5.1
shinyTANDEM 1.18.0 3.5.1
shinythemes 1.1.1 3.5.1
shinyTree 0.2.6 3.5.1
ShortRead 1.38.0 3.5.1
showtext 0.5-1 3.5.1
showtextdb 2.0 3.5.1
SIAMCAT 1.0.0 3.5.1
SICtools 1.10.0 3.5.1
SIFT.Hsapiens.dbSNP132 1.0.2 3.5.1
SIFT.Hsapiens.dbSNP137 1.0.0 3.5.1
sigaR 1.28.0 3.5.1
SigCheck 2.12.0 3.5.1
sigclust 1.1.0 3.5.1
SigFuge 1.18.0 3.5.1
siggenes 1.54.0 3.5.1
sights 1.6.0 3.5.1
signal 0.7-6 3.5.1
signeR 1.6.1 3.5.1
signet 1.0.2 3.5.1
sigPathway 1.48.0 3.5.1
sigsquared 1.12.0 3.5.1
SIM 1.50.0 3.5.1
SIMAT 1.12.1 3.5.1
SimBindProfiles 1.18.0 3.5.1
similaRpeak 1.12.0 3.5.1
SIMLR 1.6.0 3.5.1
simpIntLists 1.16.0 3.5.1
simpleaffy 2.56.0 3.5.1
simpleSingleCell 1.2.1 3.5.1
simulatorZ 1.14.0 3.5.1
sincell 1.12.0 3.5.1
Single.mTEC.Transcriptomes 1.8.0 3.5.1
SingleCellExperiment 1.2.0 3.5.1
singleCellTK 1.0.3 3.5.1
singscore 1.0.0 3.5.1
SISPA 1.10.0 3.5.1
sizepower 1.50.0 3.5.1
skewr 1.12.1 3.5.1
slalom 1.2.0 3.5.1
slam 0.1-43 3.5.1
SLGI 1.40.0 3.5.1
SLqPCR 1.46.0 3.5.1
sm 2.2-5.6 3.5.1
SMAP 1.44.0 3.5.1
SmartSVA 0.1.3 3.5.1
smatr 3.4-8 3.5.1
sme 1.0.2 3.5.1
SMITE 1.8.0 3.5.1
smoother 1.1 3.5.1
smoothie 1.0-1 3.5.1
smoothmest 0.1-2 3.5.1
SmoothWin 2.0.0 3.5.1
SMVar 1.3.3 3.5.1
sna 2.4 3.5.1
SNAData 1.26.0 3.5.1
SNAGEE 1.20.0 3.5.1
SNAGEEdata 1.16.0 3.5.1
snapCGH 1.50.0 3.5.1
SNFtool 2.3.0 3.5.1
snm 1.28.0 3.5.1
snow 0.4-3 3.5.1
SnowballC 0.5.1 3.5.1
snowfall 1.84-6.1 3.5.1
SNPassoc 1.9-2 3.5.1
SNPchip 2.26.0 3.5.1
SNPediaR 1.6.0 3.5.1
SNPhood 1.10.0 3.5.1
SNPhoodData 1.10.0 3.5.1
SNPlocs.Hsapiens.dbSNP.20101109 0.99.7 3.5.1
SNPlocs.Hsapiens.dbSNP.20120608 0.99.11 3.5.1
SNPlocs.Hsapiens.dbSNP141.GRCh38 0.99.11 3.5.1
SNPlocs.Hsapiens.dbSNP142.GRCh37 0.99.5 3.5.1
SNPlocs.Hsapiens.dbSNP144.GRCh37 0.99.20 3.5.1
SNPlocs.Hsapiens.dbSNP144.GRCh38 0.99.20 3.5.1
SNPlocs.Hsapiens.dbSNP150.GRCh38 0.99.20 3.5.1
SNPRelate 1.14.0 3.5.1
snpStats 1.30.0 3.5.1
softImpute 1.4 3.5.1
soGGi 1.12.0 3.5.1
som 0.3-5.1 3.5.1
SomatiCAData 1.18.0 3.5.1
SomaticCancerAlterations 1.16.0 3.5.1
SomaticSignatures 2.16.0 3.5.1
sonicLength 1.4.4 3.5.1
sourcetools 0.1.7 3.5.1
sp 1.3-1 3.5.1
SpacePAC 1.18.3 3.5.1
spam 2.2-0 3.5.1
SPARQL 1.16 3.5.1
SparseDC 0.1.17 3.5.1
sparseDOSSA 1.4.0 3.5.1
sparseLDA 0.1-9 3.5.1
SparseM 1.77 3.5.1
sparseMVN 0.2.1.1 3.5.1
SparseSignatures 1.0.3 3.5.1
sparsesvd 0.1-4 3.5.1
spatial 7.3-11 3.5.1
SpatialExtremes 2.0-7 3.5.1
SpatialTools 1.0.4 3.5.1
spatstat 1.56-1 3.5.1
spatstat.data 1.4-0 3.5.1
spatstat.utils 1.10-0 3.5.1
spBayes 0.4-1 3.5.1
spData 0.2.9.4 3.5.1
spdep 0.7-9 3.5.1
speaq 2.3.3 3.5.1
specL 1.14.0 3.5.1
SpeCond 1.34.0 3.5.1
speedglm 0.3-2 3.5.1
SPEM 1.20.0 3.5.1
SPIA 2.32.0 3.5.1
SpidermiR 1.10.0 3.5.1
SpikeIn 1.22.0 3.5.1
SpikeInSubset 1.20.0 3.5.1
spikeLI 2.40.0 3.5.1
spkTools 1.36.0 3.5.1
splancs 2.01-40 3.5.1
splatter 1.4.3 3.5.1
splicegear 1.52.0 3.5.1
spliceR 1.22.0 3.5.1
spliceSites 1.28.0 3.5.1
SplicingGraphs 1.20.0 3.5.1
splines 3.5.1 3.5.1
splineTimeR 1.8.0 3.5.1
SPLINTER 1.6.0 3.5.1
splitstackshape 1.4.6 3.5.1
splots 1.46.0 3.5.1
splus2R 1.2-2 3.5.1
SPONGE 1.2.0 3.5.1
spotSegmentation 1.54.0 3.5.1
spp 1.15.5 3.5.1
sqldf 0.4-11 3.5.1
SQN 1.0.5 3.5.1
SQUADD 1.30.0 3.5.1
SQUAREM 2017.10-1 3.5.1
squash 1.0.8 3.5.1
SRAdb 1.42.2 3.5.1
sRAP 1.20.0 3.5.1
SRGnet 1.6.0 3.5.1
srnadiff 1.0.0 3.5.1
sROC 0.1-2 3.5.1
sscore 1.52.0 3.5.1
sscu 2.10.0 3.5.1
sSeq 1.18.0 3.5.1
ssize 1.54.0 3.5.1
SSPA 2.20.0 3.5.1
ssviz 1.14.0 3.5.1
st 1.2.5 3.5.1
stabledist 0.7-1 3.5.1
stabs 0.6-3 3.5.1
stageR 1.2.22 3.5.1
STAN 2.8.0 3.5.1
StanHeaders 2.18.0 3.5.1
staRank 1.22.0 3.5.1
StarBioTrek 1.6.0 3.5.1
Starr 1.36.0 3.5.1
startupmsg 0.9.5 3.5.1
STATegRa 1.16.1 3.5.1
statmod 1.4.30 3.5.1
statnet.common 4.1.4 3.5.1
stats 3.5.1 3.5.1
stats4 3.5.1 3.5.1
statTarget 1.10.0 3.5.1
stemHypoxia 1.16.0 3.5.1
stepNorm 1.52.0 3.5.1
stjudem 1.20.0 3.5.1
Streamer 1.26.0 3.5.1
STRINGdb 1.20.0 3.5.1
stringdist 0.9.5.1 3.5.1
stringi 1.2.4 3.5.1
stringr 1.3.1 3.5.1
STROMA4 1.4.0 3.5.1
strucchange 1.5-1 3.5.1
subSeq 1.10.0 3.5.1
SummarizedBenchmark 1.0.4 3.5.1
SummarizedExperiment 1.10.1 3.5.1
summarytools 0.8.8 3.5.1
superheat 0.1.0 3.5.1
SuperLearner 2.0-24 3.5.1
superpc 1.09 3.5.1
SuppDists 1.1-9.4 3.5.1
supraHex 1.18.0 3.5.1
survcomp 1.30.0 3.5.1
survey 3.34 3.5.1
survival 2.42-6 3.5.1
survivalROC 1.0.3 3.5.1
survminer 0.4.3 3.5.1
survMisc 0.5.5 3.5.1
Sushi 1.18.0 3.5.1
sva 3.28.0 3.5.1
SVAPLSseq 1.6.0 3.5.1
svd 0.4.1 3.5.1
svDialogs 1.0.0 3.5.1
svglite 1.2.1 3.5.1
svGUI 1.0.0 3.5.1
SVM2CRM 1.12.0 3.5.1
SVM2CRMdata 1.12.0 3.5.1
svMisc 1.1.0 3.5.1
svUnit 0.7-12 3.5.1
SWATH2stats 1.10.2 3.5.1
SwathXtend 2.2.0 3.5.1
swfdr 1.6.0 3.5.1
SwimR 1.18.0 3.5.1
switchBox 1.16.0 3.5.1
switchde 1.6.0 3.5.1
synapter 2.4.1 3.5.1
synapterdata 1.18.0 3.5.1
synergyfinder 1.6.1 3.5.1
synlet 1.10.0 3.5.1
sys 1.6 3.5.1
sysfonts 0.8 3.5.1
systemPipeR 1.14.0 3.5.1
systemPipeRdata 1.8.0 3.5.1
targetscan.Hs.eg.db 0.6.1 3.5.1
targetscan.Mm.eg.db 0.6.1 3.5.1
TargetScore 1.18.0 3.5.1
TargetScoreData 1.16.0 3.5.1
TargetSearch 1.36.1 3.5.1
TargetSearchData 1.18.0 3.5.1
TarSeqQC 1.10.0 3.5.1
TBX20BamSubset 1.16.0 3.5.1
TCC 1.20.1 3.5.1
TCGAbiolinks 2.8.4 3.5.1
TCGAbiolinksGUI 1.6.1 3.5.1
TCGAbiolinksGUI.data 1.0.0 3.5.1
TCGAcrcmiRNA 0.114.0 3.5.1
TCGAcrcmRNA 0.114.0 3.5.1
TCGAMethylation450k 1.16.0 3.5.1
TCGAutils 1.0.1 3.5.1
TCGAWorkflow 1.2.5 3.5.1
TCGAWorkflowData 1.4.0 3.5.1
tcltk 3.5.1 3.5.1
tcltk2 1.2-11 3.5.1
tcR 2.2.2 3.5.1
TCseq 1.4.0 3.5.1
TDARACNE 1.30.0 3.5.1
TeachingDemos 2.10 3.5.1
tensor 1.5 3.5.1
tensorA 0.36.1 3.5.1
TENxBrainData 1.0.0 3.5.1
tenXplore 1.2.0 3.5.1
TEQC 4.2.0 3.5.1
ternarynet 1.24.0 3.5.1
test3cdf 2.18.0 3.5.1
tester 0.1.7 3.5.1
testthat 2.0.1 3.5.1
TFARM 1.2.0 3.5.1
TFBSTools 1.18.0 3.5.1
TFEA.ChIP 1.0.0 3.5.1
TFHAZ 1.2.0 3.5.1
TFMPvalue 0.0.8 3.5.1
TFutils 1.0.0 3.5.1
TH.data 1.0-9 3.5.1
threejs 0.3.1 3.5.1
tibble 1.4.2 3.5.1
tidyr 0.8.1 3.5.1
tidyselect 0.2.5 3.5.1
tidytree 0.1.9 3.5.1
tidyverse 1.2.1 3.5.1
tiff 0.1-5 3.5.1
tigre 1.34.0 3.5.1
tilingArray 1.58.0 3.5.1
timecourse 1.52.0 3.5.1
timeDate 3043.102 3.5.1
TimerQuant 1.10.0 3.5.1
timescape 1.4.0 3.5.1
timeSeries 3042.102 3.5.1
timsac 1.3.6 3.5.1
TIN 1.12.0 3.5.1
tinesath1cdf 1.18.0 3.5.1
tinesath1probe 1.18.0 3.5.1
tinytex 0.8 3.5.1
TissueEnrich 1.0.7 3.5.1
tissueTreg 1.0.0 3.5.1
TitanCNA 1.18.0 3.5.1
tkrgl 0.8 3.5.1
tkrplot 0.0-24 3.5.1
tkWidgets 1.58.0 3.5.1
tm 0.7-5 3.5.1
TMB 1.7.14 3.5.1
TMixClust 1.2.0 3.5.1
tmle 1.3.0-1 3.5.1
tmvtnorm 1.4-10 3.5.1
TnT 1.2.0 3.5.1
tofsims 1.8.0 3.5.1
tofsimsData 1.8.0 3.5.1
tools 3.5.1 3.5.1
ToPASeq 1.14.1 3.5.1
topdownr 1.2.0 3.5.1
topdownrdata 1.2.0 3.5.1
topGO 2.32.0 3.5.1
topicmodels 0.2-7 3.5.1
topologyGSA 1.4.6 3.5.1
TPP 3.8.5 3.5.1
tracktables 1.14.0 3.5.1
trackViewer 1.16.1 3.5.1
tractor.base 3.2.2 3.5.1
transcriptogramer 1.2.1 3.5.1
transcriptR 1.8.0 3.5.1
tRanslatome 1.18.5 3.5.1
TransView 1.24.0 3.5.1
traseR 1.10.0 3.5.1
tree 1.0-39 3.5.1
treeio 1.4.3 3.5.1
trena 1.2.0 3.5.1
Trendy 1.2.11 3.5.1
triform 1.22.0 3.5.1
trigger 1.26.0 3.5.1
trimcluster 0.1-2.1 3.5.1
trio 3.18.0 3.5.1
triplex 1.20.0 3.5.1
tRNAscanImport 1.0.1 3.5.1
TRONCO 2.12.0 3.5.1
truncdist 1.0-2 3.5.1
truncnorm 1.0-8 3.5.1
trust 0.1-7 3.5.1
TSCAN 1.18.0 3.5.1
tseries 0.10-45 3.5.1
tsne 0.1-3 3.5.1
TSP 1.1-6 3.5.1
tspair 1.38.0 3.5.1
TSRchitect 1.8.9 3.5.1
TSSi 1.26.0 3.5.1
TTMap 1.2.0 3.5.1
TTR 0.23-4 3.5.1
TurboNorm 1.28.0 3.5.1
turner 0.1.7 3.5.1
TVTB 1.6.0 3.5.1
tweeDEseq 1.26.0 3.5.1
tweeDEseqCountData 1.18.0 3.5.1
tweenr 1.0.0 3.5.1
twilight 1.56.0 3.5.1
twoddpcr 1.4.1 3.5.1
TxDb.Athaliana.BioMart.plantsmart22 3.0.1 3.5.1
TxDb.Celegans.UCSC.ce6.ensGene 3.2.2 3.5.1
TxDb.Dmelanogaster.UCSC.dm3.ensGene 3.2.2 3.5.1
TxDb.Dmelanogaster.UCSC.dm6.ensGene 3.4.1 3.5.1
TxDb.Drerio.UCSC.danRer10.refGene 3.4.3 3.5.1
TxDb.Ggallus.UCSC.galGal5.refGene 3.4.3 3.5.1
TxDb.Hsapiens.UCSC.hg18.knownGene 3.2.2 3.5.1
TxDb.Hsapiens.UCSC.hg19.knownGene 3.2.2 3.5.1
TxDb.Hsapiens.UCSC.hg19.lincRNAsTranscripts 3.2.2 3.5.1
TxDb.Hsapiens.UCSC.hg38.knownGene 3.4.0 3.5.1
TxDb.Mmusculus.UCSC.mm10.ensGene 3.4.0 3.5.1
TxDb.Mmusculus.UCSC.mm10.knownGene 3.4.0 3.5.1
TxDb.Mmusculus.UCSC.mm9.knownGene 3.2.2 3.5.1
TxDb.Rnorvegicus.UCSC.rn4.ensGene 3.2.2 3.5.1
TxDb.Rnorvegicus.UCSC.rn5.refGene 3.4.3 3.5.1
TxDb.Rnorvegicus.UCSC.rn6.refGene 3.4.3 3.5.1
TxDb.Scerevisiae.UCSC.sacCer3.sgdGene 3.2.2 3.5.1
tximport 1.8.0 3.5.1
tximportData 1.8.0 3.5.1
TxRegInfra 1.0.1 3.5.1
TypeInfo 1.46.0 3.5.1
ucminf 1.1-4 3.5.1
UNDO 1.22.0 3.5.1
unifiedWMWqPCR 1.16.0 3.5.1
UniProt.ws 2.20.4 3.5.1
uniqtag 1.0 3.5.1
Uniquorn 2.0.0 3.5.1
units 0.6-1 3.5.1
UpSetR 1.3.3 3.5.1
uSORT 1.6.0 3.5.1
utf8 1.1.4 3.5.1
utils 3.5.1 3.5.1
uuid 0.1-2 3.5.1
V8 1.5 3.5.1
VanillaICE 1.42.4 3.5.1
varhandle 2.0.3 3.5.1
variancePartition 1.10.4 3.5.1
VariantAnnotation 1.26.1 3.5.1
VariantFiltering 1.16.0 3.5.1
variants 1.2.0 3.5.1
VariantTools 1.22.0 3.5.1
VariantToolsData 1.4.0 3.5.1
varSelRF 0.7-8 3.5.1
vbmp 1.48.0 3.5.1
vbsr 0.0.5 3.5.1
vcd 1.4-4 3.5.1
vcfR 1.8.0 3.5.1
vdiffr 0.2.3 3.5.1
Vega 1.28.0 3.5.1
VegaMC 3.18.0 3.5.1
vegan 2.5-2 3.5.1
venn 1.7 3.5.1
VennDiagram 1.6.20 3.5.1
verification 1.42 3.5.1
VGAM 1.0-6 3.5.1
vidger 1.0.0 3.5.1
VIM 4.7.0 3.5.1
vioplot 0.2 3.5.1
viper 1.14.0 3.5.1
vipor 0.4.5 3.5.1
viridis 0.5.1 3.5.1
viridisLite 0.3.0 3.5.1
visNetwork 2.0.4 3.5.1
vsn 3.48.1 3.5.1
vtpnet 0.20.0 3.5.1
vulcan 1.2.0 3.5.1
vulcandata 1.2.0 3.5.1
waffle 0.7.0 3.5.1
wateRmelon 1.24.0 3.5.1
wavClusteR 2.14.0 3.5.1
waveslim 1.7.5 3.5.1
wavethresh 4.6.8 3.5.1
waveTiling 1.22.0 3.5.1
waveTilingData 1.16.0 3.5.1
weaver 1.46.0 3.5.1
webbioc 1.52.0 3.5.1
webshot 0.5.1 3.5.1
webutils 0.6 3.5.1
WES.1KG.WUGSC 1.12.0 3.5.1
wesanderson 0.3.6 3.5.1
WGCNA 1.64-1 3.5.1
whisker 0.3-2 3.5.1
widgetTools 1.58.0 3.5.1
wiggleplotr 1.4.0 3.5.1
withr 2.1.2 3.5.1
wmtsa 2.0-3 3.5.1
wordcloud 2.6 3.5.1
writexl 1.0 3.5.1
WriteXLS 4.0.0 3.5.1
XBSeq 1.12.0 3.5.1
xcms 3.2.0 3.5.1
XDE 2.26.0 3.5.1
xfun 0.3 3.5.1
xgboost 0.71.2 3.5.1
XGR 1.1.4 3.5.1
XhybCasneuf 1.18.0 3.5.1
xlsx 0.6.1 3.5.1
xlsxjars 0.6.1 3.5.1
xmapbridge 1.38.0 3.5.1
Xmisc 0.2.1 3.5.1
XML 3.98-1.16 3.5.1
xml2 1.2.0 3.5.1
xps 1.40.0 3.5.1
xtable 1.8-3 3.5.1
XtraSNPlocs.Hsapiens.dbSNP144.GRCh38 0.99.12 3.5.1
xts 0.11-1 3.5.1
XVector 0.20.0 3.5.1
yaml 2.2.0 3.5.1
yamss 1.6.0 3.5.1
YAPSA 1.6.0 3.5.1
yaqcaffy 1.40.0 3.5.1
yarn 1.6.0 3.5.1
yeast2.db 3.2.3 3.5.1
yeastCC 1.20.0 3.5.1
yeastExpData 0.26.0 3.5.1
yeastGSData 0.18.0 3.5.1
yeastNagalakshmi 1.16.0 3.5.1
yeastRNASeq 0.18.0 3.5.1
yri1kgv 0.22.0 3.5.1
yriMulti 0.10.0 3.5.1
zCompositions 1.1.1 3.5.1
zebrafishRNASeq 0.114.0 3.5.1
zFPKM 1.2.0 3.5.1
zinbwave 1.2.0 3.5.1
zip 1.0.0 3.5.1
zlibbioc 1.26.0 3.5.1
zoo 1.8-4 3.5.1