| Back to Multiple platform build/check report for BioC 3.6 |
|
This page was generated on 2018-04-12 13:27:39 -0400 (Thu, 12 Apr 2018).
| Package 1086/1472 | Hostname | OS / Arch | INSTALL | BUILD | CHECK | BUILD BIN | ||||||
| psygenet2r 1.10.0 Alba Gutierrez-Sacristan
| malbec1 | Linux (Ubuntu 16.04.1 LTS) / x86_64 | OK | OK | OK | |||||||
| tokay1 | Windows Server 2012 R2 Standard / x64 | [ OK ] | OK | WARNINGS | OK | |||||||
| veracruz1 | OS X 10.11.6 El Capitan / x86_64 | OK | OK | OK | OK |
| Package: psygenet2r |
| Version: 1.10.0 |
| Command: rm -rf psygenet2r.buildbin-libdir && mkdir psygenet2r.buildbin-libdir && C:\cygwin\bin\curl.exe -O https://malbec1.bioconductor.org/BBS/3.6/bioc/src/contrib/psygenet2r_1.10.0.tar.gz && C:\Users\biocbuild\bbs-3.6-bioc\R\bin\R.exe CMD INSTALL --build --library=psygenet2r.buildbin-libdir --merge-multiarch psygenet2r_1.10.0.tar.gz && C:\Users\biocbuild\bbs-3.6-bioc\R\bin\R.exe CMD INSTALL psygenet2r_1.10.0.zip && rm psygenet2r_1.10.0.tar.gz psygenet2r_1.10.0.zip |
| StartedAt: 2018-04-11 18:37:29 -0400 (Wed, 11 Apr 2018) |
| EndedAt: 2018-04-11 18:38:43 -0400 (Wed, 11 Apr 2018) |
| EllapsedTime: 74.5 seconds |
| RetCode: 0 |
| Status: OK |
##############################################################################
##############################################################################
###
### Running command:
###
### rm -rf psygenet2r.buildbin-libdir && mkdir psygenet2r.buildbin-libdir && C:\cygwin\bin\curl.exe -O https://malbec1.bioconductor.org/BBS/3.6/bioc/src/contrib/psygenet2r_1.10.0.tar.gz && C:\Users\biocbuild\bbs-3.6-bioc\R\bin\R.exe CMD INSTALL --build --library=psygenet2r.buildbin-libdir --merge-multiarch psygenet2r_1.10.0.tar.gz && C:\Users\biocbuild\bbs-3.6-bioc\R\bin\R.exe CMD INSTALL psygenet2r_1.10.0.zip && rm psygenet2r_1.10.0.tar.gz psygenet2r_1.10.0.zip
###
##############################################################################
##############################################################################
% Total % Received % Xferd Average Speed Time Time Time Current
Dload Upload Total Spent Left Speed
0 0 0 0 0 0 0 0 --:--:-- --:--:-- --:--:-- 0
100 131k 100 131k 0 0 5477k 0 --:--:-- --:--:-- --:--:-- 6255k
install for i386
* installing *source* package 'psygenet2r' ...
** R
** data
*** moving datasets to lazyload DB
** inst
** preparing package for lazy loading
** help
*** installing help indices
converting help for package 'psygenet2r'
finding HTML links ... done
DataGeNET.Psy-class html
JaccardIndexPsy-class html
enrichedPD-methods html
extract html
extractSentences html
geneAttrPlot-methods html
getUMLs-methods html
jaccardEstimation-methods html
ndisease html
ngene html
pantherGraphic-methods html
plot-DataGeNET.Psy-ANY-method html
plot-JaccardIndexPsy-ANY-method html
psygenet2r html
psygenetDisease-methods html
psygenetDiseaseSentences html
psygenetGene-methods html
psygenetGeneSentences html
qr html
topAnatEnrichment-methods html
Rd warning: C:/Users/biocbuild/bbs-3.6-bioc/tmpdir/RtmpGITedi/R.INSTALL162070dc4e11/psygenet2r/man/topAnatEnrichment-methods.Rd:21: missing file link 'runTest'
universe html
** building package indices
** installing vignettes
** testing if installed package can be loaded
In R CMD INSTALL
install for x64
* installing *source* package 'psygenet2r' ...
** testing if installed package can be loaded
* MD5 sums
packaged installation of 'psygenet2r' as psygenet2r_1.10.0.zip
* DONE (psygenet2r)
In R CMD INSTALL
In R CMD INSTALL
* installing to library 'C:/Users/biocbuild/bbs-3.6-bioc/R/library'
package 'psygenet2r' successfully unpacked and MD5 sums checked
In R CMD INSTALL