IRanges 2.10.2 Bioconductor Package Maintainer
 | Snapshot Date: 2017-08-15 17:17:57 -0400 (Tue, 15 Aug 2017) |  | URL: https://hedgehog.fhcrc.org/bioconductor/branches/RELEASE_3_5/madman/Rpacks/IRanges |  | Last Changed Rev: 129836 / Revision: 131943 |  | Last Changed Date: 2017-05-24 14:22:03 -0400 (Wed, 24 May 2017) |  
  | malbec2  | Linux (Ubuntu 16.04.1 LTS) / x86_64  |  OK  |  OK  |  WARNINGS  |  |   | 
| tokay2  | Windows Server 2012 R2 Standard / x64  |  OK  |  OK  |  WARNINGS  | [ OK ] |   | 
| veracruz2  | OS X 10.11.6 El Capitan / x86_64  |  OK  |  OK  |  WARNINGS  |  OK  |   | 
##############################################################################
##############################################################################
###
### Running command:
###
###   cd IRanges.buildbin-libdir/IRanges && zip -r ../../IRanges_2.10.2.zip . & cd ../..
###
##############################################################################
##############################################################################
  adding: CITATION (264 bytes security) (deflated 56%)
  adding: DESCRIPTION (264 bytes security) (deflated 57%)
  adding: doc/ (304 bytes security) (stored 0%)
  adding: doc/index.html (264 bytes security) (deflated 58%)
  adding: doc/IRangesOverview.pdf (264 bytes security) (deflated 17%)
  adding: doc/IRangesOverview.R (264 bytes security) (deflated 82%)
  adding: doc/IRangesOverview.Rnw (264 bytes security) (deflated 67%)
  adding: extdata/ (304 bytes security) (stored 0%)
  adding: extdata/ce2chrM.bed (264 bytes security) (deflated 39%)
  adding: extdata/ce2chrM.fa.out (264 bytes security) (deflated 76%)
  adding: extdata/hg18liftAll.lft (264 bytes security) (deflated 67%)
  adding: extdata/hs_b36v3_chrY.agp (264 bytes security) (deflated 61%)
  adding: help/ (304 bytes security) (stored 0%)
  adding: help/aliases.rds (264 bytes security) (stored 0%)
  adding: help/AnIndex (264 bytes security) (deflated 89%)
  adding: help/IRanges.rdb (264 bytes security) (deflated 1%)
  adding: help/IRanges.rdx (264 bytes security) (stored 0%)
  adding: help/paths.rds (264 bytes security) (stored 0%)
  adding: html/ (304 bytes security) (stored 0%)
  adding: html/00Index.html (264 bytes security) (deflated 93%)
  adding: html/R.css (264 bytes security) (deflated 75%)
  adding: include/ (304 bytes security) (stored 0%)
  adding: include/IRanges_defines.h (264 bytes security) (deflated 67%)
  adding: include/IRanges_interface.h (264 bytes security) (deflated 77%)
  adding: include/_IRanges_stubs.c (264 bytes security) (deflated 82%)
  adding: INDEX (264 bytes security) (deflated 69%)
  adding: libs/ (304 bytes security) (stored 0%)
  adding: libs/i386/ (304 bytes security) (stored 0%)
  adding: libs/i386/IRanges.dll (264 bytes security) (deflated 60%)
  adding: libs/x64/ (304 bytes security) (stored 0%)
  adding: libs/x64/IRanges.dll (264 bytes security) (deflated 60%)
  adding: MD5 (264 bytes security) (deflated 49%)
  adding: Meta/ (304 bytes security) (stored 0%)
  adding: Meta/features.rds (264 bytes security) (stored 0%)
  adding: Meta/hsearch.rds (264 bytes security) (deflated 1%)
  adding: Meta/links.rds (264 bytes security) (deflated 1%)
  adding: Meta/nsInfo.rds (264 bytes security) (stored 0%)
  adding: Meta/package.rds (264 bytes security) (stored 0%)
  adding: Meta/Rd.rds (264 bytes security) (stored 0%)
  adding: Meta/vignette.rds (264 bytes security) (stored 0%)
  adding: NAMESPACE (264 bytes security) (deflated 71%)
  adding: NEWS (264 bytes security) (deflated 69%)
  adding: R/ (304 bytes security) (stored 0%)
  adding: R/IRanges (264 bytes security) (deflated 41%)
  adding: R/IRanges.rdb (264 bytes security) (deflated 32%)
  adding: R/IRanges.rdx (264 bytes security) (deflated 6%)
  adding: unitTests/ (304 bytes security) (stored 0%)
  adding: unitTests/test_AtomicList-class.R (264 bytes security) (deflated 73%)
  adding: unitTests/test_AtomicList-utils.R (264 bytes security) (deflated 81%)
  adding: unitTests/test_bind-arrays.R (264 bytes security) (deflated 78%)
  adding: unitTests/test_coverage-methods.R (264 bytes security) (deflated 69%)
  adding: unitTests/test_DataFrame-utils.R (264 bytes security) (deflated 47%)
  adding: unitTests/test_DataFrameList.R (264 bytes security) (deflated 83%)
  adding: unitTests/test_extractList.R (264 bytes security) (deflated 82%)
  adding: unitTests/test_findOverlaps-methods.R (264 bytes security) (deflated 81%)
  adding: unitTests/test_Grouping-class.R (264 bytes security) (deflated 83%)
  adding: unitTests/test_HitsList.R (264 bytes security) (deflated 35%)
  adding: unitTests/test_inter-range-methods.R (264 bytes security) (deflated 81%)
  adding: unitTests/test_intra-range-methods.R (264 bytes security) (deflated 83%)
  adding: unitTests/test_IRanges-class.R (264 bytes security) (deflated 65%)
  adding: unitTests/test_NCList-class.R (264 bytes security) (deflated 84%)
  adding: unitTests/test_nearest-methods.R (264 bytes security) (deflated 78%)
  adding: unitTests/test_Ranges-comparison.R (264 bytes security) (deflated 66%)
  adding: unitTests/test_RangesList-class.R (264 bytes security) (deflated 80%)
  adding: unitTests/test_RleViews.R (264 bytes security) (deflated 86%)
  adding: unitTests/test_RleViewsList.R (264 bytes security) (deflated 86%)
  adding: unitTests/test_seqapply.R (264 bytes security) (deflated 49%)
  adding: unitTests/test_setops-methods.R (264 bytes security) (deflated 78%)
  adding: unitTests/test_split.R (264 bytes security) (deflated 21%)
  adding: unitTests/test_tile-methods.R (264 bytes security) (deflated 79%)