| MotIV 1.29.0 Eloi Mercier , Raphael Gottardo
 
 | Snapshot Date: 2016-09-19 19:15:14 -0700 (Mon, 19 Sep 2016) |  | URL: https://hedgehog.fhcrc.org/bioconductor/trunk/madman/Rpacks/MotIV |  | Last Changed Rev: 117081 / Revision: 121152 |  | Last Changed Date: 2016-05-03 14:30:44 -0700 (Tue, 03 May 2016) | 
 | zin1 | Linux (Ubuntu 16.04 LTS) / x86_64 | OK | OK | WARNINGS |  |  | 
| moscato1 | Windows Server 2008 R2 Standard (64-bit) / x64 | OK | OK | WARNINGS | [ OK ] |  | 
| morelia | Mac OS X Mavericks (10.9.5) / x86_64 | OK | OK | WARNINGS | OK |  | 
##############################################################################
##############################################################################
###
### Running command:
###
###   cd MotIV.buildbin-libdir/MotIV && zip -r ../../MotIV_1.29.0.zip . & cd ../..
###
##############################################################################
##############################################################################
  adding: data/ (208 bytes security) (stored 0%)
  adding: data/FOXA1_rGADEM.rda (188 bytes security) (deflated 0%)
  adding: data/jaspar2010.rda (188 bytes security) (stored 0%)
  adding: data/jaspar2010_scores.rda (188 bytes security) (deflated 7%)
  adding: DESCRIPTION (188 bytes security) (deflated 37%)
  adding: doc/ (208 bytes security) (stored 0%)
  adding: doc/index.html (188 bytes security) (deflated 57%)
  adding: doc/MotIV.pdf (188 bytes security) (deflated 7%)
  adding: doc/MotIV.R (188 bytes security) (deflated 84%)
  adding: doc/MotIV.Rnw (188 bytes security) (deflated 64%)
  adding: extdata/ (208 bytes security) (stored 0%)
  adding: extdata/example_motifs.txt (188 bytes security) (deflated 74%)
  adding: extdata/jaspar2010.txt (188 bytes security) (deflated 60%)
  adding: extdata/jaspar2010_PCC_SWU.scores (188 bytes security) (deflated 70%)
  adding: extdata/observedPWMs.txt (188 bytes security) (deflated 70%)
  adding: help/ (208 bytes security) (stored 0%)
  adding: help/aliases.rds (188 bytes security) (stored 0%)
  adding: help/AnIndex (188 bytes security) (deflated 76%)
  adding: help/MotIV.rdb (188 bytes security) (deflated 1%)
  adding: help/MotIV.rdx (188 bytes security) (stored 0%)
  adding: help/paths.rds (188 bytes security) (stored 0%)
  adding: html/ (208 bytes security) (stored 0%)
  adding: html/00Index.html (188 bytes security) (deflated 82%)
  adding: html/R.css (188 bytes security) (deflated 75%)
  adding: INDEX (188 bytes security) (deflated 60%)
  adding: libs/ (208 bytes security) (stored 0%)
  adding: libs/i386/ (208 bytes security) (stored 0%)
  adding: libs/i386/MotIV.dll (188 bytes security) (deflated 65%)
  adding: libs/x64/ (208 bytes security) (stored 0%)
  adding: libs/x64/MotIV.dll (188 bytes security) (deflated 66%)
  adding: MD5 (188 bytes security) (deflated 43%)
  adding: Meta/ (208 bytes security) (stored 0%)
  adding: Meta/data.rds (188 bytes security) (stored 0%)
  adding: Meta/hsearch.rds (188 bytes security) (stored 0%)
  adding: Meta/links.rds (188 bytes security) (stored 0%)
  adding: Meta/nsInfo.rds (188 bytes security) (stored 0%)
  adding: Meta/package.rds (188 bytes security) (stored 0%)
  adding: Meta/Rd.rds (188 bytes security) (stored 0%)
  adding: Meta/vignette.rds (188 bytes security) (stored 0%)
  adding: NAMESPACE (188 bytes security) (deflated 55%)
  adding: R/ (208 bytes security) (stored 0%)
  adding: R/MotIV (188 bytes security) (deflated 41%)
  adding: R/MotIV.rdb (188 bytes security) (deflated 33%)
  adding: R/MotIV.rdx (188 bytes security) (deflated 1%)