All our mirrors of open source software are available via http, https, ftp and an onion service. More information about our mirrors including statistics and contact information is available on our mirror info pages.
For information about dotsrc.org and our other services please go to our website.
| File Name ↓ | File Size ↓ | Date ↓ | 
|---|---|---|
| Parent directory/ | - | - | 
| ABAEnrichment/ | - | 2017-04-15 20:26:48 | 
| ABSSeq/ | - | 2017-04-15 20:25:25 | 
| ABarray/ | - | 2017-04-15 20:22:19 | 
| ACME/ | - | 2017-04-15 20:22:29 | 
| ADaCGH2/ | - | 2017-04-15 20:23:24 | 
| AGDEX/ | - | 2017-04-15 20:23:49 | 
| AIMS/ | - | 2017-04-15 20:26:06 | 
| ALDEx2/ | - | 2017-04-15 20:25:54 | 
| AMOUNTAIN/ | - | 2017-04-15 20:27:54 | 
| ARRmNormalization/ | - | 2017-04-15 20:24:35 | 
| ASAFE/ | - | 2017-04-15 20:27:55 | 
| ASEB/ | - | 2017-04-15 20:23:57 | 
| ASGSCA/ | - | 2017-04-15 20:25:57 | 
| ASSET/ | - | 2017-04-15 20:24:55 | 
| ASSIGN/ | - | 2017-04-15 20:25:25 | 
| ASpli/ | - | 2017-04-15 20:27:57 | 
| AffyCompatible/ | - | 2017-04-15 20:22:43 | 
| AffyExpress/ | - | 2017-04-15 20:22:32 | 
| AffyRNADegradation/ | - | 2017-04-15 20:23:57 | 
| AffyTiling/ | - | 2016-05-02 17:52:02 | 
| AgiMicroRna/ | - | 2017-04-15 20:23:03 | 
| AllelicImbalance/ | - | 2017-04-15 20:25:00 | 
| AnalysisPageServer/ | - | 2017-04-15 20:26:09 | 
| Anaquin/ | - | 2017-04-15 20:28:01 | 
| AneuFinder/ | - | 2017-04-15 20:27:35 | 
| AnnotationDbi/ | - | 2017-04-15 20:22:24 | 
| AnnotationForge/ | - | 2017-04-15 20:24:10 | 
| AnnotationFuncs/ | - | 2017-04-15 20:23:33 | 
| AnnotationHub/ | - | 2017-04-15 20:24:39 | 
| AnnotationHubData/ | - | 2017-04-15 20:26:50 | 
| ArrayExpress/ | - | 2017-04-15 20:22:50 | 
| ArrayExpressHTS/ | - | 2017-04-15 20:23:37 | 
| ArrayTV/ | - | 2017-04-15 20:24:58 | 
| ArrayTools/ | - | 2017-04-15 20:22:49 | 
| AtlasRDF/ | - | 2017-04-15 20:25:10 | 
| BAC/ | - | 2017-04-15 20:22:38 | 
| BADER/ | - | 2017-04-15 20:24:57 | 
| BAGS/ | - | 2017-04-15 20:23:59 | 
| BBCAnalyzer/ | - | 2017-04-15 20:26:49 | 
| BCRANK/ | - | 2017-04-15 20:22:39 | 
| BEAT/ | - | 2017-04-15 20:25:10 | 
| BEclear/ | - | 2017-04-15 20:26:37 | 
| BGmix/ | - | 2017-04-15 20:22:36 | 
| BHC/ | - | 2017-04-15 20:23:17 | 
| BPRMeth/ | - | 2017-04-15 20:28:15 | 
| BRAIN/ | - | 2017-04-15 20:24:02 | 
| BSgenome/ | - | 2017-04-15 20:22:18 | 
| BUS/ | - | 2017-04-15 20:23:01 | 
| BaalChIP/ | - | 2017-04-15 20:28:04 | 
| BadRegionFinder/ | - | 2017-04-15 20:27:39 | 
| BaseSpaceR/ | - | 2017-04-15 20:24:38 | 
| Basic4Cseq/ | - | 2017-04-15 20:25:21 | 
| BasicSTARRseq/ | - | 2017-04-15 20:27:25 | 
| BatchQC/ | - | 2017-04-15 20:27:40 | 
| BayesKnockdown/ | - | 2017-04-15 20:27:58 | 
| BayesPeak/ | - | 2017-04-15 20:23:14 | 
| BeadDataPackR/ | - | 2017-04-15 20:23:12 | 
| BgeeDB/ | - | 2017-04-15 20:27:42 | 
| BiGGR/ | - | 2017-04-15 20:24:56 | 
| BiRewire/ | - | 2017-04-15 20:24:58 | 
| BiSeq/ | - | 2017-04-15 20:24:42 | 
| BicARE/ | - | 2017-04-15 20:22:52 | 
| BioMVCClass/ | - | 2017-04-15 20:22:20 | 
| BioNet/ | - | 2017-04-15 20:23:19 | 
| BioQC/ | - | 2017-04-15 20:27:04 | 
| BioSeqClass/ | - | 2017-04-15 20:23:06 | 
| Biobase/ | - | 2017-04-15 20:21:42 | 
| BiocCaseStudies/ | - | 2017-04-15 20:22:36 | 
| BiocCheck/ | - | 2017-04-15 20:25:26 | 
| BiocGenerics/ | - | 2017-04-15 20:23:56 | 
| BiocInstaller/ | - | 2017-04-15 20:23:37 | 
| BiocParallel/ | - | 2017-04-15 20:24:26 | 
| BiocStyle/ | - | 2017-04-15 20:24:49 | 
| BiocWorkflowTools/ | - | 2017-04-15 20:28:04 | 
| Biostrings/ | - | 2017-04-15 20:21:52 | 
| BitSeq/ | - | 2017-04-15 20:24:05 | 
| BrainStars/ | - | 2017-04-15 20:24:03 | 
| BridgeDbR/ | - | 2017-04-15 20:26:02 | 
| BrowserViz/ | - | 2017-04-15 20:26:18 | 
| BrowserVizDemo/ | - | 2017-04-15 20:12:54 | 
| BubbleTree/ | - | 2017-04-15 20:26:16 | 
| BufferedMatrix/ | - | 2017-04-15 20:22:25 | 
| BufferedMatrixMethods/ | - | 2017-04-15 20:22:26 | 
| CAFE/ | - | 2017-04-15 20:25:21 | 
| CAGEr/ | - | 2017-04-15 20:24:34 | 
| CALIB/ | - | 2017-04-15 20:22:28 | 
| CAMERA/ | - | 2017-04-15 20:22:55 | 
| CAnD/ | - | 2017-04-15 20:26:32 | 
| CCPROMISE/ | - | 2017-04-15 20:28:14 | 
| CFAssay/ | - | 2017-04-15 20:26:03 | 
| CGEN/ | - | 2017-04-15 20:23:19 | 
| CGHbase/ | - | 2017-04-15 20:22:44 | 
| CGHcall/ | - | 2017-04-15 20:22:32 | 
| CGHnormaliter/ | - | 2017-04-15 20:23:04 | 
| CGHregions/ | - | 2017-04-15 20:22:45 | 
| CHRONOS/ | - | 2017-04-15 20:27:45 | 
| CINdex/ | - | 2017-04-15 20:27:38 | 
| CMA/ | - | 2017-04-15 20:22:45 | 
| CNAnorm/ | - | 2017-04-15 20:23:50 | 
| CNEr/ | - | 2017-04-15 20:25:18 | 
| CNORdt/ | - | 2017-04-15 20:24:21 | 
| CNORfeeder/ | - | 2017-04-15 20:24:38 | 
| CNORfuzzy/ | - | 2017-04-15 20:24:17 | 
| CNORode/ | - | 2017-04-15 20:24:22 | 
| CNPBayes/ | - | 2017-04-15 20:27:01 | 
| CNTools/ | - | 2017-04-15 20:23:00 | 
| CNVPanelizer/ | - | 2017-04-15 20:26:41 | 
| CNVrd2/ | - | 2017-04-15 20:25:06 | 
| CNVtools/ | - | 2017-04-15 20:23:05 | 
| CODEX/ | - | 2017-04-15 20:26:10 | 
| COHCAP/ | - | 2017-04-15 20:25:09 | 
| COMPASS/ | - | 2017-04-15 20:25:18 | 
| CONFESS/ | - | 2017-04-15 20:27:39 | 
| CORREP/ | - | 2017-04-15 20:22:29 | 
| COSNet/ | - | 2017-04-15 20:26:04 | 
| CRISPRseek/ | - | 2017-04-15 20:25:07 | 
| CRImage/ | - | 2017-04-15 20:23:23 | 
| CSAR/ | - | 2017-04-15 20:23:07 | 
| CSSP/ | - | 2017-04-15 20:24:50 | 
| CVE/ | - | 2017-04-15 20:27:58 | 
| CancerInSilico/ | - | 2017-04-15 20:28:08 | 
| CancerMutationAnalysis/ | - | 2017-04-15 20:24:05 | 
| CancerSubtypes/ | - | 2017-04-15 20:28:00 | 
| Cardinal/ | - | 2017-04-15 20:26:14 | 
| Category/ | - | 2017-04-15 20:22:06 | 
| CausalR/ | - | 2017-04-15 20:26:38 | 
| CellMapper/ | - | 2017-04-15 20:27:59 | 
| CellNOptR/ | - | 2017-04-15 20:23:54 | 
| CexoR/ | - | 2017-04-15 20:25:00 | 
| ChAMP/ | - | 2017-04-15 20:25:05 | 
| ChIPComp/ | - | 2017-04-15 20:26:49 | 
| ChIPQC/ | - | 2017-04-15 20:25:25 | 
| ChIPXpress/ | - | 2017-04-15 20:24:16 | 
| ChIPpeakAnno/ | - | 2017-04-15 20:23:01 | 
| ChIPseeker/ | - | 2017-04-15 20:25:31 | 
| ChIPseqR/ | - | 2017-04-15 20:23:05 | 
| ChIPsim/ | - | 2017-04-15 20:23:02 | 
| ChemmineOB/ | - | 2017-04-15 20:24:55 | 
| ChemmineR/ | - | 2017-04-15 20:22:51 | 
| Chicago/ | - | 2017-04-15 20:27:03 | 
| ChromHeatMap/ | - | 2017-04-15 20:23:05 | 
| ClassifyR/ | - | 2017-04-15 20:25:43 | 
| Clomial/ | - | 2017-04-15 20:25:20 | 
| Clonality/ | - | 2017-04-15 20:23:28 | 
| ClusterSignificance/ | - | 2017-04-15 20:27:43 | 
| CoCiteStats/ | - | 2017-04-15 20:22:01 | 
| CoGAPS/ | - | 2017-04-15 20:23:19 | 
| CoRegNet/ | - | 2017-04-15 20:26:00 | 
| CompGO/ | - | 2017-04-15 20:25:25 | 
| ComplexHeatmap/ | - | 2017-04-15 20:26:25 | 
| ConsensusClusterPlus/ | - | 2017-04-15 20:23:08 | 
| CopyNumber450k/ | - | 2017-04-15 20:25:18 | 
| CopywriteR/ | - | 2017-04-15 20:26:28 | 
| CorMut/ | - | 2017-04-15 20:24:14 | 
| Cormotif/ | - | 2017-04-15 20:23:42 | 
| CountClust/ | - | 2017-04-15 20:27:35 | 
| CoverageView/ | - | 2017-04-15 20:25:27 | 
| CrispRVariants/ | - | 2017-04-15 20:27:20 | 
| CytoML/ | - | 2017-04-15 20:27:53 | 
| DAPAR/ | - | 2017-04-15 20:26:54 | 
| DART/ | - | 2017-04-15 20:23:59 | 
| DASiR/ | - | 2016-05-02 17:52:56 | 
| DAVIDQuery/ | - | 2016-05-02 17:52:10 | 
| DBChIP/ | - | 2017-04-15 20:24:12 | 
| DChIPRep/ | - | 2017-04-15 20:26:59 | 
| DECIPHER/ | - | 2017-04-15 20:23:50 | 
| DEDS/ | - | 2017-04-15 20:22:00 | 
| DEFormats/ | - | 2017-04-15 20:27:36 | 
| DEGraph/ | - | 2017-04-15 20:10:14 | 
| DEGreport/ | - | 2017-04-15 20:25:35 | 
| DEGseq/ | - | 2017-04-15 20:23:06 | 
| DESeq/ | - | 2017-04-15 20:23:08 | 
| DESeq2/ | - | 2017-04-15 20:24:34 | 
| DEXSeq/ | - | 2017-04-15 20:23:40 | 
| DEsubs/ | - | 2017-04-15 20:28:07 | 
| DFP/ | - | 2017-04-15 20:22:48 | 
| DMRcaller/ | - | 2017-04-15 20:26:26 | 
| DMRcate/ | - | 2017-04-15 20:25:19 | 
| DMRforPairs/ | - | 2017-04-15 20:25:28 | 
| DNABarcodes/ | - | 2017-04-15 20:26:53 | 
| DNAcopy/ | - | 2017-04-15 20:21:56 | 
| DNAshapeR/ | - | 2017-04-15 20:27:33 | 
| DOQTL/ | - | 2017-04-15 20:25:37 | 
| DOSE/ | - | 2017-04-15 20:23:39 | 
| DRIMSeq/ | - | 2017-04-15 20:27:34 | 
| DSS/ | - | 2017-04-15 20:24:10 | 
| DTA/ | - | 2017-04-15 20:23:49 | 
| DeMAND/ | - | 2017-04-15 20:26:43 | 
| DeconRNASeq/ | - | 2017-04-15 20:24:20 | 
| DeepBlueR/ | - | 2017-04-15 20:27:54 | 
| DiffBind/ | - | 2017-04-15 20:23:49 | 
| DiffLogo/ | - | 2017-04-15 20:26:52 | 
| Director/ | - | 2017-04-15 20:27:47 | 
| DirichletMultinomial/ | - | 2017-04-15 20:24:07 | 
| DriverNet/ | - | 2017-04-15 20:24:27 | 
| DrugVsDisease/ | - | 2017-04-15 20:24:32 | 
| DupChecker/ | - | 2017-04-15 20:25:33 | 
| DynDoc/ | - | 2017-04-15 20:21:42 | 
| EBImage/ | - | 2017-04-15 20:22:16 | 
| EBSEA/ | - | 2017-04-15 20:27:38 | 
| EBSeq/ | - | 2017-04-15 20:24:44 | 
| EBSeqHMM/ | - | 2017-04-15 20:26:04 | 
| EBarrays/ | - | 2017-04-15 20:21:54 | 
| EBcoexpress/ | - | 2017-04-15 20:24:06 | 
| EDASeq/ | - | 2017-04-15 20:23:49 | 
| EDDA/ | - | 2017-04-15 20:25:19 | 
| EGAD/ | - | 2017-04-15 20:27:46 | 
| EGSEA/ | - | 2017-04-15 20:27:45 | 
| ELBOW/ | - | 2017-04-15 20:25:15 | 
| ELMER/ | - | 2017-04-15 20:26:38 | 
| EMDomics/ | - | 2017-04-15 20:26:36 | 
| ENCODExplorer/ | - | 2017-04-15 20:26:32 | 
| ENVISIONQuery/ | - | 2017-04-15 20:23:33 | 
| ENmix/ | - | 2017-04-15 20:26:30 | 
| EWCE/ | - | 2017-04-15 20:27:25 | 
| EasyqpcR/ | - | 2017-04-15 20:24:17 | 
| EmpiricalBrownsMethod/ | - | 2017-04-15 20:27:23 | 
| EnrichedHeatmap/ | - | 2017-04-15 20:26:53 | 
| EnrichmentBrowser/ | - | 2017-04-15 20:25:51 | 
| ExiMiR/ | - | 2017-04-15 20:23:29 | 
| ExperimentHub/ | - | 2017-04-15 20:27:29 | 
| ExperimentHubData/ | - | 2017-04-15 20:27:29 | 
| ExpressionAtlas/ | - | 2017-04-15 20:27:27 | 
| ExpressionView/ | - | 2017-04-15 20:23:13 | 
| FEM/ | - | 2017-04-15 20:25:56 | 
| FGNet/ | - | 2017-04-15 20:25:04 | 
| FISHalyseR/ | - | 2017-04-15 20:26:26 | 
| FRGEpistasis/ | - | 2017-04-15 20:25:26 | 
| FamAgg/ | - | 2017-04-15 20:27:04 | 
| FindMyFriends/ | - | 2017-04-15 20:26:53 | 
| FitHiC/ | - | 2017-04-15 20:28:06 | 
| FlowRepositoryR/ | - | 2017-04-15 20:26:31 | 
| FlowSOM/ | - | 2017-04-15 20:26:08 | 
| FourCSeq/ | - | 2017-04-15 20:25:48 | 
| FunChIP/ | - | 2017-04-15 20:27:49 | 
| FunciSNP/ | - | 2017-04-15 20:24:09 | 
| GAprediction/ | - | 2017-04-15 20:28:00 | 
| GEM/ | - | 2017-04-15 20:27:49 | 
| GENE.E/ | - | 2017-04-15 20:24:41 | 
| GENESIS/ | - | 2017-04-15 20:26:22 | 
| GEOmetadb/ | - | 2017-04-15 20:22:42 | 
| GEOquery/ | - | 2017-04-15 20:22:12 | 
| GEOsearch/ | - | 2017-04-15 20:26:50 | 
| GEOsubmission/ | - | 2017-04-15 20:23:16 | 
| GEWIST/ | - | 2017-04-15 20:23:57 | 
| GGBase/ | - | 2017-04-15 20:22:43 | 
| GGtools/ | - | 2017-04-15 20:22:21 | 
| GLAD/ | - | 2017-04-15 20:21:59 | 
| GMRP/ | - | 2017-04-15 20:27:34 | 
| GOFunction/ | - | 2017-04-15 20:23:42 | 
| GOSemSim/ | - | 2017-04-15 20:22:53 | 
| GOSim/ | - | 2017-04-15 20:24:58 | 
| GOTHiC/ | - | 2017-04-15 20:25:07 | 
| GOexpress/ | - | 2017-04-15 20:25:51 | 
| GOpro/ | - | 2017-04-15 20:28:07 | 
| GOstats/ | - | 2017-04-15 20:21:56 | 
| GOsummaries/ | - | 2017-04-15 20:25:50 | 
| GRENITS/ | - | 2017-04-15 20:23:42 | 
| GRmetrics/ | - | 2017-04-15 20:28:00 | 
| GSALightning/ | - | 2017-04-15 20:27:21 | 
| GSAR/ | - | 2017-04-15 20:25:35 | 
| GSCA/ | - | 2017-04-15 20:25:18 | 
| GSEABase/ | - | 2017-04-15 20:22:31 | 
| GSEAlm/ | - | 2017-04-15 20:22:39 | 
| GSRI/ | - | 2017-04-15 20:23:16 | 
| GSReg/ | - | 2017-04-15 20:25:40 | 
| GSVA/ | - | 2017-04-15 20:23:37 | 
| GUIDEseq/ | - | 2017-04-15 20:26:59 | 
| GWASTools/ | - | 2017-04-15 20:23:51 | 
| GenRank/ | - | 2017-04-15 20:27:28 | 
| GenVisR/ | - | 2017-04-15 20:27:24 | 
| GeneAnswers/ | - | 2017-04-15 20:23:05 | 
| GeneBreak/ | - | 2017-04-15 20:26:59 | 
| GeneExpressionSignature/ | - | 2017-04-15 20:23:47 | 
| GeneGA/ | - | 2017-04-15 20:23:24 | 
| GeneGeneInteR/ | - | 2017-04-15 20:27:56 | 
| GeneMeta/ | - | 2017-04-15 20:22:06 | 
| GeneNetworkBuilder/ | - | 2017-04-15 20:11:03 | 
| GeneOverlap/ | - | 2017-04-15 20:25:09 | 
| GeneRegionScan/ | - | 2017-04-15 20:22:58 | 
| GeneSelectMMD/ | - | 2017-04-15 20:22:56 | 
| GeneSelector/ | - | 2017-04-15 20:22:41 | 
| GeneticsDesign/ | - | 2017-04-15 20:22:26 | 
| GeneticsPed/ | - | 2017-04-15 20:22:29 | 
| GenoGAM/ | - | 2017-04-15 20:27:37 | 
| GenoView/ | - | 2016-05-02 17:53:32 | 
| GenomeGraphs/ | - | 2017-04-15 20:22:42 | 
| GenomeInfoDb/ | - | 2017-04-15 20:25:16 | 
| GenomicAlignments/ | - | 2017-04-15 20:25:07 | 
| GenomicFeatures/ | - | 2017-04-15 20:23:04 | 
| GenomicFiles/ | - | 2017-04-15 20:25:30 | 
| GenomicInteractions/ | - | 2017-04-15 20:25:53 | 
| GenomicRanges/ | - | 2017-04-15 20:23:12 | 
| GenomicTuples/ | - | 2017-04-15 20:25:58 | 
| Genominator/ | - | 2017-04-15 20:23:07 | 
| Glimma/ | - | 2017-04-15 20:27:40 | 
| GlobalAncova/ | - | 2017-04-15 20:22:10 | 
| GoogleGenomics/ | - | 2017-04-15 20:26:28 | 
| GraphAT/ | - | 2017-04-15 20:21:57 | 
| GraphAlignment/ | - | 2017-04-15 20:22:38 | 
| GraphPAC/ | - | 2017-04-15 20:24:28 | 
| GreyListChIP/ | - | 2017-04-15 20:26:14 | 
| Guitar/ | - | 2017-04-15 20:26:54 | 
| Gviz/ | - | 2017-04-15 20:24:00 | 
| HCsnip/ | - | 2017-04-15 20:24:36 | 
| HDF5Array/ | - | 2017-04-15 20:27:30 | 
| HDTD/ | - | 2017-04-15 20:25:32 | 
| HELP/ | - | 2017-04-15 20:22:45 | 
| HEM/ | - | 2017-04-15 20:21:56 | 
| HIBAG/ | - | 2017-04-15 20:26:15 | 
| HMMcopy/ | - | 2017-04-15 20:24:22 | 
| HTSFilter/ | - | 2017-04-15 20:24:32 | 
| HTSanalyzeR/ | - | 2017-04-15 20:23:19 | 
| HTSeqGenie/ | - | 2017-04-15 20:11:07 | 
| HTqPCR/ | - | 2017-04-15 20:23:05 | 
| Harman/ | - | 2017-04-15 20:27:44 | 
| Harshlight/ | - | 2017-04-15 20:22:19 | 
| Heatplus/ | - | 2017-04-15 20:22:16 | 
| HelloRanges/ | - | 2017-04-15 20:28:11 | 
| HiTC/ | - | 2017-04-15 20:24:06 | 
| HilbertCurve/ | - | 2017-04-15 20:26:46 | 
| HilbertVis/ | - | 2017-04-15 20:22:52 | 
| HilbertVisGUI/ | - | 2017-04-15 20:15:47 | 
| HybridMTest/ | - | 2017-04-15 20:24:03 | 
| IHW/ | - | 2017-04-15 20:27:24 | 
| IMPCdata/ | - | 2017-04-15 20:26:01 | 
| INPower/ | - | 2017-04-15 20:25:21 | 
| INSPEcT/ | - | 2017-04-15 20:26:42 | 
| IONiseR/ | - | 2017-04-15 20:26:41 | 
| IPO/ | - | 2017-04-15 20:27:59 | 
| IPPD/ | - | 2017-04-15 20:23:26 | 
| IRanges/ | - | 2017-04-15 20:21:52 | 
| ISoLDE/ | - | 2017-04-15 20:27:34 | 
| ITALICS/ | - | 2017-04-15 20:22:47 | 
| IVAS/ | - | 2017-04-15 20:26:14 | 
| Icens/ | - | 2017-04-15 20:21:53 | 
| IdMappingAnalysis/ | - | 2017-04-15 20:24:02 | 
| IdMappingRetrieval/ | - | 2017-04-15 20:23:42 | 
| IdeoViz/ | - | 2017-04-15 20:25:56 | 
| Imetagene/ | - | 2017-04-15 20:26:55 | 
| ImmuneSpaceR/ | - | 2017-04-15 20:27:46 | 
| ImpulseDE/ | - | 2017-04-15 20:27:56 | 
| InPAS/ | - | 2017-04-15 20:26:22 | 
| InteractionSet/ | - | 2017-04-15 20:27:43 | 
| IsoGeneGUI/ | - | 2017-04-15 20:23:18 | 
| JunctionSeq/ | - | 2017-04-15 20:27:22 | 
| KCsmart/ | - | 2017-04-15 20:22:51 | 
| KEGGREST/ | - | 2017-04-15 20:24:31 | 
| KEGGgraph/ | - | 2017-04-15 20:22:53 | 
| KEGGlincs/ | - | 2017-04-15 20:28:08 | 
| KEGGprofile/ | - | 2017-04-15 20:24:11 | 
| LBE/ | - | 2017-04-15 20:22:27 | 
| LEA/ | - | 2017-04-15 20:26:20 | 
| LINC/ | - | 2017-04-15 20:28:03 | 
| LMGene/ | - | 2017-04-15 20:22:08 | 
| LOBSTAHS/ | - | 2017-04-15 20:27:54 | 
| LOLA/ | - | 2017-04-15 20:26:51 | 
| LPE/ | - | 2017-04-15 20:21:51 | 
| LPEadj/ | - | 2017-04-15 20:22:44 | 
| LVSmiRNA/ | - | 2017-04-15 20:23:23 | 
| LedPred/ | - | 2017-04-15 20:26:45 | 
| Linnorm/ | - | 2017-04-15 20:27:39 | 
| LiquidAssociation/ | - | 2017-04-15 20:23:06 | 
| LowMACA/ | - | 2017-04-15 20:26:24 | 
| LymphoSeq/ | - | 2017-04-15 20:27:42 | 
| M3D/ | - | 2017-04-15 20:25:44 | 
| M3Drop/ | - | 2017-04-15 20:28:12 | 
| MADSEQ/ | - | 2017-04-15 20:27:49 | 
| MAIT/ | - | 2017-04-15 20:25:58 | 
| MANOR/ | - | 2017-04-15 20:22:11 | 
| MAST/ | - | 2017-04-15 20:28:09 | 
| MBASED/ | - | 2017-04-15 20:25:46 | 
| MBAmethyl/ | - | 2017-04-15 20:26:03 | 
| MBCB/ | - | 2017-04-15 20:23:18 | 
| MBttest/ | - | 2017-04-15 20:27:29 | 
| MCRestimate/ | - | 2017-04-15 20:22:53 | 
| MEAL/ | - | 2017-04-15 20:26:56 | 
| MEDIPS/ | - | 2017-04-15 20:23:25 | 
| MEDME/ | - | 2017-04-15 20:22:49 | 
| MEIGOR/ | - | 2017-04-15 20:25:40 | 
| MGFM/ | - | 2017-04-15 20:25:52 | 
| MGFR/ | - | 2017-04-15 20:27:53 | 
| MIMOSA/ | - | 2017-04-15 20:25:17 | 
| MLInterfaces/ | - | 2017-04-15 20:21:58 | 
| MLP/ | - | 2017-04-15 20:23:25 | 
| MLSeq/ | - | 2017-04-15 20:25:22 | 
| MMDiff/ | - | 2016-05-02 17:52:56 | 
| MMDiff2/ | - | 2017-04-15 20:27:46 | 
| MODA/ | - | 2017-04-15 20:27:57 | 
| MPFE/ | - | 2017-04-15 20:25:44 | 
| MSGFgui/ | - | 2017-04-15 20:25:56 | 
| MSGFplus/ | - | 2017-04-15 20:25:54 | 
| MSnID/ | - | 2017-04-15 20:25:52 | 
| MSnbase/ | - | 2017-04-15 20:23:32 | 
| MSstats/ | - | 2017-04-15 20:25:02 | 
| MVCClass/ | - | 2017-04-15 20:22:00 | 
| MantelCorr/ | - | 2017-04-15 20:22:11 | 
| MassArray/ | - | 2017-04-15 20:23:10 | 
| MassSpecWavelet/ | - | 2017-04-15 20:22:29 | 
| MatrixRider/ | - | 2017-04-15 20:26:20 | 
| MeSHDbi/ | - | 2017-04-15 20:25:30 | 
| MeSHSim/ | - | 2017-04-15 20:26:12 | 
| MeasurementError.cor/ | - | 2017-04-15 20:21:49 | 
| MergeMaid/ | - | 2017-04-15 20:21:57 | 
| Mergeomics/ | - | 2017-04-15 20:27:26 | 
| MetCirc/ | - | 2017-04-15 20:27:51 | 
| Metab/ | - | 2017-04-15 20:26:06 | 
| MetaboSignal/ | - | 2017-04-15 20:28:03 | 
| MethPed/ | - | 2017-04-15 20:27:30 | 
| MethTargetedNGS/ | - | 2017-04-15 20:26:30 | 
| MethylAid/ | - | 2017-04-15 20:25:33 | 
| MethylMix/ | - | 2017-04-15 20:25:47 | 
| MethylSeekR/ | - | 2017-04-15 20:24:32 | 
| Mfuzz/ | - | 2017-04-15 20:22:15 | 
| MiChip/ | - | 2017-04-15 20:23:03 | 
| MiPP/ | - | 2017-04-15 20:22:05 | 
| MiRaGE/ | - | 2017-04-15 20:24:08 | 
| MineICA/ | - | 2017-04-15 20:24:33 | 
| MinimumDistance/ | - | 2017-04-15 20:24:07 | 
| Mirsynergy/ | - | 2017-04-15 20:25:17 | 
| MmPalateMiRNA/ | - | 2017-04-15 20:23:53 | 
| MoPS/ | - | 2017-04-15 20:25:33 | 
| MoonlightR/ | - | 2017-04-15 20:28:10 | 
| MotIV/ | - | 2017-04-15 20:23:12 | 
| MotifDb/ | - | 2017-04-15 20:24:17 | 
| Mulcom/ | - | 2017-04-15 20:23:21 | 
| MultiAssayExperiment/ | - | 2017-04-15 20:27:37 | 
| MultiDataSet/ | - | 2017-04-15 20:27:44 | 
| MultiMed/ | - | 2017-04-15 20:25:40 | 
| MutationalPatterns/ | - | 2017-04-15 20:28:11 | 
| NCIgraph/ | - | 2017-04-15 20:10:24 | 
| NGScopy/ | - | 2017-04-15 20:25:49 | 
| NOISeq/ | - | 2017-04-15 20:24:23 | 
| NTW/ | - | 2017-04-15 20:23:18 | 
| NanoStringDiff/ | - | 2017-04-15 20:26:47 | 
| NanoStringQCPro/ | - | 2017-04-15 20:26:28 | 
| NarrowPeaks/ | - | 2017-04-15 20:24:01 | 
| NetCRG/ | - | 2016-10-02 19:27:51 | 
| NetPathMiner/ | - | 2017-04-15 20:25:31 | 
| NetSAM/ | - | 2017-04-15 20:24:47 | 
| NormqPCR/ | - | 2017-04-15 20:23:44 | 
| NuPoP/ | - | 2017-04-15 20:23:20 | 
| OCplus/ | - | 2017-04-15 20:22:16 | 
| OGSA/ | - | 2017-04-15 20:26:45 | 
| OLIN/ | - | 2017-04-15 20:21:57 | 
| OLINgui/ | - | 2017-04-15 20:22:00 | 
| OSAT/ | - | 2017-04-15 20:24:10 | 
| OTUbase/ | - | 2017-04-15 20:23:22 | 
| OmicCircos/ | - | 2017-04-15 20:24:49 | 
| OmicsMarkeR/ | - | 2017-04-15 20:26:27 | 
| OncoScore/ | - | 2017-04-15 20:27:35 | 
| OncoSimulR/ | - | 2017-04-15 20:25:41 | 
| OperaMate/ | - | 2017-04-15 20:26:38 | 
| OrderedList/ | - | 2017-04-15 20:22:17 | 
| OrganismDbi/ | - | 2017-04-15 20:24:19 | 
| Oscope/ | - | 2017-04-15 20:26:47 | 
| OutlierD/ | - | 2017-04-15 20:22:33 | 
| PAA/ | - | 2017-04-15 20:25:57 | 
| PADOG/ | - | 2017-04-15 20:24:16 | 
| PANR/ | - | 2017-04-15 20:23:48 | 
| PAPi/ | - | 2017-04-15 20:24:41 | 
| PAnnBuilder/ | - | 2017-04-15 20:22:56 | 
| PCAN/ | - | 2017-04-15 20:27:32 | 
| PCpheno/ | - | 2017-04-15 20:22:37 | 
| PECA/ | - | 2017-04-15 20:25:07 | 
| PGA/ | - | 2017-04-15 20:26:40 | 
| PGSEA/ | - | 2017-04-15 20:22:28 | 
| PICS/ | - | 2017-04-15 20:23:15 | 
| PING/ | - | 2017-04-15 20:24:02 | 
| PLPE/ | - | 2017-04-15 20:22:49 | 
| PREDA/ | - | 2017-04-15 20:23:45 | 
| PROMISE/ | - | 2017-04-15 20:23:16 | 
| PROPER/ | - | 2017-04-15 20:26:08 | 
| PROcess/ | - | 2017-04-15 20:21:54 | 
| PSEA/ | - | 2017-04-15 20:25:53 | 
| PSICQUIC/ | - | 2017-04-15 20:25:06 | 
| PWMEnrich/ | - | 2017-04-15 20:24:10 | 
| PanVizGenerator/ | - | 2017-04-15 20:27:23 | 
| Path2PPI/ | - | 2017-04-15 20:26:49 | 
| PathNet/ | - | 2017-04-15 20:24:31 | 
| PathoStat/ | - | 2017-04-15 20:28:09 | 
| Pbase/ | - | 2017-04-15 20:25:36 | 
| PharmacoGx/ | - | 2017-04-15 20:28:01 | 
| PhenStat/ | - | 2017-04-15 20:25:08 | 
| Pi/ | - | 2017-04-15 20:28:06 | 
| Pigengene/ | - | 2017-04-15 20:27:48 | 
| Polyfit/ | - | 2017-04-15 20:25:38 | 
| Prize/ | - | 2017-04-15 20:26:42 | 
| ProCoNA/ | - | 2017-04-15 20:24:59 | 
| Prostar/ | - | 2017-04-15 20:26:57 | 
| ProtGenerics/ | - | 2017-04-15 20:26:16 | 
| ProteomicsAnnotationHubData/ | - | 2017-04-15 20:26:52 | 
| PureCN/ | - | 2017-04-15 20:27:44 | 
| Pviz/ | - | 2017-04-15 20:25:39 | 
| QDNAseq/ | - | 2017-04-15 20:25:23 | 
| QUALIFIER/ | - | 2017-04-15 20:24:01 | 
| QUBIC/ | - | 2017-04-15 20:27:38 | 
| QuartPAC/ | - | 2017-04-15 20:26:07 | 
| QuasR/ | - | 2017-04-15 20:24:30 | 
| QuaternaryProd/ | - | 2017-04-15 20:27:21 | 
| R3CPET/ | - | 2017-04-15 20:26:31 | 
| R453Plus1Toolbox/ | - | 2017-04-15 20:23:24 | 
| R4RNA/ | - | 2017-04-15 20:27:02 | 
| RBGL/ | - | 2017-04-15 20:21:50 | 
| RBM/ | - | 2017-04-15 20:26:25 | 
| RBioinf/ | - | 2017-04-15 20:22:42 | 
| RCAS/ | - | 2017-04-15 20:27:56 | 
| RCASPAR/ | - | 2017-04-15 20:23:39 | 
| RCy3/ | - | 2017-04-15 20:27:00 | 
| RCyjs/ | - | 2017-04-15 20:26:29 | 
| RCytoscape/ | - | 2017-04-15 20:10:10 | 
| RDAVIDWebService/ | - | 2017-04-15 20:24:48 | 
| RDRToolbox/ | - | 2017-04-15 20:23:20 | 
| REDseq/ | - | 2017-04-15 20:23:38 | 
| RGSEA/ | - | 2017-04-15 20:25:36 | 
| RGalaxy/ | - | 2017-04-15 20:24:11 | 
| RGraph2js/ | - | 2017-04-15 20:27:24 | 
| RIPSeeker/ | - | 2017-04-15 20:24:25 | 
| RImmPort/ | - | 2017-04-15 20:27:28 | 
| RLMM/ | - | 2017-04-15 20:22:11 | 
| RMassBank/ | - | 2017-04-15 20:24:16 | 
| RNASeqPower/ | - | 2017-04-15 20:24:37 | 
| RNAinteract/ | - | 2017-04-15 20:23:31 | 
| RNAither/ | - | 2017-04-15 20:22:50 | 
| RNAprobR/ | - | 2017-04-15 20:26:21 | 
| ROC/ | - | 2017-04-15 20:21:44 | 
| ROTS/ | - | 2017-04-15 20:27:25 | 
| ROntoTools/ | - | 2017-04-15 20:24:39 | 
| RPA/ | - | 2017-04-15 20:23:01 | 
| RRHO/ | - | 2017-04-15 20:24:52 | 
| RSVSim/ | - | 2017-04-15 20:24:29 | 
| RTCA/ | - | 2017-04-15 20:23:04 | 
| RTCGA/ | - | 2017-04-15 20:26:52 | 
| RTCGAToolbox/ | - | 2017-04-15 20:26:37 | 
| RTN/ | - | 2017-04-15 20:24:53 | 
| RTopper/ | - | 2017-04-15 20:23:48 | 
| RUVSeq/ | - | 2017-04-15 20:25:35 | 
| RUVcorr/ | - | 2017-04-15 20:26:27 | 
| RUVnormalize/ | - | 2017-04-15 20:25:45 | 
| RWebServices/ | - | 2016-05-02 17:48:50 | 
| RamiGO/ | - | 2017-04-15 20:10:30 | 
| RankProd/ | - | 2017-04-15 20:22:04 | 
| RareVariantVis/ | - | 2017-04-15 20:26:39 | 
| Rariant/ | - | 2017-04-15 20:25:26 | 
| RbcBook1/ | - | 2017-04-15 20:22:22 | 
| Rbowtie/ | - | 2017-04-15 20:24:30 | 
| Rcade/ | - | 2017-04-15 20:24:22 | 
| Rchemcpp/ | - | 2017-04-15 20:24:52 | 
| RchyOptimyx/ | - | 2017-04-15 20:24:05 | 
| Rcpi/ | - | 2017-04-15 20:25:23 | 
| Rdisop/ | - | 2017-04-15 20:22:35 | 
| ReQON/ | - | 2017-04-15 20:23:54 | 
| ReactomePA/ | - | 2017-04-15 20:24:03 | 
| ReadqPCR/ | - | 2017-04-15 20:23:41 | 
| RedeR/ | - | 2017-04-15 20:23:43 | 
| RefNet/ | - | 2017-04-15 20:25:29 | 
| RefPlus/ | - | 2017-04-15 20:22:24 | 
| Repitools/ | - | 2017-04-15 20:23:41 | 
| ReportingTools/ | - | 2017-04-15 20:24:21 | 
| Rgraphviz/ | - | 2017-04-15 20:21:47 | 
| Rhtslib/ | - | 2017-04-15 20:26:18 | 
| RiboProfiling/ | - | 2017-04-15 20:26:59 | 
| Ringo/ | - | 2017-04-15 20:22:28 | 
| Risa/ | - | 2017-04-15 20:24:19 | 
| Rmagpie/ | - | 2017-04-15 20:22:59 | 
| RmiR/ | - | 2017-04-15 20:23:00 | 
| RnBeads/ | - | 2017-04-15 20:26:33 | 
| RnaSeqSampleSize/ | - | 2017-04-15 20:26:11 | 
| Rnits/ | - | 2017-04-15 20:25:47 | 
| Roleswitch/ | - | 2017-04-15 20:24:57 | 
| Rolexa/ | - | 2016-05-02 17:52:12 | 
| RpsiXML/ | - | 2017-04-15 20:22:48 | 
| Rqc/ | - | 2017-04-15 20:26:03 | 
| Rsamtools/ | - | 2017-04-15 20:23:13 | 
| Rsubread/ | - | 2017-04-15 20:23:34 | 
| Rtreemix/ | - | 2017-04-15 20:22:36 | 
| S4Vectors/ | - | 2017-04-15 20:25:31 | 
| SAGx/ | - | 2017-04-15 20:22:22 | 
| SANTA/ | - | 2017-04-15 20:24:35 | 
| SBMLR/ | - | 2017-04-15 20:22:01 | 
| SC3/ | - | 2017-04-15 20:27:22 | 
| SCAN.UPC/ | - | 2017-04-15 20:24:21 | 
| SELEX/ | - | 2017-04-15 20:26:16 | 
| SEPA/ | - | 2017-04-15 20:26:39 | 
| SGSeq/ | - | 2017-04-15 20:26:00 | 
| SICtools/ | - | 2017-04-15 20:26:57 | 
| SIM/ | - | 2017-04-15 20:22:45 | 
| SIMAT/ | - | 2017-04-15 20:26:21 | 
| SIMLR/ | - | 2017-04-15 20:28:06 | 
| SISPA/ | - | 2017-04-15 20:26:58 | 
| SJava/ | - | 2016-05-02 17:49:05 | 
| SLGI/ | - | 2017-04-15 20:22:37 | 
| SLqPCR/ | - | 2017-04-15 20:22:27 | 
| SMAP/ | - | 2017-04-15 20:22:32 | 
| SMITE/ | - | 2017-04-15 20:27:26 | 
| SNAGEE/ | - | 2017-04-15 20:24:25 | 
| SNPRelate/ | - | 2017-04-15 20:25:48 | 
| SNPchip/ | - | 2017-04-15 20:22:16 | 
| SNPediaR/ | - | 2017-04-15 20:27:57 | 
| SNPhood/ | - | 2017-04-15 20:27:00 | 
| SPEM/ | - | 2017-04-15 20:24:38 | 
| SPIA/ | - | 2017-04-15 20:22:55 | 
| SPLINTER/ | - | 2017-04-15 20:28:07 | 
| SQUADD/ | - | 2017-04-15 20:23:21 | 
| SRAdb/ | - | 2017-04-15 20:23:15 | 
| SRGnet/ | - | 2017-04-15 20:27:49 | 
| SSPA/ | - | 2017-04-15 20:22:58 | 
| STAN/ | - | 2017-04-15 20:25:42 | 
| STATegRa/ | - | 2017-04-15 20:26:00 | 
| STRINGdb/ | - | 2017-04-15 20:25:00 | 
| SVAPLSseq/ | - | 2017-04-15 20:28:00 | 
| SVM2CRM/ | - | 2017-04-15 20:26:27 | 
| SWATH2stats/ | - | 2017-04-15 20:26:58 | 
| SamSPECTRAL/ | - | 2017-04-15 20:23:11 | 
| ScISI/ | - | 2017-04-15 20:22:14 | 
| SemDist/ | - | 2017-04-15 20:25:45 | 
| SeqArray/ | - | 2017-04-15 20:24:38 | 
| SeqGSEA/ | - | 2017-04-15 20:24:40 | 
| SeqVarTools/ | - | 2017-04-15 20:24:53 | 
| ShortRead/ | - | 2017-04-15 20:22:44 | 
| SigCheck/ | - | 2017-04-15 20:25:59 | 
| SigFuge/ | - | 2017-04-15 20:24:50 | 
| SimBindProfiles/ | - | 2017-04-15 20:24:59 | 
| SomatiCA/ | - | 2016-05-02 17:52:52 | 
| SomaticSignatures/ | - | 2017-04-15 20:25:17 | 
| SpacePAC/ | - | 2017-04-15 20:24:54 | 
| SpeCond/ | - | 2017-04-15 20:23:06 | 
| SpidermiR/ | - | 2017-04-15 20:27:33 | 
| SplicingGraphs/ | - | 2017-04-15 20:24:42 | 
| StarBioTrek/ | - | 2017-04-15 20:28:12 | 
| Starr/ | - | 2017-04-15 20:23:02 | 
| Streamer/ | - | 2017-04-15 20:23:44 | 
| SummarizedExperiment/ | - | 2017-04-15 20:26:37 | 
| Sushi/ | - | 2017-04-15 20:25:28 | 
| SwathXtend/ | - | 2017-04-15 20:27:33 | 
| SwimR/ | - | 2017-04-15 20:24:55 | 
| TCC/ | - | 2017-04-15 20:24:56 | 
| TCGAbiolinks/ | - | 2017-04-15 20:26:48 | 
| TDARACNE/ | - | 2017-04-15 20:23:29 | 
| TEQC/ | - | 2017-04-15 20:23:27 | 
| TFBSTools/ | - | 2017-04-15 20:25:04 | 
| TIN/ | - | 2017-04-15 20:26:22 | 
| TPP/ | - | 2017-04-15 20:26:29 | 
| TRONCO/ | - | 2017-04-15 20:26:11 | 
| TSCAN/ | - | 2017-04-15 20:25:49 | 
| TSSi/ | - | 2017-04-15 20:23:45 | 
| TVTB/ | - | 2017-04-15 20:28:12 | 
| TarSeqQC/ | - | 2017-04-15 20:26:54 | 
| TargetScore/ | - | 2017-04-15 20:24:50 | 
| TargetSearch/ | - | 2017-04-15 20:22:59 | 
| TitanCNA/ | - | 2017-04-15 20:25:29 | 
| ToPASeq/ | - | 2017-04-15 20:12:33 | 
| TransView/ | - | 2017-04-15 20:24:23 | 
| TurboNorm/ | - | 2017-04-15 20:23:27 | 
| TypeInfo/ | - | 2017-04-15 20:22:18 | 
| UNDO/ | - | 2017-04-15 20:25:24 | 
| UniProt.ws/ | - | 2017-04-15 20:24:26 | 
| Uniquorn/ | - | 2017-04-15 20:27:31 | 
| VanillaICE/ | - | 2017-04-15 20:22:33 | 
| VariantAnnotation/ | - | 2017-04-15 20:23:45 | 
| VariantFiltering/ | - | 2017-04-15 20:25:27 | 
| VariantTools/ | - | 2017-04-15 20:11:09 | 
| Vega/ | - | 2017-04-15 20:23:27 | 
| VegaMC/ | - | 2017-04-15 20:24:04 | 
| XBSeq/ | - | 2017-04-15 20:26:42 | 
| XDE/ | - | 2017-04-15 20:22:38 | 
| XVector/ | - | 2017-04-15 20:24:43 | 
| YAPSA/ | - | 2017-04-15 20:28:02 | 
| a4/ | - | 2017-04-15 20:23:36 | 
| a4Base/ | - | 2017-04-15 20:23:36 | 
| a4Classif/ | - | 2017-04-15 20:23:36 | 
| a4Core/ | - | 2017-04-15 20:23:36 | 
| a4Preproc/ | - | 2017-04-15 20:23:36 | 
| a4Reporting/ | - | 2017-04-15 20:23:36 | 
| aCGH/ | - | 2017-04-15 20:21:56 | 
| acde/ | - | 2017-04-15 20:26:38 | 
| adSplit/ | - | 2017-04-15 20:22:15 | 
| affxparser/ | - | 2017-04-15 20:22:10 | 
| affy/ | - | 2017-04-15 20:21:45 | 
| affyContam/ | - | 2017-04-15 20:22:52 | 
| affyILM/ | - | 2017-04-15 20:23:17 | 
| affyPLM/ | - | 2017-04-15 20:21:49 | 
| affyPara/ | - | 2017-04-15 20:22:39 | 
| affyQCReport/ | - | 2017-04-15 20:22:08 | 
| affycomp/ | - | 2017-04-15 20:21:47 | 
| affycoretools/ | - | 2017-04-15 20:22:11 | 
| affyio/ | - | 2017-04-15 20:21:44 | 
| affylmGUI/ | - | 2017-04-15 20:21:54 | 
| affypdnn/ | - | 2017-04-15 20:21:51 | 
| agilp/ | - | 2017-04-15 20:24:21 | 
| alpine/ | - | 2017-04-15 20:28:01 | 
| alsace/ | - | 2017-04-15 20:25:20 | 
| altcdfenvs/ | - | 2017-04-15 20:21:54 | 
| ampliQueso/ | - | 2017-04-15 20:25:00 | 
| anamiR/ | - | 2017-04-15 20:28:10 | 
| annaffy/ | - | 2017-04-15 20:21:48 | 
| annmap/ | - | 2017-04-15 20:24:09 | 
| annotate/ | - | 2017-04-15 20:21:42 | 
| annotationTools/ | - | 2017-04-15 20:22:27 | 
| annotatr/ | - | 2017-04-15 20:28:11 | 
| anota/ | - | 2017-04-15 20:23:36 | 
| antiProfiles/ | - | 2017-04-15 20:24:41 | 
| apComplex/ | - | 2017-04-15 20:22:02 | 
| aroma.light/ | - | 2017-04-15 20:22:19 | 
| arrayMvout/ | - | 2017-04-15 20:22:52 | 
| arrayQuality/ | - | 2017-04-15 20:21:54 | 
| arrayQualityMetrics/ | - | 2017-04-15 20:22:32 | 
| attract/ | - | 2017-04-15 20:23:17 | 
| bacon/ | - | 2017-04-15 20:27:32 | 
| ballgown/ | - | 2017-04-15 20:25:42 | 
| bamsignals/ | - | 2017-04-15 20:26:22 | 
| baySeq/ | - | 2017-04-15 20:23:04 | 
| beadarray/ | - | 2017-04-15 20:22:14 | 
| beadarraySNP/ | - | 2017-04-15 20:22:21 | 
| betr/ | - | 2017-04-15 20:22:56 | 
| bgafun/ | - | 2017-04-15 20:22:33 | 
| bgx/ | - | 2017-04-15 20:22:30 | 
| bigmelon/ | - | 2017-04-15 20:28:05 | 
| bigmemoryExtras/ | - | 2017-04-15 20:24:21 | 
| bioCancer/ | - | 2017-04-15 20:27:48 | 
| bioDist/ | - | 2017-04-15 20:22:01 | 
| bioassayR/ | - | 2017-04-15 20:25:00 | 
| biobroom/ | - | 2017-04-15 20:27:01 | 
| biocGraph/ | - | 2017-04-15 20:22:31 | 
| biocViews/ | - | 2017-04-15 20:22:10 | 
| biomaRt/ | - | 2017-04-15 20:22:02 | 
| biomformat/ | - | 2017-04-15 20:27:04 | 
| biomvRCNS/ | - | 2017-04-15 20:24:34 | 
| biosigner/ | - | 2017-04-15 20:27:30 | 
| biosvd/ | - | 2017-04-15 20:25:15 | 
| biovizBase/ | - | 2017-04-15 20:23:49 | 
| birta/ | - | 2017-04-15 20:24:03 | 
| birte/ | - | 2017-04-15 20:26:15 | 
| blima/ | - | 2017-04-15 20:25:32 | 
| bridge/ | - | 2017-04-15 20:22:06 | 
| bsseq/ | - | 2017-04-15 20:24:12 | 
| bumphunter/ | - | 2017-04-15 20:24:27 | 
| caOmicsV/ | - | 2017-04-15 20:26:39 | 
| canceR/ | - | 2017-04-15 20:26:19 | 
| cancerclass/ | - | 2017-04-15 20:24:07 | 
| casper/ | - | 2017-04-15 20:24:31 | 
| categoryCompare/ | - | 2017-04-15 20:10:53 | 
| ccmap/ | - | 2017-04-15 20:27:52 | 
| ccrepe/ | - | 2017-04-15 20:25:08 | 
| cellGrowth/ | - | 2017-04-15 20:24:04 | 
| cellHTS/ | - | 2016-05-02 17:51:38 | 
| cellHTS2/ | - | 2017-04-15 20:22:31 | 
| cellTree/ | - | 2017-04-15 20:27:22 | 
| cellity/ | - | 2017-04-15 20:27:28 | 
| cghMCR/ | - | 2017-04-15 20:22:17 | 
| charm/ | - | 2017-04-15 20:23:10 | 
| chimera/ | - | 2017-04-15 20:24:34 | 
| chipenrich/ | - | 2017-04-15 20:24:56 | 
| chipseq/ | - | 2017-04-15 20:23:00 | 
| chopsticks/ | - | 2017-04-15 20:23:30 | 
| chroGPS/ | - | 2017-04-15 20:24:24 | 
| chromDraw/ | - | 2017-04-15 20:26:10 | 
| chromPlot/ | - | 2017-04-15 20:27:28 | 
| chromstaR/ | - | 2017-04-15 20:27:51 | 
| cisPath/ | - | 2017-04-15 20:24:34 | 
| cleanUpdTSeq/ | - | 2017-04-15 20:24:49 | 
| cleaver/ | - | 2017-04-15 20:24:46 | 
| clippda/ | - | 2017-04-15 20:23:03 | 
| clipper/ | - | 2017-04-15 20:24:31 | 
| clonotypeR/ | - | 2017-04-15 20:24:43 | 
| clst/ | - | 2017-04-15 20:23:31 | 
| clstutils/ | - | 2017-04-15 20:23:31 | 
| clustComp/ | - | 2017-04-15 20:27:27 | 
| clusterExperiment/ | - | 2017-04-15 20:27:53 | 
| clusterProfiler/ | - | 2017-04-15 20:23:32 | 
| clusterStab/ | - | 2017-04-15 20:22:07 | 
| cn.farms/ | - | 2017-04-15 20:23:33 | 
| cn.mops/ | - | 2017-04-15 20:23:55 | 
| cnvGSA/ | - | 2017-04-15 20:24:06 | 
| coGPS/ | - | 2017-04-15 20:24:03 | 
| coMET/ | - | 2017-04-15 20:26:10 | 
| coRNAi/ | - | 2017-04-15 20:23:17 | 
| cobindR/ | - | 2017-04-15 20:24:51 | 
| codelink/ | - | 2017-04-15 20:22:13 | 
| cogena/ | - | 2017-04-15 20:26:28 | 
| compEpiTools/ | - | 2017-04-15 20:25:46 | 
| compcodeR/ | - | 2017-04-15 20:25:29 | 
| consensusSeekeR/ | - | 2017-04-15 20:27:03 | 
| contiBAIT/ | - | 2017-04-15 20:27:26 | 
| conumee/ | - | 2017-04-15 20:26:29 | 
| convert/ | - | 2017-04-15 20:21:55 | 
| copa/ | - | 2017-04-15 20:22:15 | 
| copynumber/ | - | 2017-04-15 20:24:40 | 
| cosmiq/ | - | 2017-04-15 20:25:34 | 
| covEB/ | - | 2017-04-15 20:27:50 | 
| covRNA/ | - | 2017-04-15 20:27:47 | 
| cpvSNP/ | - | 2017-04-15 20:26:07 | 
| cqn/ | - | 2017-04-15 20:23:40 | 
| crisprseekplus/ | - | 2017-04-15 20:28:11 | 
| crlmm/ | - | 2017-04-15 20:22:57 | 
| crossmeta/ | - | 2017-04-15 20:27:51 | 
| csaw/ | - | 2017-04-15 20:25:59 | 
| ctc/ | - | 2017-04-15 20:21:43 | 
| ctsGE/ | - | 2017-04-15 20:27:57 | 
| cummeRbund/ | - | 2017-04-15 20:23:50 | 
| customProDB/ | - | 2017-04-15 20:24:46 | 
| cycle/ | - | 2017-04-15 20:23:04 | 
| cytofkit/ | - | 2017-04-15 20:26:13 | 
| dSimer/ | - | 2017-04-15 20:27:47 | 
| daMA/ | - | 2017-04-15 20:21:49 | 
| dada2/ | - | 2017-04-15 20:27:29 | 
| dagLogo/ | - | 2017-04-15 20:25:01 | 
| dcGSA/ | - | 2017-04-15 20:27:04 | 
| ddCt/ | - | 2017-04-15 20:23:01 | 
| ddgraph/ | - | 2017-04-15 20:24:07 | 
| debrowser/ | - | 2017-04-15 20:27:34 | 
| deepSNV/ | - | 2017-04-15 20:24:00 | 
| deltaGseg/ | - | 2017-04-15 20:24:36 | 
| derfinder/ | - | 2017-04-15 20:25:55 | 
| derfinderHelper/ | - | 2017-04-15 20:25:55 | 
| derfinderPlot/ | - | 2017-04-15 20:25:55 | 
| destiny/ | - | 2017-04-15 20:26:46 | 
| dexus/ | - | 2017-04-15 20:24:36 | 
| diffGeneAnalysis/ | - | 2017-04-15 20:22:08 | 
| diffHic/ | - | 2017-04-15 20:26:32 | 
| diffloop/ | - | 2017-04-15 20:27:45 | 
| diggit/ | - | 2017-04-15 20:26:19 | 
| dks/ | - | 2017-04-15 20:23:49 | 
| domainsignatures/ | - | 2017-04-15 20:22:48 | 
| doppelgangR/ | - | 2017-04-15 20:27:32 | 
| dualKS/ | - | 2017-04-15 20:25:20 | 
| dupRadar/ | - | 2017-04-15 20:26:53 | 
| dyebias/ | - | 2017-04-15 20:22:57 | 
| easyRNASeq/ | - | 2017-04-15 20:23:57 | 
| ecolitk/ | - | 2017-04-15 20:21:51 | 
| edge/ | - | 2017-04-15 20:26:36 | 
| edgeR/ | - | 2017-04-15 20:22:49 | 
| eegc/ | - | 2017-04-15 20:28:01 | 
| eiR/ | - | 2017-04-15 20:24:39 | 
| eisa/ | - | 2017-04-15 20:23:07 | 
| ensemblVEP/ | - | 2017-04-15 20:24:28 | 
| ensembldb/ | - | 2017-04-15 20:26:23 | 
| epigenomix/ | - | 2017-04-15 20:24:36 | 
| epivizr/ | - | 2017-04-15 20:25:01 | 
| epivizrData/ | - | 2017-04-15 20:27:45 | 
| epivizrServer/ | - | 2017-04-15 20:27:44 | 
| epivizrStandalone/ | - | 2017-04-15 20:27:46 | 
| erccdashboard/ | - | 2017-04-15 20:25:46 | 
| erma/ | - | 2017-04-15 20:26:40 | 
| esetVis/ | - | 2017-04-15 20:27:51 | 
| eudysbiome/ | - | 2017-04-15 20:26:47 | 
| exomeCopy/ | - | 2017-04-15 20:23:54 | 
| exomePeak/ | - | 2017-04-15 20:25:01 | 
| explorase/ | - | 2017-04-15 20:15:25 | 
| fCCAC/ | - | 2017-04-15 20:28:14 | 
| fCI/ | - | 2017-04-15 20:26:41 | 
| fabia/ | - | 2017-04-15 20:23:17 | 
| facopy/ | - | 2017-04-15 20:26:01 | 
| factDesign/ | - | 2017-04-15 20:21:49 | 
| farms/ | - | 2017-04-15 20:23:21 | 
| fastLiquidAssociation/ | - | 2017-04-15 20:25:31 | 
| fastseg/ | - | 2017-04-15 20:23:55 | 
| fdrame/ | - | 2017-04-15 20:22:08 | 
| ffpe/ | - | 2017-04-15 20:24:02 | 
| fgsea/ | - | 2017-04-15 20:27:53 | 
| flagme/ | - | 2017-04-15 20:22:52 | 
| flipflop/ | - | 2017-04-15 20:25:05 | 
| flowAI/ | - | 2017-04-15 20:27:23 | 
| flowBeads/ | - | 2017-04-15 20:24:45 | 
| flowBin/ | - | 2017-04-15 20:25:09 | 
| flowCHIC/ | - | 2017-04-15 20:25:58 | 
| flowCL/ | - | 2017-04-15 20:25:26 | 
| flowClean/ | - | 2017-04-15 20:25:34 | 
| flowClust/ | - | 2017-04-15 20:22:41 | 
| flowCore/ | - | 2017-04-15 20:22:23 | 
| flowCyBar/ | - | 2017-04-15 20:25:26 | 
| flowDensity/ | - | 2017-04-15 20:25:37 | 
| flowFP/ | - | 2017-04-15 20:23:01 | 
| flowFit/ | - | 2017-04-15 20:24:44 | 
| flowMap/ | - | 2017-04-15 20:25:01 | 
| flowMatch/ | - | 2017-04-15 20:25:08 | 
| flowMeans/ | - | 2017-04-15 20:23:15 | 
| flowMerge/ | - | 2017-04-15 20:23:00 | 
| flowPeaks/ | - | 2017-04-15 20:24:09 | 
| flowPloidy/ | - | 2017-04-15 20:28:09 | 
| flowPlots/ | - | 2017-04-15 20:23:33 | 
| flowQ/ | - | 2017-04-15 20:22:23 | 
| flowQB/ | - | 2017-04-15 20:24:09 | 
| flowStats/ | - | 2017-04-15 20:22:58 | 
| flowTrans/ | - | 2017-04-15 20:23:16 | 
| flowType/ | - | 2017-04-15 20:23:41 | 
| flowUtils/ | - | 2017-04-15 20:22:23 | 
| flowVS/ | - | 2017-04-15 20:26:32 | 
| flowViz/ | - | 2017-04-15 20:22:24 | 
| flowWorkspace/ | - | 2017-04-15 20:23:38 | 
| flowcatchR/ | - | 2017-04-15 20:25:57 | 
| fmcsR/ | - | 2017-04-15 20:24:18 | 
| focalCall/ | - | 2017-04-15 20:25:58 | 
| frma/ | - | 2017-04-15 20:23:08 | 
| frmaTools/ | - | 2017-04-15 20:23:08 | 
| gCMAP/ | - | 2017-04-15 20:24:20 | 
| gCMAPWeb/ | - | 2017-04-15 20:24:35 | 
| gCrisprTools/ | - | 2017-04-15 20:28:03 | 
| gQTLBase/ | - | 2017-04-15 20:26:08 | 
| gQTLstats/ | - | 2017-04-15 20:26:08 | 
| gaga/ | - | 2017-04-15 20:22:37 | 
| gage/ | - | 2017-04-15 20:23:23 | 
| gaggle/ | - | 2017-04-15 20:22:18 | 
| gaia/ | - | 2017-04-15 20:23:26 | 
| garfield/ | - | 2017-04-15 20:27:28 | 
| gaucho/ | - | 2017-04-15 20:25:29 | 
| gcatest/ | - | 2017-04-15 20:26:55 | 
| gcrma/ | - | 2017-04-15 20:21:48 | 
| gdsfmt/ | - | 2017-04-15 20:26:11 | 
| geNetClassifier/ | - | 2017-04-15 20:24:40 | 
| geecc/ | - | 2017-04-15 20:25:50 | 
| genArise/ | - | 2017-04-15 20:21:58 | 
| genbankr/ | - | 2017-04-15 20:27:42 | 
| geneAttribution/ | - | 2017-04-15 20:28:02 | 
| geneRecommender/ | - | 2017-04-15 20:22:05 | 
| geneRxCluster/ | - | 2017-04-15 20:25:09 | 
| geneXtendeR/ | - | 2017-04-15 20:28:08 | 
| genefilter/ | - | 2017-04-15 20:21:43 | 
| genefu/ | - | 2017-04-15 20:23:34 | 
| geneplast/ | - | 2017-04-15 20:27:50 | 
| geneplotter/ | - | 2017-04-15 20:21:43 | 
| genoCN/ | - | 2017-04-15 20:23:12 | 
| genomation/ | - | 2017-04-15 20:26:06 | 
| genomeIntervals/ | - | 2017-04-15 20:22:56 | 
| genomes/ | - | 2017-04-15 20:23:17 | 
| genoset/ | - | 2017-04-15 20:23:35 | 
| genotypeeval/ | - | 2017-04-15 20:26:44 | 
| genphen/ | - | 2017-04-15 20:27:36 | 
| gespeR/ | - | 2017-04-15 20:26:10 | 
| ggbio/ | - | 2017-04-15 20:23:53 | 
| ggcyto/ | - | 2017-04-15 20:27:22 | 
| ggtree/ | - | 2017-04-15 20:26:13 | 
| girafe/ | - | 2017-04-15 20:23:13 | 
| globalSeq/ | - | 2017-04-15 20:27:02 | 
| globaltest/ | - | 2017-04-15 20:21:57 | 
| gmapR/ | - | 2017-04-15 20:24:13 | 
| goProfiles/ | - | 2017-04-15 20:22:43 | 
| goTools/ | - | 2017-04-15 20:21:54 | 
| goseq/ | - | 2017-04-15 20:23:14 | 
| gpls/ | - | 2017-04-15 20:21:49 | 
| gprege/ | - | 2017-04-15 20:24:04 | 
| graph/ | - | 2017-04-15 20:21:45 | 
| graphite/ | - | 2017-04-15 20:23:47 | 
| groHMM/ | - | 2017-04-15 20:26:01 | 
| gtrellis/ | - | 2017-04-15 20:26:23 | 
| gwascat/ | - | 2017-04-15 20:24:01 | 
| h5vc/ | - | 2017-04-15 20:25:06 | 
| hapFabia/ | - | 2017-04-15 20:24:19 | 
| hiAnnotator/ | - | 2017-04-15 20:25:32 | 
| hiReadsProcessor/ | - | 2017-04-15 20:25:46 | 
| hierGWAS/ | - | 2017-04-15 20:26:39 | 
| hopach/ | - | 2017-04-15 20:21:59 | 
| hpar/ | - | 2017-04-15 20:24:19 | 
| htSeqTools/ | - | 2017-04-15 20:23:43 | 
| hyperdraw/ | - | 2017-04-15 20:23:08 | 
| hypergraph/ | - | 2017-04-15 20:22:06 | 
| iASeq/ | - | 2017-04-15 20:24:06 | 
| iBBiG/ | - | 2017-04-15 20:24:05 | 
| iBMQ/ | - | 2017-04-15 20:24:28 | 
| iCARE/ | - | 2017-04-15 20:27:23 | 
| iCOBRA/ | - | 2017-04-15 20:27:03 | 
| iCheck/ | - | 2017-04-15 20:26:55 | 
| iChip/ | - | 2017-04-15 20:23:09 | 
| iClusterPlus/ | - | 2017-04-15 20:25:13 | 
| iGC/ | - | 2017-04-15 20:26:51 | 
| iPAC/ | - | 2017-04-15 20:24:15 | 
| iSeq/ | - | 2017-04-15 20:23:22 | 
| ibh/ | - | 2017-04-15 20:23:32 | 
| idiogram/ | - | 2017-04-15 20:22:05 | 
| illuminaio/ | - | 2017-04-15 20:24:25 | 
| imageHTS/ | - | 2017-04-15 20:23:20 | 
| immunoClust/ | - | 2017-04-15 20:26:20 | 
| impute/ | - | 2017-04-15 20:21:53 | 
| inSilicoDb/ | - | 2016-05-02 17:52:30 | 
| inSilicoMerging/ | - | 2016-05-02 17:52:41 | 
| intansv/ | - | 2017-04-15 20:24:51 | 
| interactiveDisplay/ | - | 2017-04-15 20:25:05 | 
| interactiveDisplayBase/ | - | 2017-04-15 20:25:42 | 
| inveRsion/ | - | 2017-04-15 20:23:32 | 
| iontree/ | - | 2017-04-15 20:23:46 | 
| isobar/ | - | 2017-04-15 20:23:53 | 
| isomiRs/ | - | 2017-04-15 20:27:38 | 
| iterativeBMA/ | - | 2017-04-15 20:22:47 | 
| iterativeBMAsurv/ | - | 2017-04-15 20:22:47 | 
| jmosaics/ | - | 2016-05-02 17:52:54 | 
| joda/ | - | 2017-04-15 20:23:30 | 
| kebabs/ | - | 2017-04-15 20:26:02 | 
| keggorthology/ | - | 2017-04-15 20:22:31 | 
| kimod/ | - | 2017-04-15 20:27:20 | 
| lapmix/ | - | 2017-04-15 20:22:20 | 
| ldblock/ | - | 2017-04-15 20:26:50 | 
| les/ | - | 2017-04-15 20:23:21 | 
| lfa/ | - | 2017-04-15 20:26:55 | 
| limma/ | - | 2017-04-15 20:21:47 | 
| limmaGUI/ | - | 2017-04-15 20:21:55 | 
| lmdme/ | - | 2017-04-15 20:24:18 | 
| logicFS/ | - | 2017-04-15 20:22:18 | 
| logitT/ | - | 2017-04-15 20:22:48 | 
| lol/ | - | 2017-04-15 20:23:36 | 
| lpNet/ | - | 2017-04-15 20:24:33 | 
| lpsymphony/ | - | 2017-04-15 20:27:15 | 
| lumi/ | - | 2017-04-15 20:22:25 | 
| mAPKL/ | - | 2017-04-15 20:26:12 | 
| mBPCR/ | - | 2017-04-15 20:23:02 | 
| mQTL.NMR/ | - | 2017-04-15 20:25:40 | 
| maCorrPlot/ | - | 2017-04-15 20:22:17 | 
| maPredictDSC/ | - | 2017-04-15 20:24:48 | 
| maSigPro/ | - | 2017-04-15 20:22:10 | 
| maanova/ | - | 2017-04-15 20:22:09 | 
| macat/ | - | 2017-04-15 20:22:01 | 
| made4/ | - | 2017-04-15 20:22:02 | 
| maftools/ | - | 2017-04-15 20:27:55 | 
| maigesPack/ | - | 2017-04-15 20:22:34 | 
| makecdfenv/ | - | 2017-04-15 20:21:46 | 
| manta/ | - | 2017-04-15 20:23:59 | 
| marray/ | - | 2017-04-15 20:21:55 | 
| maskBAD/ | - | 2017-04-15 20:23:57 | 
| massiR/ | - | 2017-04-15 20:25:21 | 
| matchBox/ | - | 2017-04-15 20:24:24 | 
| matter/ | - | 2017-04-15 20:28:10 | 
| mcaGUI/ | - | 2017-04-15 20:23:34 | 
| mdgsa/ | - | 2017-04-15 20:26:09 | 
| mdqc/ | - | 2017-04-15 20:22:39 | 
| meshes/ | - | 2017-04-15 20:28:11 | 
| meshr/ | - | 2017-04-15 20:25:30 | 
| messina/ | - | 2017-04-15 20:25:24 | 
| metaArray/ | - | 2017-04-15 20:22:13 | 
| metaCCA/ | - | 2017-04-15 20:27:26 | 
| metaMS/ | - | 2017-04-15 20:25:27 | 
| metaSeq/ | - | 2017-04-15 20:25:05 | 
| metaX/ | - | 2016-05-02 17:54:02 | 
| metabomxtr/ | - | 2017-04-15 20:25:43 | 
| metagene/ | - | 2017-04-15 20:25:43 | 
| metagenomeFeatures/ | - | 2017-04-15 20:26:56 | 
| metagenomeSeq/ | - | 2017-04-15 20:24:40 | 
| metahdep/ | - | 2017-04-15 20:22:55 | 
| metaseqR/ | - | 2017-04-15 20:25:22 | 
| methVisual/ | - | 2017-04-15 20:23:10 | 
| methyAnalysis/ | - | 2017-04-15 20:24:18 | 
| methylKit/ | - | 2017-04-15 20:27:54 | 
| methylMnM/ | - | 2017-04-15 20:25:02 | 
| methylPipe/ | - | 2017-04-15 20:25:47 | 
| methylumi/ | - | 2017-04-15 20:22:59 | 
| mgsa/ | - | 2017-04-15 20:23:28 | 
| miRLAB/ | - | 2017-04-15 20:26:44 | 
| miRNAmeConverter/ | - | 2017-04-15 20:27:31 | 
| miRNApath/ | - | 2017-04-15 20:22:46 | 
| miRNAtap/ | - | 2017-04-15 20:25:44 | 
| miRcomp/ | - | 2017-04-15 20:27:01 | 
| microRNA/ | - | 2017-04-15 20:22:50 | 
| minet/ | - | 2017-04-15 20:22:47 | 
| minfi/ | - | 2017-04-15 20:23:51 | 
| mirIntegrator/ | - | 2017-04-15 20:26:40 | 
| missMethyl/ | - | 2017-04-15 20:25:41 | 
| mitoODE/ | - | 2017-04-15 20:24:47 | 
| mmnet/ | - | 2017-04-15 20:11:48 | 
| mogsa/ | - | 2017-04-15 20:26:26 | 
| monocle/ | - | 2017-04-15 20:25:32 | 
| mosaics/ | - | 2017-04-15 20:23:30 | 
| motifRG/ | - | 2017-04-15 20:24:07 | 
| motifStack/ | - | 2017-04-15 20:24:20 | 
| motifbreakR/ | - | 2017-04-15 20:26:51 | 
| msPurity/ | - | 2017-04-15 20:27:47 | 
| msa/ | - | 2017-04-15 20:26:34 | 
| msmsEDA/ | - | 2017-04-15 20:24:51 | 
| msmsTests/ | - | 2017-04-15 20:24:52 | 
| multiClust/ | - | 2017-04-15 20:27:03 | 
| multiscan/ | - | 2017-04-15 20:22:46 | 
| multtest/ | - | 2017-04-15 20:21:43 | 
| muscle/ | - | 2017-04-15 20:26:19 | 
| mvGST/ | - | 2017-04-15 20:26:00 | 
| mygene/ | - | 2017-04-15 20:26:05 | 
| myvariant/ | - | 2017-04-15 20:26:49 | 
| mzID/ | - | 2017-04-15 20:24:57 | 
| mzR/ | - | 2017-04-15 20:23:47 | 
| ncdfFlow/ | - | 2017-04-15 20:23:55 | 
| neaGUI/ | - | 2016-05-02 17:53:11 | 
| nem/ | - | 2017-04-15 20:22:22 | 
| netbenchmark/ | - | 2017-04-15 20:26:21 | 
| netbiov/ | - | 2017-04-15 20:25:41 | 
| nethet/ | - | 2017-04-15 20:26:07 | 
| netprioR/ | - | 2017-04-15 20:27:48 | 
| netresponse/ | - | 2017-04-15 20:23:22 | 
| networkBMA/ | - | 2017-04-15 20:24:15 | 
| nnNorm/ | - | 2017-04-15 20:21:58 | 
| nondetects/ | - | 2017-04-15 20:25:25 | 
| normalize450K/ | - | 2017-04-15 20:27:04 | 
| normr/ | - | 2017-04-15 20:27:52 | 
| npGSEA/ | - | 2017-04-15 20:25:28 | 
| nucleR/ | - | 2017-04-15 20:23:44 | 
| nucleoSim/ | - | 2017-04-15 20:27:31 | 
| nudge/ | - | 2017-04-15 20:22:17 | 
| occugene/ | - | 2017-04-15 20:22:25 | 
| odseq/ | - | 2017-04-15 20:27:39 | 
| oligo/ | - | 2017-04-15 20:22:07 | 
| oligoClasses/ | - | 2017-04-15 20:22:33 | 
| omicade4/ | - | 2017-04-15 20:24:58 | 
| oneChannelGUI/ | - | 2017-04-15 20:22:29 | 
| ontoCAT/ | - | 2017-04-15 20:23:23 | 
| openCyto/ | - | 2017-04-15 20:25:02 | 
| oposSOM/ | - | 2017-04-15 20:25:38 | 
| oppar/ | - | 2017-04-15 20:27:41 | 
| pRoloc/ | - | 2017-04-15 20:24:27 | 
| pRolocGUI/ | - | 2017-04-15 20:25:39 | 
| paircompviz/ | - | 2017-04-15 20:24:47 | 
| pandaR/ | - | 2017-04-15 20:26:31 | 
| panp/ | - | 2017-04-15 20:22:12 | 
| parglms/ | - | 2017-04-15 20:26:12 | 
| parody/ | - | 2017-04-15 20:22:51 | 
| pathRender/ | - | 2017-04-15 20:22:12 | 
| pathVar/ | - | 2017-04-15 20:26:56 | 
| pathifier/ | - | 2017-04-15 20:24:47 | 
| pathview/ | - | 2017-04-15 20:24:37 | 
| paxtoolsr/ | - | 2017-04-15 20:25:57 | 
| pbcmc/ | - | 2017-04-15 20:27:43 | 
| pcaExplorer/ | - | 2017-04-15 20:27:41 | 
| pcaGoPromoter/ | - | 2017-04-15 20:23:59 | 
| pcaMethods/ | - | 2017-04-15 20:22:22 | 
| pcot2/ | - | 2017-04-15 20:22:20 | 
| pdInfoBuilder/ | - | 2017-04-15 20:22:25 | 
| pdmclass/ | - | 2017-04-15 20:22:07 | 
| pepStat/ | - | 2017-04-15 20:25:38 | 
| pepXMLTab/ | - | 2017-04-15 20:26:05 | 
| phenoDist/ | - | 2017-04-15 20:23:25 | 
| phenoTest/ | - | 2017-04-15 20:23:29 | 
| philr/ | - | 2017-04-15 20:28:02 | 
| phyloseq/ | - | 2017-04-15 20:23:59 | 
| piano/ | - | 2017-04-15 20:24:41 | 
| pickgene/ | - | 2017-04-15 20:21:52 | 
| pint/ | - | 2017-04-15 20:23:10 | 
| pkgDepTools/ | - | 2017-04-15 20:22:21 | 
| plateCore/ | - | 2017-04-15 20:23:03 | 
| plethy/ | - | 2017-04-15 20:24:44 | 
| plgem/ | - | 2017-04-15 20:22:04 | 
| plier/ | - | 2017-04-15 20:22:02 | 
| plrs/ | - | 2017-04-15 20:24:26 | 
| plw/ | - | 2017-04-15 20:22:36 | 
| pmm/ | - | 2017-04-15 20:26:25 | 
| podkat/ | - | 2017-04-15 20:26:24 | 
| polyester/ | - | 2017-04-15 20:25:54 | 
| ppiStats/ | - | 2017-04-15 20:22:23 | 
| pqsfinder/ | - | 2017-04-15 20:27:41 | 
| prada/ | - | 2017-04-15 20:21:55 | 
| prebs/ | - | 2017-04-15 20:24:42 | 
| predictionet/ | - | 2017-04-15 20:23:51 | 
| preprocessCore/ | - | 2017-04-15 20:21:45 | 
| proBAMr/ | - | 2017-04-15 20:25:57 | 
| proFIA/ | - | 2017-04-15 20:28:14 | 
| procoil/ | - | 2017-04-15 20:23:31 | 
| profileScoreDist/ | - | 2017-04-15 20:27:05 | 
| prot2D/ | - | 2017-04-15 20:24:45 | 
| proteinProfiles/ | - | 2017-04-15 20:24:35 | 
| proteoQC/ | - | 2017-04-15 20:25:34 | 
| psichomics/ | - | 2017-04-15 20:28:10 | 
| psygenet2r/ | - | 2017-04-15 20:27:32 | 
| puma/ | - | 2017-04-15 20:22:30 | 
| pvac/ | - | 2017-04-15 20:23:30 | 
| pvca/ | - | 2017-04-15 20:24:26 | 
| pwOmics/ | - | 2017-04-15 20:26:36 | 
| qcmetrics/ | - | 2017-04-15 20:25:02 | 
| qpcrNorm/ | - | 2017-04-15 20:22:57 | 
| qpgraph/ | - | 2017-04-15 20:22:54 | 
| qrqc/ | - | 2017-04-15 20:23:35 | 
| qsea/ | - | 2017-04-15 20:27:52 | 
| quantro/ | - | 2017-04-15 20:25:45 | 
| quantsmooth/ | - | 2017-04-15 20:22:19 | 
| qusage/ | - | 2017-04-15 20:24:56 | 
| qvalue/ | - | 2017-04-15 20:21:53 | 
| r3Cseq/ | - | 2017-04-15 20:23:53 | 
| rBiopaxParser/ | - | 2017-04-15 20:24:33 | 
| rCGH/ | - | 2017-04-15 20:26:43 | 
| rDGIdb/ | - | 2017-04-15 20:27:55 | 
| rGADEM/ | - | 2017-04-15 20:23:09 | 
| rGREAT/ | - | 2017-04-15 20:26:15 | 
| rHVDM/ | - | 2017-04-15 20:22:28 | 
| rMAT/ | - | 2017-04-15 20:22:58 | 
| rRDP/ | - | 2017-04-15 20:25:53 | 
| rSFFreader/ | - | 2017-04-15 20:24:24 | 
| rTANDEM/ | - | 2017-04-15 20:24:29 | 
| rTRM/ | - | 2017-04-15 20:24:48 | 
| rTRMui/ | - | 2017-04-15 20:24:59 | 
| rain/ | - | 2017-04-15 20:25:49 | 
| rama/ | - | 2017-04-15 20:21:53 | 
| randPack/ | - | 2017-04-15 20:23:40 | 
| rbsurv/ | - | 2017-04-15 20:22:30 | 
| rcellminer/ | - | 2017-04-15 20:26:23 | 
| readat/ | - | 2017-04-15 20:28:04 | 
| reb/ | - | 2017-04-15 20:22:09 | 
| recount/ | - | 2017-04-15 20:27:58 | 
| recoup/ | - | 2017-04-15 20:27:35 | 
| regionReport/ | - | 2017-04-15 20:25:55 | 
| regioneR/ | - | 2017-04-15 20:26:26 | 
| regsplice/ | - | 2017-04-15 20:28:13 | 
| rfPred/ | - | 2017-04-15 20:24:53 | 
| rgsepd/ | - | 2017-04-15 20:26:09 | 
| rhdf5/ | - | 2017-04-15 20:23:58 | 
| riboSeqR/ | - | 2017-04-15 20:25:37 | 
| rnaSeqMap/ | - | 2017-04-15 20:23:24 | 
| rnaseqcomp/ | - | 2017-04-15 20:26:43 | 
| roar/ | - | 2017-04-15 20:25:09 | 
| rols/ | - | 2017-04-15 20:24:08 | 
| ropls/ | - | 2017-04-15 20:26:44 | 
| rpx/ | - | 2017-04-15 20:25:22 | 
| rqubic/ | - | 2017-04-15 20:23:46 | 
| rsbml/ | - | 2017-04-15 20:22:34 | 
| rtracklayer/ | - | 2017-04-15 20:22:43 | 
| sRAP/ | - | 2017-04-15 20:25:04 | 
| sSeq/ | - | 2017-04-15 20:24:43 | 
| safe/ | - | 2017-04-15 20:22:03 | 
| sagenhaft/ | - | 2017-04-15 20:22:01 | 
| sangerseqR/ | - | 2017-04-15 20:25:19 | 
| sapFinder/ | - | 2017-04-15 20:25:23 | 
| saps/ | - | 2017-04-15 20:26:06 | 
| savR/ | - | 2017-04-15 20:25:16 | 
| scater/ | - | 2017-04-15 20:27:27 | 
| scde/ | - | 2017-04-15 20:27:02 | 
| scran/ | - | 2017-04-15 20:27:40 | 
| scsR/ | - | 2017-04-15 20:25:20 | 
| segmentSeq/ | - | 2017-04-15 20:23:11 | 
| seq2pathway/ | - | 2017-04-15 20:26:13 | 
| seqCNA/ | - | 2017-04-15 20:24:49 | 
| seqLogo/ | - | 2017-04-15 20:22:26 | 
| seqPattern/ | - | 2017-04-15 20:26:12 | 
| seqTools/ | - | 2017-04-15 20:26:05 | 
| seqbias/ | - | 2017-04-15 20:23:28 | 
| seqplots/ | - | 2017-04-15 20:25:50 | 
| sevenbridges/ | - | 2017-04-15 20:26:50 | 
| shinyMethyl/ | - | 2017-04-15 20:25:39 | 
| shinyTANDEM/ | - | 2017-04-15 20:25:03 | 
| sigPathway/ | - | 2017-04-15 20:22:19 | 
| sigaR/ | - | 2017-04-15 20:23:56 | 
| siggenes/ | - | 2017-04-15 20:21:48 | 
| sights/ | - | 2017-04-15 20:27:50 | 
| signeR/ | - | 2017-04-15 20:28:03 | 
| sigsquared/ | - | 2017-04-15 20:26:17 | 
| similaRpeak/ | - | 2017-04-15 20:26:36 | 
| simpleaffy/ | - | 2017-04-15 20:21:51 | 
| simulatorZ/ | - | 2017-04-15 20:25:52 | 
| sincell/ | - | 2017-04-15 20:26:15 | 
| sizepower/ | - | 2017-04-15 20:22:15 | 
| skewr/ | - | 2017-04-15 20:26:17 | 
| snapCGH/ | - | 2017-04-15 20:22:13 | 
| snm/ | - | 2017-04-15 20:23:26 | 
| snpStats/ | - | 2017-04-15 20:22:39 | 
| soGGi/ | - | 2017-04-15 20:26:30 | 
| spade/ | - | 2016-05-02 17:52:36 | 
| specL/ | - | 2017-04-15 20:26:04 | 
| spikeLI/ | - | 2017-04-15 20:22:20 | 
| spkTools/ | - | 2017-04-15 20:22:54 | 
| spliceR/ | - | 2017-04-15 20:24:46 | 
| spliceSites/ | - | 2017-04-15 20:25:03 | 
| splicegear/ | - | 2017-04-15 20:21:48 | 
| splineTimeR/ | - | 2017-04-15 20:27:20 | 
| splots/ | - | 2017-04-15 20:22:21 | 
| spotSegmentation/ | - | 2017-04-15 20:22:03 | 
| sscore/ | - | 2017-04-15 20:22:14 | 
| sscu/ | - | 2017-04-15 20:27:37 | 
| ssize/ | - | 2017-04-15 20:22:06 | 
| ssviz/ | - | 2017-04-15 20:25:36 | 
| staRank/ | - | 2017-04-15 20:24:08 | 
| statTarget/ | - | 2017-04-15 20:28:08 | 
| stepNorm/ | - | 2017-04-15 20:22:00 | 
| stepwiseCM/ | - | 2017-04-15 20:23:52 | 
| subSeq/ | - | 2017-04-15 20:27:01 | 
| supraHex/ | - | 2017-04-15 20:24:55 | 
| survcomp/ | - | 2017-04-15 20:23:35 | 
| sva/ | - | 2017-04-15 20:23:52 | 
| switchBox/ | - | 2017-04-15 20:25:48 | 
| switchde/ | - | 2017-04-15 20:27:59 | 
| synapter/ | - | 2017-04-15 20:24:11 | 
| synergyfinder/ | - | 2017-04-15 20:28:05 | 
| synlet/ | - | 2017-04-15 20:26:48 | 
| systemPipeR/ | - | 2017-04-15 20:25:51 | 
| tRanslatome/ | - | 2017-04-15 20:24:45 | 
| ternarynet/ | - | 2017-04-15 20:24:00 | 
| tigre/ | - | 2017-04-15 20:23:14 | 
| tilingArray/ | - | 2017-04-15 20:22:03 | 
| timecourse/ | - | 2017-04-15 20:22:09 | 
| tkWidgets/ | - | 2017-04-15 20:21:44 | 
| tofsims/ | - | 2017-04-15 20:27:21 | 
| topGO/ | - | 2017-04-15 20:22:27 | 
| trackViewer/ | - | 2017-04-15 20:25:16 | 
| tracktables/ | - | 2017-04-15 20:26:02 | 
| transcriptR/ | - | 2017-04-15 20:27:05 | 
| traseR/ | - | 2017-04-15 20:26:45 | 
| triform/ | - | 2017-04-15 20:24:16 | 
| trigger/ | - | 2017-04-15 20:23:56 | 
| trio/ | - | 2017-04-15 20:24:54 | 
| triplex/ | - | 2017-04-15 20:24:42 | 
| tspair/ | - | 2017-04-15 20:22:54 | 
| tweeDEseq/ | - | 2017-04-15 20:23:55 | 
| twilight/ | - | 2017-04-15 20:21:59 | 
| tximport/ | - | 2017-04-15 20:27:25 | 
| uSORT/ | - | 2017-04-15 20:28:05 | 
| unifiedWMWqPCR/ | - | 2017-04-15 20:25:19 | 
| variancePartition/ | - | 2017-04-15 20:26:47 | 
| vbmp/ | - | 2017-04-15 20:22:32 | 
| viper/ | - | 2017-04-15 20:25:24 | 
| vsn/ | - | 2017-04-15 20:21:45 | 
| vtpnet/ | - | 2017-04-15 20:24:45 | 
| wateRmelon/ | - | 2017-04-15 20:24:28 | 
| wavClusteR/ | - | 2017-04-15 20:25:34 | 
| waveTiling/ | - | 2017-04-15 20:24:15 | 
| weaver/ | - | 2017-04-15 20:23:48 | 
| webbioc/ | - | 2017-04-15 20:21:50 | 
| widgetTools/ | - | 2017-04-15 20:21:46 | 
| xcms/ | - | 2017-04-15 20:22:04 | 
| xmapbridge/ | - | 2017-04-15 20:22:52 | 
| xps/ | - | 2017-04-15 20:22:35 | 
| yamss/ | - | 2017-04-15 20:28:13 | 
| yaqcaffy/ | - | 2017-04-15 20:22:34 | 
| yarn/ | - | 2017-04-15 20:28:14 | 
| zlibbioc/ | - | 2017-04-15 20:23:39 | 
| 120px-Blue_Light_Icon.svg.png | 7.1 KiB | 2017-04-15 20:07:30 | 
| 120px-Green_Light_Icon.svg.png | 7.1 KiB | 2017-04-15 20:07:30 | 
| 120px-Red_Light_Icon.svg.png | 7.0 KiB | 2017-04-15 20:07:30 | 
| DEVEL3b.png | 2.6 KiB | 2017-04-15 20:07:30 | 
| STATUS_DB.txt | 422.4 KiB | 2017-04-15 20:07:09 | 
| index.html | 4.8 MiB | 2017-04-15 20:30:27 | 
| malbec1-NodeInfo.html | 5.9 KiB | 2017-04-15 20:29:26 | 
| malbec1-R-instpkgs.html | 110.7 KiB | 2017-04-15 20:29:26 | 
| malbec1-index.html | 1.2 MiB | 2017-04-15 20:28:36 | 
| meat-index.txt | 299.9 KiB | 2017-04-15 20:07:09 | 
| morelia-NodeInfo.html | 5.6 KiB | 2017-04-15 20:29:26 | 
| morelia-R-instpkgs.html | 107.3 KiB | 2017-04-15 20:29:26 | 
| morelia-index.html | 1.3 MiB | 2017-04-15 20:29:26 | 
| moscato1-NodeInfo.html | 6.3 KiB | 2016-09-21 10:58:07 | 
| moscato1-R-instpkgs.html | 108.0 KiB | 2016-09-21 10:58:07 | 
| moscato1-index.html | 1.3 MiB | 2016-09-21 10:57:30 | 
| report.css | 8.5 KiB | 2017-04-15 20:07:30 | 
| report.js | 5.1 KiB | 2017-04-15 20:07:30 | 
| report.tgz | 14.2 MiB | 2017-04-15 20:30:29 | 
| tokay1-NodeInfo.html | 6.3 KiB | 2017-04-15 20:29:26 | 
| tokay1-R-instpkgs.html | 108.2 KiB | 2017-04-15 20:29:26 | 
| tokay1-index.html | 1.3 MiB | 2017-04-15 20:29:01 | 
| zin1-NodeInfo.html | 5.8 KiB | 2016-09-21 10:58:07 | 
| zin1-R-instpkgs.html | 108.2 KiB | 2016-09-21 10:58:07 | 
| zin1-index.html | 1.1 MiB | 2016-09-21 10:56:53 |