| Back to the "Multiple platform build/check report" | A B C [D] E F G H I J K L M N O P Q R S T U V W X Y Z | 
This page was generated on 2016-09-21 03:34:20 -0700 (Wed, 21 Sep 2016).
| Package 329/1257 | Hostname | OS / Arch | INSTALL | BUILD | CHECK | BUILD BIN | |||||
| DNAcopy 1.47.1 Venkatraman E. Seshan 
 | zin1 | Linux (Ubuntu 16.04 LTS) / x86_64 | OK | OK | WARNINGS |  | |||||
| moscato1 | Windows Server 2008 R2 Standard (64-bit) / x64 | OK | OK | OK | OK |  | |||||
| morelia | Mac OS X Mavericks (10.9.5) / x86_64 | OK | OK | OK | OK |  |