Package: variants Version: 1.35.0 Command: /home/biocbuild/bbs-3.23-bioc/R/bin/R CMD build --keep-empty-dirs --no-resave-data variants StartedAt: 2025-11-11 13:11:09 -0500 (Tue, 11 Nov 2025) EndedAt: 2025-11-11 13:12:40 -0500 (Tue, 11 Nov 2025) EllapsedTime: 90.9 seconds RetCode: 0 Status: OK PackageFile: variants_1.35.0.tar.gz PackageFileSize: 4.84 MiB