Package: simpleSingleCell Version: 1.35.0 Command: /home/biocbuild/bbs-3.23-bioc/R/bin/R CMD INSTALL simpleSingleCell StartedAt: 2025-11-11 13:00:16 -0500 (Tue, 11 Nov 2025) EndedAt: 2025-11-11 13:00:21 -0500 (Tue, 11 Nov 2025) EllapsedTime: 4.2 seconds RetCode: 0 Status: OK