Package: seqpac Version: 1.11.0 Command: /home/biocbuild/bbs-3.23-bioc/R/bin/R CMD INSTALL seqpac StartedAt: 2025-11-11 13:00:17 -0500 (Tue, 11 Nov 2025) EndedAt: 2025-11-11 13:00:31 -0500 (Tue, 11 Nov 2025) EllapsedTime: 13.3 seconds RetCode: 0 Status: OK