Package: rnaseqGene Version: 1.35.0 Command: /home/biocbuild/bbs-3.23-bioc/R/bin/R CMD INSTALL rnaseqGene StartedAt: 2025-11-11 13:00:21 -0500 (Tue, 11 Nov 2025) EndedAt: 2025-11-11 13:01:06 -0500 (Tue, 11 Nov 2025) EllapsedTime: 45.1 seconds RetCode: 0 Status: OK