Package: rnaseqGene Version: 1.35.0 Command: /home/biocbuild/bbs-3.23-bioc/R/bin/R CMD build --keep-empty-dirs --no-resave-data rnaseqGene StartedAt: 2025-11-11 13:08:33 -0500 (Tue, 11 Nov 2025) EndedAt: 2025-11-11 13:11:26 -0500 (Tue, 11 Nov 2025) EllapsedTime: 172.6 seconds RetCode: 0 Status: OK PackageFile: rnaseqGene_1.35.0.tar.gz PackageFileSize: 1.531 MiB