Package: rnaseqGene Version: 1.35.0 Maintainer: Michael Love MaintainerEmail: michaelisaiahlove at gmail.com git_url: https://git.bioconductor.org/packages/rnaseqGene git_branch: devel git_last_commit: 22281dd git_last_commit_date: 2025-10-29 09:46:57 -0500 (Wed, 29 Oct 2025)