Package: rnaseqDTU Version: 1.31.0 Maintainer: Michael Love MaintainerEmail: michaelisaiahlove at gmail.com git_url: https://git.bioconductor.org/packages/rnaseqDTU git_branch: devel git_last_commit: 4ed699f git_last_commit_date: 2025-10-29 09:47:17 -0500 (Wed, 29 Oct 2025)