]r۸~ fTk!QWijvKrw_.$\sQs_1f^>p)hSJ熬$Ep&Y]iW frgp$5ZXnO5^kJ?^G_ecPUg)v=N/[Sd}RX\hU kJeik+0Z 8Ԕk?ZnTn~_7t>^E^ڟJMBcZ\Pii۫vXyW sQ_U0,Rٳ' 1p0 jЇϥD˓)!Ż\ɓ)KlZ|;R>a=N.&? ~ry憉zE2^\娶>]s<2t2ѧˋ_ sɲUb- KhiRR*e qotq3>'~bt2ʧ ['{%üc~%o}tt/HQe}.-L:Sp?^TG44}F?dAs62,6RVx6聘6Ulz^J]B>uVS w/tT?## F@Z?YR F [hhbZ5Y$V^CZVCo'Wƃ]fs*uc(+a:zc*ѧOGG0kK1oMX0:Цd潹_Xkl:HJ.k`λK;O>%SGFoTd.|uj>ͷg䁨Ja;vSŪyrҭn991u]!V(OѨLa3GonGx(<5lS~Q xSè>z`2Sԛ[(w~b[dymDaکxoCcC7-`\φ2R.l=wLJkN<xe- _W%گ-?rU9co7Vf:'cۇ+ 2h\an6L= 6*Cp~3ƯF.'lfK v׬h ^+ b SD$v;tܕM|Lkf>BGdml;ځ^k҈X[\gn@icXs ;ӻ÷6y  L]ϫ%SP׿U@Xg7q%3:t2/fx0QaXn/ þ /b#pױjwV<%L2DO ꐻK׆^XJ_,T-o+E0 ViCQX/~_j6|f1p tb^YUT/siַmW0Z"nB|LrN[ۆA'i>bSg*>uI7el 1U Mcݿ; ~z A|m/ W/@{RV5 L G-/q0'a{QGoDz=iÏ/r0yth6q>ZZ ´5ƕ$]gFQ?bƿ!0k8=Ͱ^H5LUS̼2:'zc /P.*me?gX\ 6{lձDv]fR," J yx{o2cW{M^nUx=dYO&`f]Z˛$zQ:]1\0LwS \7CMY DgIx;%f44L\=t3RvW iʳa8H$bCJ[&{1ڴF-Fl\ug^`˷-2L `&C_nc]~A@č-f,}`4h{2UE^n]@X4Jut 0-3DܘM4lD>#s ]u<;hқ㸚ΏXwz o ߺ,sk[/cWOn67fA~VXT `QLF2BXT `Q,*]5R`Q,*V3ŪE 5Pd^U⫵e)_Mj^_k4+߯Wr%;)E+QR)3+ݢ6)YI&{>lmX{ SNL"‹1ZX'p? Xa*",ZXs> :x_M R Jkn&l%TC ˜Xzr33l<2 ֻ}5@oד}+Y:`d?yܨ?rm_Vfu뿵ZCNkfQ=QOhmMF xTYI}J-LR&hUE: r(k~(uB֣|!sLZgP |sCb{dghx%Ȭe^N\N/IߔDտ.!s^]KQ4Ϣ 6yy6]Ypdg!qkSuw+Py"V˳mȿ/1KoF^C\9+%m8r.fMX*!=/ѵ gۏXo$b'S2˼+G?$\e3kZ-rw0V+c?豿sTDM;7΋m蓥;;hqT8* `G^q04 ~u9܎[|^; $} Qϡ+`7m0ig+͇W7UxXR:s茤(ճmwД&l7Ony逅g[{h'Bc` .ӈ.!AK, {.bX}Qմқźc-,Igx9t<{Ƌnwƈ[[mvMu;ml1:;R\|?26_lm[?GA!Ɋlk߶P=xJ+XX?ů[F{ 麤l/.̸}Y`;>TjọJR.뱩qKF!:]7<7Ax >TiOx'o ڞZ)3a>R@.Ľp֯7@`&<:欟0xxJZͰ8yY髕)Q!_qywe$0Cw3}M}ۦ~XIF%dQlv0 pf':3cΖ.Z}7V-hgRL>$óJb胸vcyK5wy'A5 |Nd_KW/6R|<1DzeX}4m._.--TwdVk_B<.~YݨĬx..E]ЬjaOn/O~M4 sd'sfF& 9鳛} G_3FW>Y ڑ|lxMY u ,M}g ȗբuGUA^i$KgAT1.b_xiRPXq>>}ClY]O'F0EIwQQIшǻ)1B9W/Gbo8Az|rS=cGPQ?9pO5 aF~i0#iS$43ox)Ɵ5YXx@1;@$mQo/{!/?i6"O4̼X_<,i)K'R7}>Za{W0Wlsg>OeI\ ~.Ģ kV<0W*QrMs]*-PĬAuj?+G8?w`B2+pg obfGߍ7Etf%5YWC 0_le6'us샶b)f'Cr3GI2>n1GuC˛/|Uzt'qKG'H0;n_ m/3v4J:~^>DVgw,<>cxr}73sx95=⭟'h=}퟇~x3Ow Ox_3-'}_ skx4lmoIz5Nv P~?Xv<^ɖҕ/xE''z7{dx_)u0cy3;)6 Wx~?_˩yWnqz?[(2!b8vX9'~YB{i3qmf/!;oe9g7NGP9<Ta/ŷIi.{^ۃ~UnGF3LSXسIrB+8ś#<Ĭn Sg3ߚ> 򏏤tһ=ߟɾ?w\WWoV-t!_2WMkFv`Sd._@>6iSs/͏y)O %,ng/<`gؠ&Xy 18^g" 9x̟l wK$ RZYZ>}+Ɔ[.\n%Σ/z{?ߍ W__cQE-{! C`WXUz o? ;.}x h#}r%|e]v5xBNLx`OW"]mN?~1Lj=QGxB_?L:=%A9721Yl"tex~$K͚r.nI`(;}D~>j|mXjב/" 31qdw p|m-_e~J& jHwڭݰg%Kӧ~F…O7)O("C<{?c^Yuu+#?ċ9R=_OA  [n:5I ?❹JNPc8<*D RDSXd)SRk/ܝ_Qx^e6×njwՏFBdzue ~+%Fw>>4?xHx'} |2b|wF"]UKvM%`?ϹJ@}XdJ?rXqó(x:I|=p6iŮu_ph8OG{"Et< 䔗*.=֮O'+&V/&~k=*Ɩ d`?-v"`/om= d5p,^kpF3}CT葨 gx\lD`Q֟?os[k?w8eo7/-=Q6xF:/t<@"NdݪeFLpG:DZB#xuz跾YZ!KR _6 ZרG홹ddcz5]q[jS˴zC>@>K2J>~og~$ߗd<\."[>*۾}1c)N%9oo_zzD7/}(|9|?\||/yAw;x9OcϚ"qqub{|5T/ŷAw1cg-%{<^ _qzb~. m a6=_?6R[Jo gOHrdZ['OEkHb4o~n{$uy?w. GH>4w!O> ʟ9&kUMӹsqgL$Gų!һo.jk_ \_$ >fx pA:w AACE28O?\J&}@ųRaHQ0)|~Z!;*n}TKD^P_'q/}|r;/9<"Wox<71lC1%ł'xhE2_w8xzvEN#@Q7,} C!k`,u}+tCwDžanT‹d&W&7-iyx`o2އeZoLzՖ^@ ΍|=W<#kB~>Pb Dg7Fޠnȁ|_W"˶s>.*Q*iUuu-z _>y_-=_D득bZ|k7t:ј:{+Y{=rC o7kgr& ~Z*i^_< |ʉw\N }_< a}ޗ6r-)|^axC?x⣏Owe"|PId^0i^跏+ pC鸲5_Ȫo&ORWhz1+'o6fs8䵑-|^'N7r RhVZ1ϼ:dv.p3Q'7ynPd:W='tGn㵩x@?K1ǐxX`[ ;,)͋dC8iCbzWBu`LBv/㙧Ebl 3Ntg49mfGB<< l` KYLyD4MYSgucbr-Ixf/xLz%@ eS!?;3:2 ᡳ/dG8L7~Y9IeQa'=AeGt^4:G̬[u)S7x<0^ʦ-[C&`, "x@î/sXm>7s~Yʥ 'zBlwЭOnfD`ۿ7<}ZZ\̛c/x Qc&x~'$'@}/KF}?gD߯JE ~^GǃmRBu?MfeP"j+_ܿz1)Lt~*o#KF} -B֕”ũo@'.Oφn-pBcEӻGx>R`;[x5yxbFy7+9g9 ??㛎MC^_?]oYJ8 zC H~8:Z# U PȽpx,h†HgZ3?*F<0:W^4(FFb^Bd&ӝ?w Aj4ӆ5N|I<0xCQ0^%=KwPIWQ`|u/2 o:[9Σ O?Go! Z,8WZ[d/'G?bq9j^T" -^7DQY4BmI2=;~?/-;u_,R;ԪZ';ZԸxMmRڣ#?lqpyK"~ b׏\紺{f_S{*P;:_fLQ3<^3|Sߵx\Sx%L ޡ[XGILGT28?d"S؉T~o7eF̆Azr\l5)>䥩'> zqѻQ?d}P9}旋S;,ޝ)<:/\G^ B1A[8<P>x8_r'Cz-/8!xP?v& a-ޕ(+{CzZN D~i~kRpsO"y= 8z?C s't/3^!x#ޘh73utڹF7'ZOjdͼt>=y :F&\GWRpA|0{^*],~L2?䥶?90w)1jHz!/jDz* Yί̐/ w#ײwcoyu3"2-ouxڤc'gEzgC<0|2M/W6Ck ~pxl}+jy2n= *c7#]._-!Eհ~h!]eASP >[:Q}F"RMy=P-K=`;zy=# Z!% l|tX:_| w(>I#D﬩tXB`dt/0#S!j=r/I!߄gok{hˁAE\B`}UJ' FKozGy}g +Y0X=ny#lC^w{7+% ?Wݡw۱\}͍ڲJ.ph^6Q#{1 )waở*c=x؞ya]^'>FA}srz> gw/5o-eַdj+&y=Q7̉7p|X 0սH!OYxWHbp=|:zEPV+ޙvEzNB{}yCw;,%P=^`yŸ(!~~@CC嵱?p,Rx^5/3|<9'lԣ O y_zs-~ \zGwkDNVp}3 Sw^ȕ5rZ.n B#9h7Nje >|6+u}_'$E|szߩ/po6#y4>.{q j>R%!~/WWgczv pʄs{~eoxafH= -„*),߽wM^΀LzeI??^-^a JVCÛo9ȿdYI޶y{ڕTryx2Oọ4SOĪ2^CsY{=1DOAG,%:bژ>x~{Ó/v}ugpP'YipL[63No Mץy7y}waGyjhUG!^y |"^0fʌ dRDfY!+(i޺*x@}[?a?)QY-}/?~롔8[}}"ʻ=Ro?_+ )''}o0)^߭X"cH`o<,{xA|-m:/n~+@Ďd> ώyd K).b\ Q}Wex3}%q[ l)o΍o_x v >Zz} ]W؀>:7 ؃$</{|>T2ןxLDԢ޷{,A6|TPM|+6̕\ԟ_^28jsӹJXF{,BQpj5NyQzNE.~;dށwҟ'/JUaB0­ c%÷O#/<+R8ⳡeqę?QE?sԻUgUǫd`Tf|b}}d*4m5b[*3H|.$ ~{׼%<3KFsE>coP5n j=},hߵ:ocĪy_ m"g3X`x6o̊}d=ϱ}",>axj5ΡwtTvo -LzJQb7Vt9e׿nJ @Rb_@zA(<|9VŅ>#S=v%"=K5WjTJT0soy6_~f֨<>GzZ!."^чg pjtû ٞ ˱ZYWJ●<,ڼ|gg?lO`#k3?Vn/c\ƕE/φS7]+\ oiғ욇w77SSyW4 SՆׇޟW iw88͍K| 3z^~?/)ZlCxD?g&yD3϶F~"~Iu7ne*YpW M@=L΃ yف[faLFtp?Լ#O_P?xy?-;Q'L h8+U`Y]}F{_<^~sƛUUIմ<(m&Ȓ"CV*o J^4vhuy3uW<u7}a>fu4Sy?= vÔeb(B;N^-n10*ϬW&AS +yNa|ǁ 8ȯ"J}Vߞ'S aM 8_r?{BB>>yl`.W :y(n0Y9'9;NG]xVΤ0y`q-41OTst.~?PG@y2iۦ~8JY"~:\2e BֽypBP*w{.O;֌+|\ф#|KWx֚ag%z|{F}?YVOFosɕ^ofJ[` 4>\3û |: ^D<* OO;^ DpO0Ԕw #k3eO4gp9Gtҟ0<ű*+0S<0f݉ƻ_huyA0`߮;4Eh]_^x>$N}?Djnkh :ock'wE&4m7#5^}7"w P[?g,G߾x g^@|wyc-ؚ^+g᠟kTk3logyx+"* D9V۳{}ͧ ]x_恭7~ Ρz0م=Qx@>|"xͣm }xWؽej7мDzyzHWQgwtտh^ uMDY Ub?d12YLA["A;_1C=o׷3> W w?G-K!֢2CRY;DKM~)<#0r/:墼{)aoK7M$^$x 1W98{ys% /-Wft=?vs\ 㒺<h`LOJ=y[+fnyZ~ʓ5@=5YN{SVUwt_2<ɞ4/Cx&?uKo?Il9< o oxf?<+P 8'7GX^W=PKsr猳^^"Es0ExHA9/DC>IUwH3}xFݸag/JdR[ȿyR==&#+gZ@>[ lD-^ߣ['^7Iif,r9os_|*7d&?F~ (>%3M/R^Gh?rᏥzZ9=L9 ˣ.땬Jx#uE@EiX ^4OrY d7֧"za_ 1l97Ee~FݡJ@aDӼoqpg(E!Md_߁=) ođX l29gGgnz&?@(^O\篞^җ R~FA m}uisS 8YG2'͛t_Vtz/y?OoN`o<KH&6/ȼd^Xrqb譍i&7*)6gEV'`^xOQO:` O=p^H[92Bo"k Ʒ_3tfޗw^ 1/3@p8⮗A4C@ šLKa꧌*"-~yp^}X.?S_ vtk_\c<L//^Yӿ.p2l8aoṃW ,9_'EJtw:zV'! ݐ|z:c|֧U^1 /-|>R7(0ߠ~W`uC1*?g:Q {`]سͧ D#h+#g|*=~Seb7I~z6>GO.ڨx}Xec;7ϧxrlQG~yW;7^ۋ=턩5_2Ymd,Or~;ϵ Hzf=Oإ9039t{k<7j@O'x7ݡm;6wV ΃7MBUtF:Ggu*GzstTNM+u>Wc7 oHB#[٤A"~y=){^r>у|I#0j3>`bY N%/%#_gi7ؚ'ydiz,S.@tʕm:@˻ *Gs!z< ܋+M Sia}<s<17LgP5.Awlz3 /^BE^gu[_ 魙%*6H ?߮enp-e,X~kkxwoxe.i& ,cяlCzZ'nd8+5I y=1 yγJU͙ݺ>Q^3*؟V32{-EU e:N>f-2^Η* S&fx"c!_1ܩps쇉2|T>syDK0*IDo{BsG=Xy>S<\GG7Em?2 F ^2y9 PW_YW!<0/ 焩,7zоZb*J%~<lY}^r'~ІUR > F[fLk|>+<#ߏ`N_`^-'ēdo3.]B٩#R('/a[W /!΁F=>6JÊV6*E}jO]~(Wn?gϼ;Vc#b3ʃQ<BQceC q-8Q3}ͭx %\s(NwY `ODz-~hL^-=exoV<.5->wxX}{ *) ߣRu Wz[ŃiO14b1zL$V ^s' lz+~ӒwO<(YS~{ī.Й.%BW9|[zD|Wy1M~B OA4k.ئ>WyTJ ? _D}VO>sf)}*߁SݲɗYB|ѓedsᕩ !ei&y}5]ȵ gw޽-OFqC|l'4X$ⷹ~p߂<ȤLIoը 5ix6^yu.o.W'(wս8zߨdy˳;06;#t:>g;&UB<߆.PDF>gEo{cYdO9RAo.yoSuA=@vk ^~!A^\o꫾g\B:N^HevOAxZs끇=m{X~Ar8ύ:>w?kG {NE{ y{t_N좬\E(j9v۝jsR# \]kOh|w,C\p^olV竞dX޳wγM0U1G.0ޱۼ/d}+ET^:)2L2 `'nr7]Ѓ)Ea Hقo ~?UKl^&24|O< N|L`t: 㼞sAe|Y k? Gk2Fyy :(`R3zOo4k>lΛ6kx\:z N'%8?.荷Y7r/O'{>+6Ź䗿~x"LOfxl _!P| )}X^泻~R||\b#?ǵ4=Rr/Kmͨ]H-^nFS#H0d5iQ.Y|w'KdxS{{7LX$}%pݿN3>`8X`q7z1? 陸B {#/8S|>VSh-{)ٜZ-O%vu#=؉@Pj~뿞nKF*,{X^tҲy.^OE12*D{|Gh-bPfSr +RpC7|/T;|xMt9ςB$dnz$XMOpߋˢ}񐟥Hm śJK#t+'.[] C/6@L@~dFH/GPlѹZ|٢T/1[=}?SGN K>4dOXr*hGT#_+3P&N |; o8 yx3.Du*t9q(E_$"z/^3`Ojm/BgzAlR]yP<59KqL .\QK&PO!'o8v㣿V3g q <}k1@T`_?Q/5엯!w"$G(RU0m tH xx,zr@?S+ZV㻏.zf?gyunIy;/⩐[%|-\>eȗJkwڹY"ɃLEp8ED]C)w6pkm-^WzN0Ȣs#=[U}g}I9Ro@C5dy SQ\7QiemwOhs67VU!c9O?{c|X !_L34:֣'6}^u])z8z'xGI_{Me3|* Kz'u*\۔̧9Qy=Q-t-_8] A9=ՠ3.dXc&*&Eԟh&ԠD"zv*P gUe=_2 2v>I F[w}V<IAD_VЃ}ٮ;>~Hp=WP[l>9~QT*-q|Io}Z'ڝNx<*?Lרj^nS$n(N:.ܐW;3Fmp67=-o$.o'8wvۢc׻q^y_G؜>3j}{gΕ2>ũkC|{Mh}KK? ZT3:_fڿ:<ލk|,n@-On٬Ϧ'qO!=W&rzP&OJ>WTwAa73, 6IvȭivpCq< #@ŶeҤH&a֜t}cfM!9 z}Sȿ:(Uj7x,/&9߿'6@boUnt~raYy~'_?|wGӋ G%UXF-={7Y?*yqoC|Ӣ=G?3߸7.Q5(粴{xd0v L +빼dӟZ?}~t{kHE#ܜ4//@}oaR#].(Wn46<7}sུVn4@vXUsyY]`VSRot~ֿ Sgi>FC*7++7GF<y ~'-l-:o>K5WK7f7#85^R):xHbI˻ym ;1.?(r4czo+}ŷs,|Glm*e_dN|ץraM;f05OҞrT@rwwx3ciU]~ɶl'ПNTn2SŒ U q]c|V Nl_Jl~t~ֱW.߁lB#1[/g !پ+9ji?kC|T-d,zm _|_R?)xۺwq8mBÏl^lo}N{.4͠Uʣg ֋]6!X>h.XX@,kߦ,?ǯ뜋хwKc)eCqH/A='bܪyC=Nc`J&Ƿm`ܴQK9˃@=aFM|s `'w*3Hųp as>mITgc-ˋFWs0曏5R ù!޼Tv^*q19DVl='%`Yf77t$ tMPl"޵0]\UɄKYix}i pE\j~ xoDOȿ_62:(_ zqWvcrxo k؏)Bs| ߿ը/px}Q 3PU{izf6ynL(A=m͗' L<|(ќrn?QHsnM _KhQ>f8^[lh7?Qw5ﳨ;=W-rg kfx)}'IUΣw^x ( ,y?NN|o3VP< byހoDxq} dL1g$Y~)s_ݪF^V^Oxtlx{V[ZzC*\A^ZODƒ/EO@meB9xV zdja x@(\_=@O 5C[>-WZ&՜ûabt.Z׹^%sa'Kȿd"WO͗JT}vdb<M}=F_^aF2cD"z >M ϼA_nIy339[6釓#oviެa_]&* PuxtO,U-5f 'aVlN믷Lj9)xoakOaLE4hQ\w}F&'y^wA V[T_˿@LV}xݼߢ{"woxeya[<ӟ|>S`D9)~A׿*jn? 'vxu ==rվ[ޭ>(bj$}w&UxO o_7uRdť@ ~xc-8<%G$?0`Ox,W/8kŋG\ C\kGzv~ȌH/7@}lΤ@cP%z=ΟO'6/߿b!]:J/ `.(aǢ~o?&/%:Cq$Ys̒ Og [~h id(SӡG<3jkTxLM{CO~{srAW%l+󃘠H P:'n0@|.96}M~߁M.'yǼ} b_4\jIa7tͷE+\_/X9Gt»hx7A<3Fmyߨ!_ )D>JRGoG[zd,ʬ/}& u2UfߠӒܳuY__qĺ> ɽG} t6Cyi^6lI5@}sR;tS9fg|?]g2OV@SgϸËՒC 7}6⽵x\^ԋox7@oQJ>ȗxKK@³ Fc9έsSe ϪDc1CMD8l@}[RD\w cI\0>397Ya3">4O8MEdЯZ8Ȇ."ϭchV}>ȟS|c@B@Rw'\+Y2Vga\% <~ ׼V8~XB!-ԫ}XRοݞs,󓣊S P JTmV=W`)b Aw2o|mPnsgp!ݟ}G|}xyaX/vxs@ߟ;J |<-^,"5wx?9އwwXC +L<+n7?-^$Fx@#yd'O =y='j2q8~/‹6G)ֲ ϖfnGW@ū^׽L9)ű%hJ ,I)Mƃ+~^SOmo[=.@=ҥZtbŢ/ެ">Co^9jgsY=|>W f D56nzKb(L9[acNC3#+K513^ cZ3_oo}?cAo*~}q)﻾^3{M~o!=@Hȼ, $W2kE~ R3˙'COV`9<^cR45 a mdfo ,K0xQ@hkm?BϘu?}+RǦ<+о^'zay޾80 =1vÛ7WZh&*-vr_MxK~yCz[>(moO ?:4\z7?M۴ PEؒ'޿J vgx}tx}4/[H%ZZoO e6 | ?sx{xPnϼw3(Β_aQ@>SZӟ55 _9[{q&(5 uq#xa`nj#/Su*Q4y3-bGcDyoKeq-q</%K*>(_!Z.#>ﯯ<0Sy}O{L- #K@ڭgz{^'7/Qr27_KejDS|a:fO ,b7[ɞcHp 2/rdyS\Ae*Jm)y}y(pBKG)kB.bZ0o[*ROE^1]_iviw]ߜ>` Nȇ-F:?E5ϼ%@gyz`xywS\orZ]x{tGYIq XĺD˄؟iem[GUU![?`~@JnM~ě/H2\\7"(iߞ]a,2]oc  z8Ϳ}~!4hϙNJT<&7 Xܗ\oxyu|zEMvKMg\!E"kK@fz Ш5!]o7Կ#tS5 C4VJtq#TZI%kLjlu=PhƥOCdE ؟<~ /_F yޱ?ONQmGr _i|Ġ{hP_ϱ.g輪udt)MRӳ?*-0aBަߜ-'q9qډ?m-Oo->/oﭾQ1<>ߝ]{ُ1<)`}:S)6zFڊ'y߀x\G~'[i'?3Uܢ;!\"ag\R9X$&u3,oL!ƍ{ v|>Fa&C&W.IM.U}/<ѝ~(\A^Y ~A=@2˝^1}_6={{95TWjp@-b<7Yyg6~̋g颅Eˆ,O!Y_kRUýגW0؁!g̢?pc$ 7"IT!x5{xߟ {~~9A&ҞL90&DN]X~1ky(d(B ]|yQ}-os7H`^ټZ"U)Jdx3BUy/)ǭRx3tSכ W̼(e:_ڨTLpHzтz7KO<;o&-z(?fy=E#NWo)*()72 yOCڡK_s:WźdO >\G!#Tx5/}]#‚P/`}swo~`#<_38Hԋ2S1=GgzhD8~k"=G7l/E{"굁yH\pwW kLFPͿ}=/N<7l5nj,O&L<-[>s[tUYߖ}A_d]K~G /Eڨg>p2l^0/_Cf%H_<]_,&Wly7w|+JDͣg,O? nhɻU2|@w"Eu&/(ب>{dRzE_߫Z\txf(B6pce~#qTOiy57Ϗ/3 GaȞ@J,7|v}ig8 ;lLzNx^-}ڻ+*UQnxy.>4J{TW\ϼ5b.C wϥϜ`F>7lmYd6<|%y}o{EiX9ɫ>9Je ߉?o-䲸'K+@~3UDR'xc/Y/EBUR|?~Kz^ej;cYv}vLuf8 \O\jS:Q,З'7^Obח7H5{֍Yrw|4Ag@}qy#vB4Ɨ??L엕(RmZy xբBHnOvD+aoX_$T/+Qc]T~^<~c k02B?ue:6/-ϨXo/g~<c :^jü!s ;B;"oԶ ;~#=z_.RaGoS{s͛ |H7U|Iί/Edx{rs{zo-`GwF{ ><B_jt'^X >a &]O?#|򝾾=?^~;⻷#?[ލi_p&{"?oL'p{j7D.Z^]ߴ=5xr&\'ɭZd&8 ³1k^?K% aj42]c˫B<⚮wk<35 H=l.nJ /e'0yӎY=,oܰ#ĉRti>=p8Z,T}/\y#@N? l'Yg;R_[:oo_yhR3.t"宺A_*XXwFnjPq/!4r-~i“LTx Tldl7 `V/"`y]N<s~vʦ;h5Į!ޟѱ1b85{Kd]?&cz)lyFaMk U3W@ʕ^$r2Ag͡?e1}"n̚!~{ dY_ ^7sӣVȦ!?}20|5|srfqC}::֊%2gO2\_)z_Aox7ϕMtI3([Z>OMN5,o-K/Sd`F|=3!FO5Tྞ i\yu] d@u>`ayȭs||6 J2L߾/N/p?X^8?SzvM9C4==#>|SL ?);>DyT–wD x΃ԭ;CzD|_ QM'"1 3U*Ğ)ۅ}o,3Ux뷿MV1i6|!`YZAYc=ቚgc ?j ,}f ?l!ߍh㚾>(y/2D&gu;e& ƦZF7Z &ySōݬ{@~poD?sYDsJ\O S}?O#qN<}xO;6 cw֡`tw?]Nh߼+c|_zT񗻒a<xyҗC;׾skvxy#лϷ'}x߯B1ݕ$|rB_~.Zqւ<Մp24Q뫳7t)v/zԀ18M Я7rux G7Hrէ>񞖇 >4?6o~ZپKN.ŀqٻﮑ|z $Ǣ>o '7sL>_]S~"kx~nK bEy/ksė~y^㓨rJ2_7y38Zj>ȯXW:cvŋ{q74SJ{oy|ffxW/3\gg^ŗ̐-_Շa?8uP=t8:fY5c~:@]~5%ɖzKZ5z'`_Ϗ>|<E\<шDYsYW-9ܗBA#p/#=JoWIFg}`DJhܽ>gny2Sz< 8Rc5א^w\tށo ܟFci8\TXb>ކmI<3S/Ž aZ\$^$v,z"qØt8_g)2D?Iy؁)Z=]kWۼEd%@o.=ؔ>8J7$Hф8a/ɺf Jxo a+ W?>}Oo7 ׈B7~j̏0#I,u 1ƃ t^ x IщWuݘ^QGTac2ˇhtIvx?Y:*ߠAƧgHWШ0@98d.x~ntG@;S3|Z+^ixz__Y2p~n|L~nDoS3ڄ_C|=&\:BJt+|<$I^קi4R-~'>>4r9,x?B gMLP>$cxÚ#PN ~óO㯠a',W(k{/aD/E$xqtv8$ t̝K>-ldzgm=>*vRhԮnx+:J"zeUrxGeVꑖOO͗W@e'4}|@?#4GalGEx#w|óϱʲE|~r-oxQtu8<>;ӯ?8<0?Ձ7x_Ouxc?9_~V#{ûH)2^.rh>/o, gMlSsoxWEt!x@}1wûir*81&>>8C{@<_9{$Õ!gX} /w+-Exjn;|K>xp}%j4CwzDKMÛJ:0^/~x!31 1~1oxL~P@`x};l?{::Nk1 ?#SϳS}]$ 7f=ǻ~<GvJy ,y Puyכ (.<{ZaOn&I#xMr/l㥲Kc~S=cʴsYK@o+ *~cdY}y65B=9@O|Ç8[<' Կ޾q+_˹dX\PkRt.ޡ>gr1=PpRM=` 0x6>{w%Îei0U(}{k<gpG| J1/+aLxȯ%tg)_2,~x~0zx#T+~zZ"B;^[_w ;6/k&OH!k'g=@@ww}v7+.C0ߺiUDjzcP|ONTmz3K>W߿~@X5oD6V{x^c !yS/JsP~?otP|aA0:ٗ;p^Jc ϵ1S?3/wZ\ExQꩶ!/Cb%B];-P?6}O#яdu_Lΰ', 4ZB2#9+Ę^޷xȣ{"5Cϥ ϕ(,pP2[[v׮/txhA[CB/'\ؘ>*rޟףxREY?W,?(_RFX*u7mjsUr QW2.><>sxg džҟci/-V,Tϱx|`os9La@j,^$=4@>D! OVGuU.{|{)e|}=%#E(W);m/BC]ηMC%9S>ۍx-_$w?f*`|.vd~{~DI3޻ap48:[2'7W1k;u>3s;z7s-)#\;lx^g2myc?xFP/@~:˳S? *.={sfF,xP䤨>'7Ao<- !}|@C"Cr5W❀QNy@O͕ Г>'WrK>q^- |ʿ~٬O끈7,^Ŷ>|Ԃ Yܹp.7Lp)#}zp.S bLz7~ 0vppx8px3 gdSK08549f }W)7ln]7Ө7y/]J?J;gw?0xBB$k|)=Woś(rr<v|ȫL&{-O#)LUaךh|@||B|W<Y w+R.}S׿'{=%ݗ)5~75OW~/+onk|ؗW 8zi)3]8ghEOg,cw=7n.ۇ;a;S;~۬F-^5Dq:b1;A|13o_zU,U*SfSx+3J ګѱ 'u'~1A>ۿgY'eW ^E}?8#xR_z'Pbr&P%To]Qt%tmo2_ Vg*\*@ΔtySWt$>rL/P#T<_+~\ vL[,>1ȏ4'i3GO#s|S} ϳ8!AH5}ë/㗾'77.?aeV跺zW4AP ߓJ渏VBrsX[E'>B~xϵk75·# x;zbݍxяч+wJ5 )f')@BVXryxžqPk^\\_wi|P)Bkx_WH%2ghv(d~d{=A _} +]a o%@~=d (:6h O?wR+`ѣ xmSt(ƨ</h.<=n-<8P*y2Gw08Ӿߡ,OX;h2_xK"ũI}o>3 %1WGԫ0Xk:Px\@Ow!1.n|btor4`}:pJ:WL*v!_*BcTdK;}qn!qx<H}w'cT>p(oxÊCj7rˇEY#>zQ5^Ϡ42χw7z?UV5 Fo5f|//QY_xH sr>ee}HH4蜍A˨2Yk>4S,:׃:B7Sv$wxk|5.sT9&u_r6U1NA|ś%bϹ^4jYMIJ+'@"1x@?^ \ S_8`|}1eWqDvxŤ+]b>/U'.ovA%k]]A-zx\ :ew8Ϥ@&Hv=xc ĄU%~&3 x}!{_9)j2x~({%x{<N*>߯Kԩ5l'xSBjMUœYIT53_k/Qp],~Icπ?2- /i)l LY'Bu,rKC|*\a|'~_HĀOlpna9,u֧~mȲv;M!Iih}]\Kwx|jPQFzH;>{!5!>l =Ά<bUǿzt'xI$?3rfQE*?e.myPGZ <}Qu| 4>.4z ?uoTbV{U6g x(@K9 WP+$E~߁W 0J>> _=L1|OWuUkK@qU>\ Bl}>| fC~O<PP=^\.zYr3< Cx;=D_ZFxC)*5_xV||bv>.cǷSW ߪ+|şZ}??34e+]CoK{%xf 7Y>&WjQjiY<4fŀ?\o_&vSH{7^7X0ׂ\?o_ LT2WR`|#~˂˟W|zů*Z8Z8_-^"qr!O9KHf{"-ޏH~_rxj<.JW81t4vOs_ߍޝSHrGaRY&39SI  cn5u?oնODKۗ!\Rw-rm9!Grȃ2cknu-9?:[jjOpO19c[OQMxP?eDFU"6y2A1S1C؃Ǣc޹ #'my2u=u}'+\Y^,snyF2#cQ¿pn<: AeR&./% ࿗1K|o"?P݉ɛ!%׼%H1CL (uYY>2[qJZ?4p 75װ uTN"ZCH}=EɢF jomxmZ?B<a$7T&/ލ~}%>'@{!|Ows[)3zB>?u[k yŵ~rno1eLk}~!S;}l1&|՚Wd>s<_#4<@ZGFSo+O6"?ly3 yg}]I PRǼBd/v$>xok^| ο}!x? -O~PE~XSct=H y ]43w?nyG댩 E-py&">Q~~!)Yh^@u~ ux597|D`<\-Ϝ'Ue 5rw_kO`ڃiZRJy6 !Q~gS^i3xwv*E /bW{륏~ܺ@Mo_YNb:7N:zUf5~W"IRx=C4 Hu=7X߭E\/3wd;sCTï7l[pI$XI#cO Ţ ~myN& B jB$yͷ&C7=@ZsUSKA:K2 ' y~<  `_/A=ꅸ{`;<Գ/ăݞ< &~,QH]z{Z̆"FA0@ Sy .>SDiŃ) K|73A@4ALq_Xcއ{DJR5KS̖DsD,Wռ`[% S?WבȚo2߮2zoWTG_ s]`_zUrd^A/?# 4A_t2~@}e{s9jaRy@}+o4WYF㕇i Pϰ >c11 U"*6wx#탶 5ޅw(ɥB#]Pu~#ٌMO/ްdAמ5r߳换RyMx@/}+]\yy4Eg:UP6?etV!gy]>,2>{x.R K'={wG*hfljʞϳ vy׏7{dN9^TDzCx(\ @*kNN?q{(ĭ3D/цwwy`}㋩(exj1nxx7xRD֑]Ttnx<Χbk|ywɦ_y+^}Vݾ~i{ gdVjO am j~lǤ38B 's '_]: J+}v_ 'T9G_߯ WB$y?SQ!'< _&5^̼<Ԩ)>1hO ~mT'k^`Qy3hrŃ򷅈YzVx%o8dzg㺞WX͇C!~z_48^C  ;/ Q4ݳK3=YZCo~[XkSLKP΃%ºG^_g}ʺޓq:awgP+q!e/oY^tZcOJT gē-WHu;'~/LR]}(F\Ӓü*ZE M鈗6<(Y(9`<6#+=' 8[0?q/x=x׋7)ΤóFY#zwz"?r=?ϻrd?V`sdǣ~ =_쿷~_?*RT~-/×?oxĘ+ b/ ǁ8x۠ TQhF{v\*/B޴*=j/a2&P`/-jQ Fl3ˋc iylq?KQ+8#|8y*4 Ŵ3s(ιQN̔n)9T23߉QGfL"|+S{?>X^yJ{pAkhPNHׅzك,_0w=IRmk}="Wr?糣L/b?%*\b,Y~"PAZ%s9xC^i}HS oPJ] ?8~?nP:L 9SіXd'=x_lB.T\Jeq)gcKnXk*j5<./^2ǎGF|e2O_?u}.k;-vA9;$Baһ|qT[D\z@DŽo>,8h"2$1o_ODǪņYb.YKO{"9QnUgf B۴Tb,pЉc|f}.o7s$+ωZLSx?,"pp}ҿŠqy@"zEdy"VOO\=<\'<7~t!: 731@Ox {?[+ݟYv!PN)z@%dӏ,nu#& S9~0u}@B*ҚwP!V1v:e5[DEe~yw,uE㟖WBgMųۼBsW@m͕?B3=* |( .?&'(R[Q=kvdd{R1[>,ݵ$ B[}_>Z'G-Ţ5yiyLWt<7CDx')Ki}Y5ߔlONBa?)9~?Tm;}+|,OG'\זGݾ>tcJGu)0qO/1$6vq;[!M # ckכ'Z@HI/RefW)l&7kҮyE/ w{2+L>Ss}?_O߿ig3@d)pSz0E5<ϺnF8|7&N^v:9kؗ4"`ZޏM_v*_G/ʠ >_?$=!4'6 Hh=a Gڗq9E뒚? WmzصKopiyP4TiC<`?NPSDjk 뻏t^$ޏL_;5uܔeN",YӫWww+r%kB5 ͯao m,t3%y.\\)ZXa%Ѩ\5Yڋ#dI1tzD#w+S>"x:Or*F@Q!i30j=D7adfgH'GO S& rREUä?sEW,z'7y/Oޅ81ؚ6]_'KE 5!|M>qOhh~:.?^X1MYF?qإjf0͎^#\M!\;pb&?y쎲py&>ծ{jG/g{7]`5CXֲ l_o\-4 7B k:71[r__}XM5nuh iZ%5/pv 2iaL?rv+avt{dѨrv25OxS~v!ۇw;粬ʨOһ3;Ei_sy*a?ٽ9е_Osގ/Yo~dcדA5Ǐ宨^OӽO~)-fjA߇v{6z6ҔG@bS`Itєz8'4+E3LUIV_ 71kE^l}OUh*z~ d\1:}_@KNվf2n8}?g:ytZ~QnoϟxiݵNoO]c T$]rw6=r5F]xO kX`붰a`yg'|`5dr )T0j(!= ѿR؉5,6;\qj}sctq¤mQqC4By7: ΍ ~2mG߄(dn+_ *1ꪦ&YjټoݱLEvjwS pFrn_]/ᰂ<ڵov;vGsFֽk9 0@𕰸^ E[O'91zB:bH&\5Ϊn~=w~64ݺЁ2ײ9]~*a`m__;Q{9?qҽ,0v? Χ2xoGG2GeZ'I )H!3j@Hwg<.W5ձ:t L"|f*\ l+5ҹK˵PbynNN_*qgjw =8[<|[4F3o6IGNt,modϡ(jג 0 (r{G4^v]$1I5VKMUif0K1[Tr>ե.l(v % f\/L-a{;" տ @>F-3i; n@Ozr͹گvk6lpP;~N/h$3Cu]e UDzӡ\!(}.*Q7{WI1lVe$~TaQ6)yVByU =N0s2sNX5J0:W'_Dg}#]inKg+9ft&׺淬#Hm+)g.iֿ61棙FzS 0K6X lY`C?wYVE򿈒ʾ:[\^-\^ K*(ӪFRr D+1,30+,yD7qc*A\ĿAI3_jzI뿈%;[j*KnKn[E؋cIХO$d=_#yq> &qr'<\_g89Cxf/űH|q5?8E(mo zRd&s0_BH51_hAs76ܚ]6#_/8~?ޢؐdpd ,0;ʽk" 'AG I"F+k\]ZifZ4Zgk4Z՝\rE8@s"}9A[F.?!^[VeIܴWKP,F= +l _@B $@B)!H e#gB_zJ ane=yv>r\*"#E4v[!i/4clFQFOԞ7m4Uc*)%6_6R<`_AO Q?7h;oZ g 0*,UЁҦ Ut`!0i:zkӁůQҌybl(!%) X-7yl% :?m_['ȊFV4kE{n&DJn_a._HXTe_9WGg/tʲOiZ<)hY.7_f ZHOlC'+=36* )[,MH }'}疺}d#GV{ |+\e\)[ض &ar~!lK_t7d3M.Rd&;0ف_DW``Won P_m;@M{;x"=rY/֬ek$ :MBd`7F &g 0V$h+L|(9ۮ3x-(;|bh/Tw_^ #qgϊ@ڔ,A+0#^VxIx|>Z+eX/`AɑG!eKH !H $@B)'#鷲H`8lidbcU_D0z9!e92~@Xq@ي`7#J~r,ey ٻ">ͬ(P<24N80x,aYel_&R b4[D (| VÙ} BN4,r 96dyZ{%X'[#WCh/5? \HI7HzU攥VZM6`FR26d_hFFf͍]R5 lqmE%UՑ{YȽE=NQ @BOBJrJe՞>$Vp г2K b'yZE-\&|>>sK>W$ 2s?ٹ`}_kqq^āLN4LNÅ: ^_ar~}#\st[q'$zNf]o%j3M&> |M!eKOL6` x4c˜~m啚^m»ŁaDf7 /րe\%nkw] xח~SuiScLqk_elY+&\kg4/#b^⓼2w au̪r)kKşeͺT)Erhew]<&$8>QJ%/t:?:>ǖ!dL\s6$} $$)5{_G?:JYzӅ5s4]ï5ѓ;-~ŦP A/=Ũ H=:j/_obz?K_eK𿨠H !H$@B0W^P !/L$ 0@S7FEaOvd?4"@=HH?Bwo3_\RS'˿&⎟KQ}kQ}E*|4!4ϓ䲤@3]?zf* 3ÞGZٓ2r8ñ+p M_!$_5X{ ?y?_s ~zZj+5̰ j? _:2ô3}}թۗPz4޽ é;AVwApwAOkK9ځsI#钽6nOG# imhR!=Iu"}VS~ǹEZ|?3YAw7!7,eAm D"`9˲㈍sHNZ0dKz^tZ7BÊfBN0Q4=Qb4tsA/WѤSOd?=IVN4z2ad#fգ@寒J+}, Jn$(Q. $ jSOП,I/r857 <α}SCEv@F% ÛXqpPYCPMdvhjz`BW+re+>ő prt2'&e`@N~ϋT'?@ڠ hA@hA@*4^ZA:@*#} 4C.ÁѠA@rAs~qAewj52ڜ!hN\[PZBT9m "B$ͿP6?Iٓ$T1Ta@FO}V|QFs? {R5( t DIPE?teKI-S {0TZ@YZLq,%*0J @I_8-SDAG 'eŁX j V+XPv?&uMrX_8!NHT IEO:I*8jk. t6ŁTNw -ew)=Iugm?p?pS? (5 ͧy={VSwm . Uqb9CJ UriF1tI7n?pMoK ՉWL[^ d 0Ȁ!\=?2[,$OF!M] B<[!b6kKGÕq@7<|27[VPO'ŻˁL(ob76nnA3EIAa!AF݀dP\ܫP˾Uy#*9;xUL5y,?p_HIu3 @4 ?4 @>U?h+, :@ֻP/WaHdF (aUj,"Ѫbz$ mVNe7:2|/S8\+ު [;4z$kKP5toXP9--$p<rQOO4 6 L'IB?RY \RSEDS'2O|n?( )&{O3œ/ Bbd!dvVRI ?ͰT"Ó|@6UNVi_< {/: /ŁeqVAJo^R-WH+ hy#)Ԛ ,=MDʟ Q0rklF+p "Չn>>N>-T/<uW\y˛Q쫞"[0W#ؗA}=-ȓ-CEzt_/ @I>!A b`WC?rA HK>/UBe,IDr ׳)&zMv8HI`f J餄w9p/T)0vA XT_@ 0y P8Xؿ0׋j*3qa%g^t g8.fh3xxfh(gt=-QDuڢ|K4Z&$̓3/˓T'? hA@hA@00ta]KŔ`AENU|4|0+CHZӇyX5IʦIrX 1G IhRk&>sI_OW!D.(Aւ \>ԃ0O|3P^tg[q]UA힄lnPLR#z&9tbhξޞUѾ'WJ9SP5Wq:hѺE z2͡Qab14|xyY(Ԣxck/AƏi>!l?7ض,ڶbppL4&ڶ?Qћa&aE״ugt ,$ҕŒI$Al`m@ku(eXRWoGgU`1["T==;{Wv!58]308)rz{zѾh6㚾R>Oẗ́ܗe}}ri+Vlm鏢6ز>҅?ijn\3ײV|VK::=]{&TN-C09gVX6Dв&z D#OD*;1rToxII C/{eK_tQѶ:<>_`{ti˪D`*]58HX*. .0 q6FiWCb'A TDWږ!Mx?+dn|9L̕W^x,[e$ 71hv ۷Uݭ@Fjp`Y_Et .R3XP"`; 6[6!3fj;S8w~}SfD4m%]x7~mKP9ڶd@kMh$ z@ɜ(ƥ Rtk_E~tmԣ5|^tuuUnut{eo5$DH;V+тלguI6ar*O/m=Dj? AE/X-튇(````jZ.q[Ef4$F$X[g,~Xv8_@ynifB׹C g62b@z;';kud^dy2J,!k ;Z;EcHЂ0`H]\%hDMGk_Em~[ bMZ;v_8v?Zh2?/R A@@4h4DР KР vCh&\4SSjT񁦬x65@Mfoc0ȴU2]'OO/3Hidy:. Z)TՃ@Ob8Qк9ΠĮޡq T"8E@J&#`I*+Rb d)4=٢=UzZ>N>p !~%> (YR0J2 ]֢`J“*RhÄs &7 ͮIpYZkJj'O&{]r(n-S@!á{ Di9nnWnO *؞OOz+wR@PT 餛w9.p.R)('%*XrPDgaPXE ECF+)ʠ xaD-bi+߀SIqvAE-נqDz"'Ov?7@ Q$Չ(6hA@4@4"hA"A:B~ 4(QNDOʲ2I]wqku2gl|ڞ昿#:JkU F@AEӓd?@OFHrO р@ɲU=Z,XGS1v*䲣~PI3%BiZJ :"8/pO!$2ł@J;H8ߋ) \beA * T "ݓ@4WVi"bX0[;] |T_xgyV-JE@_a/LI*Xz[$0swz(T^7@s7M b jW(/R! >>LK*=@winPXz#0 0`a`phX6bn|(S1_ zSP(@j=Iu"GRWxb`EDㅦ.Hs>7Ue+gs :gXy<֖jqߡ9?E^Gp1^@g 3soV"gѕyd{Hv/jGx>68Dc9ʦ9 MŅ %cY(p /8ՇN1͗8;ȏ q nx}#y"&SD Jo:Ao7o[oG,4u3G*>й 1;]'rc? dt#|\'O#YR1V`%*~UI38848瘑$Qf_f[jn[꺚/P&^>EcZ8e6;ʠe v_/H2AIQ}4 0h4 0hnZxx)A :b疮-H-? Hj%k/5b.NkYW9,sVAß7:2|S8D2rB}#q&(^L7|\eTYD$Z=6=oA =I[Pà"_52kP2;?:?.n@iM:|Me"!^B|o O$7MɖoVHno -Bp8] (=I.K/D `u+M 9˄ `ߋQ~qi_aֆ"0g t5xLnB\,+IΕK\4\r̜caK%srJ)bxA9[f7|j3$RQ?ѓTFo%2 F@ XCT 8Њ챧&1=IumjgopopSo G-TGPof! d@cx0 k4hGDe9(&˛wd3Hi:@q?A `1ErM5 GGTF .u3Y&>.@rg/OgmbC&f.CD|j]'`;4JqďW c'k&$PWD"yL"8)b"7Q4xD F95c9f"9R5A*M M*W nw9(ipT] Gشغv`t{JI9B?U}J-`( dy`Jҿ E#Orcſwsda#,:Х]PCBV¯RZ Q)+JRJŋ/VկmduwBLPgX0şcg%3O?КVQ6)3h"zZE| S a n NG:_ϋT'?#4 h4 h6AXn`}R/L/pl# 9V񡁪> hb W,+s-$8'E䯕%q>m=UA܇lzP!4qiļ MPY&V**41VK7:2|S8/*. iU͸`%,  x!iՁ!IhZ A?OSf=lĬx`> &,(t F),'{˓dOK˴XYU_!2K(JQ^$BB6C![)$/k/ '/ͪ8K^JomG@_&/D ',)T@d[)]oy=[e%$_/q4ORA(l>>+O$=OiiP^L߰M܄M:>08SpX uXH8$ ?/{#P ch?bcB,jB;Ÿ8B'4f47x)*$9JBM>2R[Imp@-o4ΤGd#bD ZPǂwiڶq[:yZzHO1ui_19by{\m04i,N,ȷҟT1ɓ_x)k)U#n "RJi GRZXxU7g6 #u?pB 7x*=۬6PDѴQ. )Zj&6T|E߯Aa5+V5JηQOh6=MkҥK*b ˲ w~43a⌋PHZe\L>bf2n+ 1H?/r}1}*"O D:< 64& TYi)up]嫨Bˬg$uD.Ƥ%jD_U)ڦ4IQ5/DODhIv۟M Jl[,%1⤙4/ I :] o..SX7$#USżFU͓jGPM_̆ 503/h1&.l她ѡG&6`bYePManH`?UrS!2ԟ:O}q5 t2槟ҌdW,8y]Y2tU"脾${j4d#aη柫|eJ氡cE:/ReS}NiZPj By U26!ܤ/^t69}  |XN^5fqq`2 (-T},o'f+:B fR)\`A> ͭIfDS"U%!j䠢*;뚎_c $8S_ֺvިȈ v6(Feln~ɨaŤ9MGҤ*L l~)ܺf׋|ռ\-UISxI8Aw)HaYqp΋vqdM72nˣ#JNIz 8/~8m-}]U`+JA]1 q vkY-:Tu8haݡqN:,Æw8h\rM fJp5mD =:| #]5 RF+ECf9rGâv=g<49V2\fI 1 1%)4Y= Ap_RX*Ͷtwu粂[ EP4x,[:lPP?&!'N+^ 1 &@--T(EEuQ1EBEŰ `1pO36TV0bBqD)ʛ/ *`(R1QEax uWGDž* B*-wC"-q 0t ( ."%T/)ER-LEv/f%?w )Nb،2e_@8BcQI9`&h\@ް89HZ"Pf߈!y07"BRQB%=$kǹ*fָD.kWE]C\Qq nZư1VJ81ZmkllDALfRί粃n7}PKcX \sRL3l$#ĐsGNp9f% yvb~]GY#م( tI-3 sۏeӂLI  sMbf4s&1πXIb=e!Xm.B %PE1Ν߷qoJp.)|fA7TXLKp?# TSIrM #:"SA O ц>Wi|%,ǧ7z,Uh N;CF`6NJVBBO\`g*B!hLFY!&y .eͱit"1V<EC'l~pKG9Ų8c3|o$z;g!O鰔}IC,D7ɲxarz>$6}K2*o66E*Z@xޞ(1ǰJk,Jε: C@O#<6\D@⿐t^$hriCn̈́NxgD31%&Qs~&DD gB,P|Zq0!|/A.V b,ƲUpZzxO{j*C#PA @/ \di_a>(+LSr;(k&>A׌ݿ*==eO% ݐfAg°H./dRq í:[2\ @[鳵Rd"d0By\Q/8.L@*tK<_d}bĀB[U[ u(җ[HS;(DjH?^KXG{631Pn PD&+=-J -?pCq1&Sj?I`{$SK"땄f~ >A'TaQK |m Pƪ#̘w 4b@j7n pa% (CKaUS9갓h'IC $md%kج HzL7S?š RT'n,dm;Xrע<~=\ RUĽ}}{Ag{fE#"#_q׬~[W3%l^Tl^i"Nr琤v[duyגd!V]?O ]4ppNinp{^g;<;\a"wx)fG,vvxzf_Ӏm5S?*zRlAI8"d׋,o_`y5͋ 9\$6#-9W.#L7rYw1%Vw;,ƉTm 2||fcIƱ~'q=?" "$C~2"n@fIO)ű^x=vv%8]w{|bsn>̥`ҬZS1#Q&2Rp>RI:B'I7&慥acAmg 'N?xw ?5h Y^jeP x)@'L S3S%^0Tv=^kvg댧rp"qSPīFO<UKkKw Kdcǖk&$PWD" L"؂)b"7XQ4xD F65cӳ:f"9R58Pk`ag.8F 5Sd !KpI-zfbi4vf&!rx94 &HK:/DZFP,2!M;B4`t3d*>0.P ;hR\.8EИ1-Q)Q)" Az `캞leTEMdFmVy W.cMbs5]Qu#_/OyK;&&|=)M*^~K*Dߩ:@\2e%T3Y?w:!7,eA FEOyYG2+R$p^#),V4C9}F%c7rՒt?%RFz,3.?a ?=I2oQ`C-_ YʪxE7D3`%O%ة𣿆RL:N,1s䓄DKB )\b}Z"! /dObر<@{cYҳSd%Q0߃pE1*H/]5q[ Z40 yJ= :o \cVGkdErYH~q t\_jup  $Łeq4-ܔ* aZ{aHX K/lSF@6(M]yKs[z+wR:l,gAق pO՛2?(3ӓd>.?pAk_I)2# U Sb'P(DS(~KO3 H4 v E%?%\ȢC~ e*d4S0x\_@bn_ {Ox\&YJŁJް.['O՛Ttm'KGk@OɈ,q\Z֨f8 iAx D6?p?pS? 'Dz༞=JÑ;Qa(. =pu!z\D_yb$V Р$Ճϙxd^)eÞ^HW|7d ϳN t'N#;~YXi#2(zvfS誛Le唈%khέT]ۧ׬4}G9xAzǥL uFR HA>j)Ъn3.و*˦⣴tco޾nwL]e"ƜB-ϤVːXJP#"%ngj6)l1X%뫚AlIM2q^RIVE}%#>_~Gkp( H \\8 rF%i%9źg<ѝpZją##ȏą#DK0 tvG{W zCVA[(YJx9[*"V++h (JInH0\Rb{.1'IgMeȦ1y4`)5:̲S6^}P\ٕS3L2V&S4dRcYQ.bєe!a DL GœiQOGOQ E޼8% ClAK-yͰp%o/3b{T0b]~ebEψ,O/<~U2.F fBx%C1/pW̯s2Ш_r p]vs^ZB ۋgb8SnKxh(iMqoee$H=2%\<9; sn2Y$y8x(7>arӞ^UGظM7{zս{֠xh# 7>d8e3m^Ifw79dUZIIk?0wSOAS2\6B̎ zy5{|0!+CuSK|-Ģ̒X >`gv#&iLV j^(,YiVawpcfcE1~_4Y"(mWWX|.DȌ& RD2R=D|SE[;;;Z:xJR#0 ˘۸$57ڻhB_R]ٶ@g@,MVfhb6VI1;Q.\shGSu1b> p`kMȢ5AlUDEͯ,$dUٮ4̈Eiu&jrqQgTgr023So]BjLT{&E0AvfrfFSig|VbHaG؊AΘ>7=$̸?>JF1]eÚRlm;jgԊ f1Y(њiV0'+i&4E:'Y96sT(EJ%î.oJzAerQ&9&\(F"1D1mE%K2CBSE+[(.\tgTy(M4L tcӍ"وrioE4CcA\oԢ]EOo*aO ӘDZ-iD\AqqS?PW-P4f1GEĒvLeSÊ{|o&1OfOI?T1ɇI_zLcQ dE>ݙK?=&RӋlv$,b٢ȅM) Db ޶d.c%0,]Ws\P$\P~@±`Xɦ^/lģ ϝIY+CH\sdf3 @=8[ț(.69-ڙx]+K+ŐL{ڡ(ЏiL?-,M43DGK(&"G^M 4' 22ȈKF&^FX*Ͷtwul9f㰚m(2q63嵎3EQQdƮ`Y@@[GJ#_YurcFRX(O3Gs"7j8!Ia3oiIsL2OKOTm\އA75;,=X6ݵ7R&"g,[qv?vJ0%#!J/&d *230L9D1OLٽ$DkշZ Mg/B66G"otĸ! ϗGeTfŲ۲N_ \cT?eG诡F?dg#ͷ*MW&p*=iFMRev&i @z̟_2sGQEuRgT67LLNYuHY7 oX>x8p3Jco:U%Q ag1E3%J e[tڏ,KUcY㔾DLȀJe¼u5 K:\b!1eJ[-}SznҧJUD)(l0Jߺ,d ZVX~څP k̠LÜ?-g9$YjX꫶67IY=]YV eߖ  q=DδI HjhMGjFP0FcS2vҟ`WVգ[yf0֠C.O%Ɓɍ'5jϟ2I2T&FkQS`~E;lZ[>}=?sr 镾U"Aԑf٤:d$C?F({Xӱo/w\އ݀D|nhEGO}kGO>~m?v4cou l˦G>~~.Y~;tMݯsRûmY_t|w_ўe=5nqK_ꫧ8O7;C^WsGD=N7qǖOOΜ]?ڦ;O=/\Ig ^[1O/[gt/>ڼ1]VWw݊P(tܫ|}́S>?͚_z︣ޙ{퉝NFYkzGɳOͧo__q%/mnn_9vNh-oܽǹ׽]힗Mie]v=L{@q'^G7|w?ɓμ1ycKY[5?gNqԓ.kQz&uwaGOr^Ӧfz7p%;W_猵s<7$g~w;#;~‡K[_zew}|N=y˝;ه/'Ps_ٻssz;c¼><~]~ѽ]ɣ|Mg^|ꓯ=ZrWٙ;e+k =X?, {]=؟}%7ž+?|+5~y[FGO?&p: //{7}gww>q/;gͧoq~sُYQzrխ{CkfB+ٟ\޿빗Ϲ*|Ow]շOk~{OO.k]q]W_o\WkϾ.9f7Dlrxv̟C~qnzo=ّƿƞ8~λ0ƁKO;k/>h?o{貗//տ޵'~ru۝džOlXԓJן#otܾCZ]:?}-}Ãy>:¹~}_zA'?dK|%9_$}3_n msQ3}sͽOK?z` =?qdzOwN?r ƣ<~Fc~{<{߹#no9<>km/޾yީ;oH]{dE/vG>|.lswoszGNh;_zi?}a|t]rsc_un#|=6q\sڕ sSO^9w]Oo7=ӯ7> u{o:koׇޣz=ogx-G~}Ww~t]od_9饟}~4r_.^uOmZ?Vqٵo_9nxٖunU#ߺm6mB݋.=>+om|'tb_eymY;N\ukF{?}M~΅ϵz}>Yu,_q_\~+mt*?ۿWM8SP}~~ͷstm[6'3;a3z}ks}m_ń'zE}詗_yX;6w؞?}럽b{mKy⵭֫1cc~{Vײַ?r1kx_^ܷo:<ܞݟ~Djhyӏ~;Ozc驯;^灡qg%[=w^gy᭹x\;ߺ]=߼fC}{]2\[<~c\gxfM9߻#߽So~统^F푑y7_?Kwֵ<+O> Xp^{ QCt-#sXq_˞w#>+?Қ7ٰdGGpyϜcُc?g=rκoyxae[<܉uK^W]]_Ϟ/՗w]tWoڕu?] v;<{Op+ގqc;yTW?\5o˽9fۓ7_~y%Wv9{~߽uo.&Mz[^u>z7NߥOX-}<?yYuU>;so͋:N郻~Ϳx} /xq}.v?wv'[}ktw~w/Oϟyy/ovC>}gv\Ğ0SCM=^xY?A~/9]ǮϢ uon>a_>gnw}G7tzM7ŷ{w~xʧsO}ʷSj=o͢|w].^l[<ݎCO';phۯg>w7rތא|e]X?뀭WXzw%P}_%%I_eƌ3J0fVJ*R6KhA(-$i-~RIߛK"߯~w}w9{ys|j>B6F4\B\}tg}[o gην"!0HyAPt* q6=Ƽ6Ita/0#ԛ!"}'E8ZJ\R|o67h t3 q/3o%0c'iҖ;H iGg9FO-aW&gI?(X[ɡAPJNVhSe7noYa/mNTlb*wP1Ya%+beMfn͓< 5ܣ;R`̥{^Joų Tc(Ӥ6ɥFBA~;$--j]Wݮ&o!tubҙIuB"FV/\+S >2M3!Bk>(S¯lFw./%f>^ǭ!ŝ2;ϣE~ڱ"۪|Rb! )EKcZKX3.JIA|v$!IOI͑)t(#((1x$Q:Ol)"mko9# +-06Å +zr6X_$yOضd'åmNɺ]#cdvt5kvWMO]gx>{Kk?Lg>c}"jR 7?6( FS=GíTHUp/KCVs`LcYw[\Fؗؠf|Zm5PX-/}Bc?6ds=+쭤D/. U15o`e|3ܛ,Ujϋ &0O;i9"_=JzfjXAzB*j1Ϸ+Εtb_Wirb:5s }d7"e}KMӖNs߶u%Ϛڎhfz{JQ nIs  bl Hו[&V=2:⒩^=:z: F[{1Ada-դK`&싻b u쑸k' uIIo&U9NE?N)^׺\ n]z_܉z$yS"X3B^q:f3a od$>]7Onm-!IjdFo[m0mlkV*999J_?~JI['M oR)qduo% Utpsra~%"_]O2WRSS[d$lT~?fNL3%&N:bj_)_hg5raxSX/za&Rc5+)F^WLf _}>)~:봆˅aw휒^skHPP aIFBWV^\hQIJG&|BlH4 Yw#qX7;/ ov_Q͂'g`93>7N}}wQ}/g]\qDKիmCǑ5l #xU9-Yma7GC*>BSoWWKn3b\bLTذIw'; m<_ ae}X4$EJ ٘.]`$Pab*..L3捋۳r}.!^mFWכx} 4紀}nBJNu")+>\xM>y7)ڂEwuΥج!Hm{ &CXz{Ҥ(A?0 ~p>l9ܼz ABƜ[ OA`jį &Eן%fZEYAʊKghC΂'۱f>r/6n-K]X$D'5#ic~#%{_BXuU^V ÃVsmN~`I5:6?e˵ # Kr_Ôen8CdnM!:ssto3ū/|^ۘ@D0L"yjbY~/=M-[&=QpS'+؂SBPuxxwͮbٹ#5o5q^o,9Q<48,eED5m9sxYZ؎wSۚ7Zwc+g{,&(6 F2OR]Goη{d ewAѸsXIQ_<ٱ呏;p>{0\@yV2Hl Wc(ׯl}lT%~{SVSLoH>z-h(IX)|bۧF#we}vH}`K/0):W%9^#k'ᵧ @˪/}ֶ]d<%PijY)M":au R)T9^<2VEi&lmَ'Y8Ta$sjʒw>z 6c7.sm$Ar2<=1Ccj\g1/h 4IƄ~2&g&!+'GoֺU7l}LȈh37L1gZ?XloCFpo jjݾ@k?"00u 756H{!2JehL M 3GG[E_}bkQ NgI,GtpV"ɾl"XH@2 r X6A`0ɬ9xHMpp3N . xcSC!Me19OS<@ubuU /Q!` YvT$z2D,&C`akcKۮ< ~&Aac:dB=n4;T/fJ' 9),#A}IL%P\\c%^ :Ffp8aikACD/pi8X! 6~dB$PxSH$*Ǹ ZTY7|5G`4]D,ZwE&;k쿭Ɂ&A`I\Qh,RUkcPE9[6Y o8y>4: |䂩1233Y47؈s¦ * qa=o4&8\0-B9;a]qwos'47: Bc>JgJx=i,6 r5e FDZ%xD#S>ŬzJ%󮹓BQ MM-,"yȌ@f";?ݞȚ؆7Hj]Au'"~g*\ )hv%$o: }MzXdd92)`]Ly+HjHk 0y g@ }XP )44`F 6÷+ 8xwr,L@nz9A&zs58CD:N9Ȁ܀ug7Bt]=BYpLi9xԴ\;"p"d"8 K/PEs+X3"nC}ɷ[k vߍ+Ţ{<ԝU;ȸ;k[V@26Z]IGssiĆFazyL,];]N cveeeB0Na97 g1=Y;sx=~`=|)>*w#?_3 )-n66J9'xsܞׂw:gOt:d7K^ʴKo sÔS7a)Ô{LArv dLvY;z_WYv;us03ZoW7uV2Ytg^ˎcj-̦҉dt7FyRDË~!Pǹ@$@vv4ٰ @0RȀ -$x;yI/"vgdH^&@ա*toJnNՕ6H薊5% "}doV D ѡ pILmGWmF[ApBHTU 8aIo4`4Q̞XYt/{/o ,?/lzG3 38sBye>+9Tb; OeI)S(>d CW*f"0ɠrvO^P<_Q' k6ϥcik_6 (7ݻhrz8~\ !u o_ou=;A`n?,6$@[a -]T2@[a lؗ[a Z a ljgh_D`CUVVe2g-eh)덂CXWR3#25L 凌3T+)tرzAv*a)s6\VytᵂR|h ݄~]F8ŵu O%T:h~AxMLN톬ͧ{a0}°?i?@ `37F7C#a0 a8lE ߯{0Hx@CX<>x0lw6 l2!qi40C~4/XL7/F"!D@X aU0 /xTU tsb D{ ?Vک +T^G롺Yθ 6vTwtٍJB\ r(%`}7XQnê!I'@[a  @[@8Jl-% 6@ćVܨaZlSUUV`3?7 ^ d?p[rqblNc!)ΦA:^wGs%6$" ܙofikCpfrfٝA< ?7οq1+c`Ā3w_1h,ǭbN>2\j ]j?7ϯ+FC,h k:X ʫVJPX :Ji1CYH ~u0VX?+8@}4T44CqϯqD?tЫ>)>OO3W7 ?[H^a0°?p=3!HQ$42:/_8  ,Sg3ŸB|S,J_PH0;$)|$ZD _Ț97U4ϴ^8/֔(#G&q_~]P!NJHZHH6$xk" A# XhlfiZlX!cC}[xL_UqFڢMN2ds0;8L6NȰjݯjC2+w4,g;mni-XŜpIrR:ʈԻ(G_Vw~9-Wl6ٝ>>e,_c\4}ƈ.Ye۹ލS d_^sK 3rҙ|A͞VwFvMtٲt8H}&5c(d#[ *w((pA 4r ÏcmּL\^-qMt73 cch*_'M,>ޚzuw$ 7%lYUzjzE/L%74rа 2ed"Vkr37Wj{\5,oTᚇ׎ZsMHY_-t6IJd^=;řοt&e'2}fauNcr5åRߚx3ed\i԰G" N~V6QsXXJ*mc>.Jm)U$jI}Z-Bp抆X -/*CU&@:ݹޮNw/omFEV!􉆏g.zzq `Iooc S>rKO(g^o~~@hP\c / kW/x_NN|TNWI\˰1.hkzV<σJ]1{d(ڀ(y酬z?G[)".Z%;kʜL`~ |-(DN{\]ޭ(W%qLߒqnmJp-9lj-R|Κ GC֋4k!v FΒ)hmm%鍿soE9VYYY),~wge>}j):yNyzE#O#N]aW6%xԾ2Eߞ^b<.x|*0w#s7 j-WU͑[F4*>8,/N&*"9)5ldG%y_\:pޱVs& YեE^^^36&>vj}٥47@'FB U[K!@hX* !OH(LXD=;hmQAEAJqP, |j" ߽H s{g̝9sSCqI;qwuQA_-5A'W?p=#J;ܣZޱbagd2uy:WJgpa3icN?{W.. X`ּywK6N0 |+3ۥ~C΋=McWN:6lG4X,Hip Zن?p+lYU/)8d.Cer]DD6 Aw jHESǏ4˞l~*ǃWroB˩>zU5­MYEE٢EvZR|* 5Qi~*CP x$_UB$ZFx\p'[}[`9ҿ`pA{/hwqﺖA!|}}jAZ~5Ԉ-ڽ7?*/Q9E`85eVJz^09x݂.2J%hҭbv `0xBl҃[C۟COn?uPIF@`@`@`,,j `v ll)OxEM|xE3Y7@:{jDfr`iDu'hI=Fy@g4@V'IT, Xʠ>  aW-j`gZ* * +>ogi$+,?,@Σ> Q 8"u"_ g!zKV]gi8곀?,- ZH: ճJ5TJ5j2濢BʼnZB@T,Tx!g>/O2;-@:[??@Y+SA Z@?@mZ_YYWU$$翪Pkea%n`,8Ka?G I5`;>Y3J;*UWQ5^Q>81T^\LfWP;C1^9G.$'('z%Ch#x膁n膁n'a{/B!"qݮC|lR0tX^Aah(P+z@!л>w NAhS2đZB$ԅjD1{C!86D tODե]gim9YT] ]g{^:9T4ǬX&+x-YڵpgY%'C!م *_lbΆQ&Mƍlb;/֨PxO /(ƗyX$no}Kio@VDAh_uPJ , , , @XX{  0I ؀ ؀̛q`ZUh#j6-0gnyX>]*'E0Ƌ̎̂>hb/K /p;1o>8![)aTh? PutbmL_ _n1 ZtLx3xE)r欷2*$ źUf5ƚA+] ՎPp"*hW XBw)3+qG?AHyD1P@I(dVXE1І8HUW ]'X?R ( "X 4рWuY+ T<@9 OyHb@˾ 0-qbk?TPU=;d@m @m5<֟zH>)WaG?czH;Sճ]`X'B~5:la4hc(>KTNr/هΜl9RS!(_zhh,hPVXQ˻-\8&r~!xMD]<^_m({yx)nG̚e0G7{9p^\hG3^E O"򐾂OJ/?"a#xa*Y ĞL渤0& 7ǠPlQЀh^ᶧ^)/o ?S<nTU.Nv>A:[PeVRPUA.OE $ɬ 9D'; ?D0'!Š(Bk Y6LńT Ýi {9l#AGh_:ۀ@ p^BO8k_ GȀBR"RL(Pp9PlDް&QfW)P(P?edONbDvEa f@XiˑVFedįYO<-SB_NE2K3̂Ս(d%v{RDF]yWpNTNRb+G(]pXآI՟H=MYYxD.ҹ NH8:lJX"oIk$'d(<~Sn\79u_)'M'M '&*ɗSB(ϐrpɽVZvŵȵT*kc@cO06uq3'CgٻAL/?A?Z>5:=qtXS{ބ Ycwq36{⨺)aWʙNx|R 6OVcFSN 1W%鴳OYҟwPn~9b48q_xZE\Hٳ\cSMtoA~S>Ƒ,& 27lC[ qө٦|G~$Bj\l}ulp>ݯ2r5WƼ| 6$yթu啌/J12Sׯ_`]{ f'hmFUXz4~cmfMQFLЃ5y{OUҔJ#2ŨlaCk_@`qӬy9qGRC[o_ˬeӴvσ5@c%X>FfsWѮq .K2GDixs:DdYF?\noj?,iy$Ea,mLw~,G܌ qq-;s}zM ey0Owo{n~nzG`E6a0M?#L{;\szF 5\`9`~~1%U?I(|eu7Lk ZGYð}׀[,3eI+|z_HAMuY95x΃__1#r(]q79& 94]uAeKw+Wʻz *pZ7.3PA1ǭi(Mmm3'6.OžϝhoRٝ9u[ٱ7NIMsqqv5ӓ XkVfV6Sξ2ys~c[fͿN1?G^Mm\Pqm`1̣ !Y #ke_Z-4Mߦt{C뭷]G-{!.QO A7M(YZv߲mۈ]@׹eiw9Mƾۦ_hnoq)-!12/*c[dv^kZVEZɔG6Nf ,)oI3նi9OT aF=k>jPFEyygVgzQn$_|։iiR/>A7Y#&Yt=_,5:gV[pGT+ďmMh?{U=Wޅآ4RSӯuK#q`ۥW'5}hPsÿ\ooN]7޹EiCu;6ʊ{G&0wvKcj)CV]ߠ[{;o}y/kooW:n~CoYiwSc)l~snGQɠ]l,voS#yyI[ ime6O z͖*`c|3w]i EEE1`}7}72xIk [JGdy9Vޡ]34eQν5ښ1uf* j;}aǣȊO.V^޷aR$k)+p~KvD8:j~`BP3y>)/66k:8*׮]kx^y>r'rfl~b16;#bJ3)͸,#"vqu'N\XZ}Tc!6ٗRom)⬱j=Nx!F۩Ru{a[}OaaaZh>aѰS_KQGuu%q?{Om)!JFffu]3dD{(2*Y!edEe${RF2P YYO=}'}=|9sϓOE9KjR2%|gQBحsK8e1v@e^dvm9#xg1 }o3U 0#ok S*{Vg0 [jưVZ݁#l^fUwvRgaMDDf7dԾN5 X3сΗ^0,RNٷK!gs]]u Hiii=4[Pd{;yrø"ukGo~r-%  >VM|nS~G*oUb"VB]vۢ  >O@vZe@3oQqk6DpsTߐ{Qs.*^FR2<ZjXqR S?r50c5t?>{-&dį]U!lZÃ-Z$m2iۏ0}>RD NrR0[%JzM[ռ&#1b. m햾b4/0Hk-x Tߊ{$ JV_Df> vu_6ɣyY]=@b%n&˕O5*4)ՠ2DE(/|kS!Δ#Y[ YВLRx>w~Lx9nͮQ{/x[P껪͝YnQ|nnmn%Ao5۠/_ϳ.HFp$nAFB;o˶& i('K8Y|0p&HTR"!TrefRLl*q7k!t.&}FԻ_+A7z"3Pisڍ_uJ4u7:qgr`]1u#j=9>#.ܫy7fK<՜L-]B 2d+ MkN I73Sg[],a^\1oܪ2L-T OHhӆsR)z9wjpn]VTMnVLӗf~iNsq;-y8ܻvxOf`7~ d&%)Yb(1ъOdzj{`$y/xhDi+h븉#-:i(dpr6B);ix!{i:z,DmGJ␋a9+WYљS/6 l19u2jҜ!xW_R";/.!r0^@XSw"}a=-#JQf3۬aΉD* &#ÄQ&wmNڣ=/.e+$[L-R(21ze6L/o+ʱS:IF,(w6۾{̬g$brƁO'mE L=X(?&["1lLag |P# Ӎp;3~B͙cš I܌;jvˆ8ۣT[JٲuzO ujpCDnu+lGwg`2匽ʛ NuK3Q\N2GBVգ<;2p" dȵh^XI~,+JзI;3kla9$L;O!ǰ)D쁖Gf*5AG4s0[.2=đSEf$6gӕj3yvdxEFY {fmv1܂GivRr F1D"e'o3 l˄?fm3jKVa%꺸~@t>ij2]0f<\;/U1)C\( 3 Rc8TU!%ʺ$k9X&⚨fM fM1\HHyh[k1CU=55(9k|nބݖJ'4}|_q|C;pZc3d~nS:-@AC.1c7)F9q$PA)Rr<ѩj uTEwk^Ĝt`oI;F&BPq㉔D~j^]$UZWf"2M WnQHWA/M219;wlqNOJ;|æ M' ĖBG{+߇!dϢԔĄ 3Ddf[Z1ԇO+#lu@Ӯ$W2R atOOɜ׼ %TSy_)nt_‰<ӺyOF"]]i(`lK }v"R)q+1Yqsڰ#`^^6\㓆Q=S÷[^C(jg׽oQ*>aP,R7w *ugy{pd }=h*CH\ ~1ٔj?t*3+8ul׃9J &xIޝ=7Fώ|4Ogv- i+=jb8)o5bj^i9ȥv0Zv +ߡz.]{gD٘WNcv=7t_uL9QHHBc.p2pѕ4"濘g|sX``k=/pG]b^|%U=,ufŐ7|*3Ǡ<&JƐG}}uϷx˳=/B)r2A8X2vw |MӔv6QD86J 8"||YZ!X^8ں %}J;KT}(g]yqiǤQȶS Kqqzܭ&t|o9opc|CvbⲔA1sIA"\=\(ϋ O_1kUTI Sĩ mB/VM=\Tp17ںx>PJaX63yUgXfxp`acSJ7 ;OmJmnΊhm͕{E|٢QALf0~SYMހBf.tcS$6Kc\Qbt.Y^5Na |ꡫ%݇3,jj2'l_0kX>88NܸEݚbnLc 3y;!q{Gu+=96e\eoH LNco߂AImҀ6JM^G6ELBy5%qEI|v6>mPSN%Ɋ&z$]o$u}pʧ v/  +gY/hKz5my ͝myZCh2bp^Q 2(sOL0,PGl퍴gUU"^z-l,IT^S j, t/<4,vxszZ3cv98d!hXh KvGZ(&!`%fzęUHQ:ROO5\QN޹¥evq z$]4ybSw/ehu'PP>:V \ 6|+H=8.;RH_} #(>Zd}?tfAmnF~/g=\}ˍWY"%GC} $֔[/TG끿ӺޒF:tߛdX?F/Hd1ұ4`׷6?i1Cz%]21_X)~jV!XOlsÏ[% A{"Oۋr~dlg 0>O3¬qQ.6O +~9/\i ?-^͈`=D߯K%EurX}M}__4%*xy9~GI{>Jҋ>J_-OCcFNv5GQAsum&i=';q.a\~tk.yZԲeđGTÓ,s\)|0؏k'-ݙ=89!?'6%GX``` w@@`O@g׵8@8OC(>Q| <eȗ}y:l)eEmn;؜\_&p/P2_Uż41^ ,8+\fE! }Ds>܋ bA6ÝwָV7],|o|WaM l*M}bkKs/M ?]|OC>'U|Xhs+gXx /r^~ $%Enlg19Yq}_#V>w)$5.| GuCoeg;u5j@@ߌWf`f?04"Vrp.\`)eW$^``KC.N䯀 ?X2@jJ)+ KҊWH^z'-7*ߎs5@ r M)IAsF~Z|u H? /M Hpt|t8p~Ώ͙GB~@(* nb蟛! $yH rYO.RmltN1?ik1? nFY7 j-7n0_P@mS_~+RPP -8?V>7YnXױA3[DVn? B8 Z Tc]X|,Aumv1=_#}"v3.P?oV|b7XnǯЊ{ե| t7/Ӗ[=j^R`vޑnK;TƟ"Ci`+H ~,0(>"pplqW!VQ]]J7w]tW*h3pZ'?7Ԛ)ܠQ2p Kl,lL usGG ~P j6_Ԛ9A.M(?=VZioUQe_9ύ3YcAPe lJ`Hf%xׯ[@٠Z _6lIaH ~jd!h-?` oB#Ѫ)+z *G~l~Qikp[ YrpϦ$s%cUNi@' }i47 #+#xW@1F 4?7{H>4aIH=f|7x9 BF6ی}TVb+> q,俼,]i 1?1񗑿~MJIs aCQN=MQB SiWvEjwP和#&qkNsaw9yG:HYm8h%̉DR=0@ ԲBo* %LKg&%;OD''huLt)")~id]H6V>+÷BJf%~KJhunrb5ha2 g_=1F[4 ާBS͞R@6^o9I exɦ|GQm+v3n?f͆ȿ3,3~Ȍ%ii Qۆ# A1vZ66рj{R%{9O3t?`ꬩѠK?fϖ曞[|Y+)" Xx6+8 +xxע5$m,YJ>-''^?175ٹ-d5%\yukS!Sm{kܩPrD\ cSR *zSAӽn. pi+C l#ϳ"y =ΊigLB05=vpuHr(+ aG"+BC1;/P% fpKIX"8V$q(e}X0BD =z};#=)8Y 隊cx60Q16ک%\ů9PtcSuơo=&{`EH  jɲ rHJXoW?E7UC'x%yhh%)2*^'yFΧ1_xR\;0xT'A>95R ָ'3=f֭CYఛ٤,a.!Җ'rb2xBYrғBFF 8le@OW׬;]X;=9$DEkKy#yGUiqw0}Mv{*EʂvS+\X<CdOprxzÊ#}sݴcrA\|Du9ïx.9u+*J4yJHndUΞߒS"sz m;kN`iC9Jcz=%yPI#ʔY5d?tK]y<W.CZ\1Us+g2#"݊RICBB|R#Q_:$t>!31yf{|'\ZZ-j^/#G_uǕ5~5BS=piץ[|KKHzTmqa ؅FY ;gr)haѱfL۱m/3/;<]dISLadTN7PRt׾ 7+/_Y}x8J+s>45_I6*?ri Ce:0^pwÉoo%Y~s=87UixGIDSs4ӛO.6_0Fneb?zqBTT%~Dqoxq{(WoUW 3>[{71ЫRW^—OB^wGIhE&>:xv˽љ!k߫d*u"djwmlfqv eq5ŷoN=yn+Py&Z4ZՌQ7_[4w >{qf /,D/}>>c33]TڮyNzBUBMt**Z0U>gg&;!}/-zT.{;#r͇Nsn{wmT|#e]*o_\;$ My1ͻ@ ^y9yO!ȿKg3 Zx}0Wƍo$yzۗ5f~S;io:*T\]{?u}Yˡ>r䦯c2B7+qc!2#ql)[/KJUe@ާ|mנ|Ǡ3b[Fh I.yf*]J{q˃Ux|]m̓RZ$k">9c Jwg$J`^1@d66NO}>bщŗ22 n nVfE0AhQ}kȂ;0jwV땇E:\(v@fU5U-3qD?7$b+ /?ѷ x%MyOi)wRMtlEɩ t>u:6^+Ϟ=[8t/H(&rl4_m|iS23=;=/성NrǟҔjn_($1!:aO4% ꧹`YbrW̗ݘt.ןL)*oM3ĄWY)c~VNuνDPЊ]h4MJo 2bb>?vJró]!KԈ ,,I/6}BZwoOES6f'Lt`_M!O]ئ21'nT;x 1SaR&?EJr⭿'˼ؤ90䅢m[rFMD/,!-q }[LN\ \a¸9ș./vbr3ɵ*^a0 ia+ˆ2{>c J]anWA*eDrhPdZF}C @#tvɕQ) /y^p #(_ٽG)ce欤TbXCKiX =ޮ{kh|ׇ u6cGqtDM#'/,Ӳ4t98â\),c}s2#煸B_˗?YzӄZzwnju+hbUqʜ"mdB>[J3cn7ލ]d&ruÙ{hD헅al\f~mC7YX,~?z-ΰ+ZǻjȞ6V3 S6`3 і]Q0mܥ2occp{ʛ7]` B{H0Q(BWQ6!qˢi]s0;^T>CSVes)JDC.d ׋/'RO8Z:]mV"y)nRz$:/N[dv}lyy*)Wվz`'-s]&d[\KA|R*4P #G=bݍ[ ,%%%f_ܳO_XleaUzKro3U{oʮ]pM>)IϷf/2umr*JJ5a|5*Y$qǂWF ;>}v BMM.;=`FSֱC./-4f'/ΩtX<]M&_\*ʲZ8pTPF`% D-Zy޻cadvSfK?kX"e[}vf5Mh =? Ō$\Y6=s R ТI}IX9q{tiQn6':CFΪ 퇞:*heE9MV#&l=#{Ы/&R2zΧGq# Jܛ3n"WS]s=׾Y5`aJO4n]dd LwEʭgly:kD$I i;TI*h^c[HR_ۦ.4~ sl܃J ƾ^/@3eCE_%ggg~(7Ig5/WN}7[RSibZfCHE[7oޘM'iC3E#ErŒ'a=4_|ܾ1M{jkz}Y2a ,[Mwq9\ j|Nuj,e=og{4sPH~d_0m};ek_U|cjC2SL%s^Eyñcg&K*Ϊ%UKlу*cbb1wЗhn{nijl|ne9C+4h#QBCh+S vӯ :?JCPQSF h͑MSL;z} wOჴʂ_DpBSb mߦ!kqˆ~_ӌ"_x,9*V-7}:mҔ8~77y({o/iA}d̂hKꎙ 1B%¬ VzxxHeJ5M甴 VA E=WEJ>9{haLT4:)A^^eW M9j.ޤ~uEדL[ve;&Q) k,6.? }簺`(BR玏w :wGmSot}}}]Jjc)!QZ`G8X_${҂hK,fJXCN2z:RR3 Gi[z|!r<| YU%za}+4Ϫnݛ2y_̂zØ]5\~c ߃|7iZ^9)8Og>W^?4F*ѐ!COՌe|2&}(Q狮ik8kQ6KJҵ&IGoT۠.UdqQc蘓3nj۩Jv;CiWz?j+ǴoKl6ނ5)))zEB2԰~yA*Y^+8z!ďdSI/-c9?8"%1v<zƢ𘀡lEQ$B̀=T@J|S!:zz?O q8YZ&&& ~ͷ4x|}Sw.#ǡO/stY|gVqvm'yhF cx`B +Ou?*MT FNTxV?پgIB& V(r m wQ6Us -0Xj+`iȢ)#( l:9y CEK' .hO]D(#Mb ?hLi=Bb.%|M},dƝ|(- ͵,=nT-xZEf+5tf;}oX'=K:YPwo-_3U8Ҡ_r3``ep6DҲ--MKiL7V2o  2Zco!-'&&3|8 n_yo%wb ˗ ٢ 0 0 0sf` 2  2 3ܲT*d` A9`P/eC~>KBjbp̴0A 0{P6?A| :w-qC 'TE ]Ɉv*.XJj'F#V> FO֝ =pI~*܋K02KW@n4sD  ~/z;vv) )@إ'@&9@Ȧ,)k{ѼqB8Ş9x;Fkux찏~~w~uj*YN `vL71a7㐷oˀ2(2)) bbQ8/5~gCquS) A;2)?9\8go@0x eۼ_QQ՛'j-j8ODxBNs]ĠEѕCQ'*tk ÇBYTo!TX5DJXe~>JCˠE8CYY!ZwRr&ݝ]aBwYuCıY ,"" Dqte*Esg(+GX q$_$iB,߻# -dRYs5zqD"EP=Yƺ`;5<ilPɛHwgvB0[Bf.-|9*Ç,"ܡD9;Bz )8 X@X ͸G+?{ZϥdXOqX)Nn+7g+*.?v.TQM"j Kz*tֲ t,Uk ޻P) RhkM~=ϺLh?~}4F8CgDAnYZ ӹD`K، #u:Ɔڭ44W ƿ!PToNÕJw-,xz&0oD;IQ/G%P46Bȶ=>91[G8z&0͗#9$K|e/}my?_ɀJEy @PzjvZ0lAkxȮ{?sG ??Ͽޏpp1@?ѝ'J\ֽK .!YwvܧM]XSG8?a?xhc d `~#v`Kx}quqˍ+Kf KǕi[iab )VfmU;0m͖uExn2\J_/`XN!̵:T  R fѱ ZϏ Lmqo@o@.?ٻI>~J}CPm H >GF}4Z?:l޻cОh"ϗ(7OS_b}`x `(@Pt5H @4m?hIbP8/klO B֬6:|a}"wHc,(1(ϮV%'OoX /:7K(pAmnd`ӕV 4w[^L'h±y|uqBGUT1)!v>ۡP^t>\i_+jqh<6Sp7mWPܴ;s]+Ň&cH,R2?9ɲ.$;~Mּꎬy7;JÃU3.G/YeLO5L(W{COS9MKqǛ : }?z #'_y@O_$"K|J|myrV;-a#@Nıg [,{07ply