Package: recountWorkflow Version: 1.35.0 Command: /home/biocbuild/bbs-3.23-bioc/R/bin/R CMD INSTALL recountWorkflow StartedAt: 2025-11-11 13:00:48 -0500 (Tue, 11 Nov 2025) EndedAt: 2025-11-11 13:01:52 -0500 (Tue, 11 Nov 2025) EllapsedTime: 63.8 seconds RetCode: 0 Status: OK