Package: recountWorkflow Version: 1.35.0 Command: /home/biocbuild/bbs-3.23-bioc/R/bin/R CMD build --keep-empty-dirs --no-resave-data recountWorkflow StartedAt: 2025-11-11 13:06:26 -0500 (Tue, 11 Nov 2025) EndedAt: 2025-11-11 13:23:19 -0500 (Tue, 11 Nov 2025) EllapsedTime: 1012.9 seconds RetCode: 0 Status: OK PackageFile: recountWorkflow_1.35.0.tar.gz PackageFileSize: 4.327 MiB