Package: methylationArrayAnalysis Version: 1.35.0 Command: /home/biocbuild/bbs-3.23-bioc/R/bin/R CMD build --keep-empty-dirs --no-resave-data methylationArrayAnalysis StartedAt: 2025-11-11 13:06:03 -0500 (Tue, 11 Nov 2025) EndedAt: 2025-11-11 13:19:20 -0500 (Tue, 11 Nov 2025) EllapsedTime: 796.7 seconds RetCode: 0 Status: OK PackageFile: methylationArrayAnalysis_1.35.0.tar.gz PackageFileSize: 218.6 MiB