Package: maEndToEnd Version: 2.31.0 Command: /home/biocbuild/bbs-3.23-bioc/R/bin/R CMD INSTALL maEndToEnd StartedAt: 2025-11-11 13:00:51 -0500 (Tue, 11 Nov 2025) EndedAt: 2025-11-11 13:01:23 -0500 (Tue, 11 Nov 2025) EllapsedTime: 32.2 seconds RetCode: 0 Status: OK