Package: maEndToEnd Version: 2.31.0 Command: /home/biocbuild/bbs-3.23-bioc/R/bin/R CMD build --keep-empty-dirs --no-resave-data maEndToEnd StartedAt: 2025-11-11 13:05:42 -0500 (Tue, 11 Nov 2025) EndedAt: 2025-11-11 13:06:55 -0500 (Tue, 11 Nov 2025) EllapsedTime: 73.0 seconds RetCode: 1 Status: ERROR PackageFile: None PackageFileSize: NA