Package: maEndToEnd Version: 2.31.0 Maintainer: Stefanie Reisenauer MaintainerEmail: steffi.reisenauer at tum.de git_url: https://git.bioconductor.org/packages/maEndToEnd git_branch: devel git_last_commit: c3f03c4 git_last_commit_date: 2025-10-29 09:47:14 -0500 (Wed, 29 Oct 2025)