Package: highthroughputassays Version: 1.35.0 Command: /home/biocbuild/bbs-3.23-bioc/R/bin/R CMD INSTALL highthroughputassays StartedAt: 2025-11-11 13:00:17 -0500 (Tue, 11 Nov 2025) EndedAt: 2025-11-11 13:00:29 -0500 (Tue, 11 Nov 2025) EllapsedTime: 11.6 seconds RetCode: 0 Status: OK