Package: generegulation Version: 1.35.0 Command: /home/biocbuild/bbs-3.23-bioc/R/bin/R CMD build --keep-empty-dirs --no-resave-data generegulation StartedAt: 2025-11-11 13:04:54 -0500 (Tue, 11 Nov 2025) EndedAt: 2025-11-11 13:06:03 -0500 (Tue, 11 Nov 2025) EllapsedTime: 69.0 seconds RetCode: 0 Status: OK PackageFile: generegulation_1.35.0.tar.gz PackageFileSize: 1.288 MiB