Package: fluentGenomics Version: 1.23.0 Command: /home/biocbuild/bbs-3.23-bioc/R/bin/R CMD build --keep-empty-dirs --no-resave-data fluentGenomics StartedAt: 2025-11-11 13:04:53 -0500 (Tue, 11 Nov 2025) EndedAt: 2025-11-11 13:06:44 -0500 (Tue, 11 Nov 2025) EllapsedTime: 111.1 seconds RetCode: 1 Status: ERROR PackageFile: None PackageFileSize: NA