Package: fluentGenomics Version: 1.23.0 Maintainer: Stuart Lee MaintainerEmail: stuart.andrew.lee at gmail.com git_url: https://git.bioconductor.org/packages/fluentGenomics git_branch: devel git_last_commit: 4891059 git_last_commit_date: 2025-10-29 09:47:28 -0500 (Wed, 29 Oct 2025)