Package: cytofWorkflow Version: 1.35.0 Command: /home/biocbuild/bbs-3.23-bioc/R/bin/R CMD INSTALL cytofWorkflow StartedAt: 2025-11-11 13:00:18 -0500 (Tue, 11 Nov 2025) EndedAt: 2025-11-11 13:00:49 -0500 (Tue, 11 Nov 2025) EllapsedTime: 31.2 seconds RetCode: 0 Status: OK