Package: chipseqDB Version: 1.35.0 Maintainer: Aaron Lun MaintainerEmail: infinite.monkeys.with.keyboards at gmail.com git_url: https://git.bioconductor.org/packages/chipseqDB git_branch: devel git_last_commit: 2daff8e git_last_commit_date: 2025-10-29 09:46:30 -0500 (Wed, 29 Oct 2025)