Package: TCGAWorkflow Version: 1.35.0 Command: /home/biocbuild/bbs-3.23-bioc/R/bin/R CMD INSTALL TCGAWorkflow StartedAt: 2025-11-11 13:04:36 -0500 (Tue, 11 Nov 2025) EndedAt: 2025-11-11 13:04:37 -0500 (Tue, 11 Nov 2025) EllapsedTime: 0.2 seconds RetCode: 1 Status: ERROR