Package: SingscoreAMLMutations Version: 1.27.0 Command: /home/biocbuild/bbs-3.23-bioc/R/bin/R CMD build --keep-empty-dirs --no-resave-data SingscoreAMLMutations StartedAt: 2025-11-11 13:11:07 -0500 (Tue, 11 Nov 2025) EndedAt: 2025-11-11 13:12:31 -0500 (Tue, 11 Nov 2025) EllapsedTime: 84.4 seconds RetCode: 1 Status: ERROR PackageFile: None PackageFileSize: NA