Package: RnaSeqGeneEdgeRQL Version: 1.35.0 Command: /home/biocbuild/bbs-3.23-bioc/R/bin/R CMD build --keep-empty-dirs --no-resave-data RnaSeqGeneEdgeRQL StartedAt: 2025-11-11 13:09:21 -0500 (Tue, 11 Nov 2025) EndedAt: 2025-11-11 13:10:32 -0500 (Tue, 11 Nov 2025) EllapsedTime: 71.0 seconds RetCode: 0 Status: OK PackageFile: RnaSeqGeneEdgeRQL_1.35.0.tar.gz PackageFileSize: 1.596 MiB