Package: ExpressionNormalizationWorkflow Version: 1.37.0 Command: /home/biocbuild/bbs-3.23-bioc/R/bin/R CMD INSTALL ExpressionNormalizationWorkflow StartedAt: 2025-11-14 13:00:26 -0500 (Fri, 14 Nov 2025) EndedAt: 2025-11-14 13:00:48 -0500 (Fri, 14 Nov 2025) EllapsedTime: 21.1 seconds RetCode: 0 Status: OK